{"text_format":"1","workbook":"xlsx","n_sheets":13,"sheets":["Charts","75 fpm","150 fpm","225 fpm","1 PLI","2 PLI","3 PLI","75_JULY","75_Aug","150_JULY","150_AUG","225_JULY","225_AUG"],"not_rendered":{"charts":54,"images":0,"macros":0,"external_links":1,"defined_names":1,"comments":0,"pivot_tables":0},"unopened":[],"bounds":{"document_bytes":16777216,"sheet_cells":100000,"rows_first":2000,"rows_last":500,"rows_between":2000,"halvings":0,"cell_chars":16384,"cell_head_chars":4096},"cells_cut":0,"cells_raw":0,"read":"whole","date_system":"1900"}

{"sheet":"Charts","index":0,"n_rows":0,"n_cols":0,"rows_kept":0,"cut":false,"hidden":false,"merged":[]}

{"sheet":"75 fpm","index":1,"n_rows":83,"n_cols":21,"rows_kept":83,"cut":false,"hidden":false,"merged":[]}
[]
[]
[]
["Line speed","75 fpm",null,null,null,null,"Line speed","75 fpm",null,null,null,null,"Line speed","75 fpm"]
["Delta T","~ 25 F",null,null,null,null,"Delta T","~ 25 F",null,null,null,null,"Delta T","~ 25 F"]
["Line Tension","1 pli",null,null,null,null,"Line Tension","2 pli",null,null,null,null,"Line Tension","3 pli"]
["Air and roller tempertures determined from readings taken over a ~9 minute span",null,null,null,null,null,"Air and roller tempertures determined from readings taken over a ~9 minute span",null,null,null,null,null,"Air and roller tempertures determined from readings taken over a ~9 minute span"]
["Material tempertures determined from readings taken over a 2.5minute span",null,null,null,null,null,"Material tempertures determined from readings taken over a 2.5minute span",null,null,null,null,null,"Material tempertures determined from readings taken over a 2.5minute span"]
[]
["Material Temp",null,null,null,{"$f":"AVERAGE(E12:E24)","v":71.922818182062969},{"$f":"AVERAGE(F12:F24)","v":94.904923076853137},"Material Temp",null,null,null,{"$f":"AVERAGE(K12:K24)","v":71.806930069965034},{"$f":"AVERAGE(L12:L24)","v":94.818811188986018},"Material Temp",null,null,null,{"$f":"AVERAGE(Q12:Q24)","v":71.982839160664327},{"$f":"AVERAGE(R12:R24)","v":95.182489509825146}]
["Angular Position","Avg 2.50\" Left","Avg of R&L","Avg 2.50\" Right","Avg Air Temp","Avg Roller Temp",null,"Avg 2.50\" Left","Avg of R&L","Avg 2.50\" Right","Avg Air Temp","Avg Roller Temp",null,"Avg 2.50\" Left","Avg of R&L","Avg 2.50\" Right","Avg Air Temp","Avg Roller Temp"]
[0,{"$f":"AVERAGE('75_JULY'!B12,'75_Aug'!B12)","v":79.680000000000007},{"$f":"AVERAGE(B12,D12)","v":78.92},{"$f":"AVERAGE('75_JULY'!D12,'75_Aug'!D12)","v":78.16},{"$f":"AVERAGE('75_JULY'!E12,'75_Aug'!E12)","v":72.665090911363677},{"$f":"AVERAGE('75_JULY'!F12,'75_Aug'!F12)","v":94.60809090681812},{"$f":"AVERAGE('75_JULY'!G12,'75_Aug'!G12)+0.0001","v":1E-4},{"$f":"AVERAGE('75_JULY'!H12,'75_Aug'!H12)","v":78.644999999999996},{"$f":"AVERAGE(H12,J12)","v":78.872500000000002},{"$f":"AVERAGE('75_JULY'!J12,'75_Aug'!J12)","v":79.099999999999994},{"$f":"AVERAGE('75_JULY'!K12,'75_Aug'!K12)","v":72.178363636363613},{"$f":"AVERAGE('75_JULY'!L12,'75_Aug'!L12)","v":95.055727272272719},{"$f":"AVERAGE('75_JULY'!M12,'75_Aug'!M12)+0.0001","v":1E-4},{"$f":"AVERAGE('75_JULY'!N12,'75_Aug'!N12)","v":78.775000000000006},{"$f":"AVERAGE(N12,P12)","v":78.34},{"$f":"AVERAGE('75_JULY'!P12,'75_Aug'!P12)","v":77.905000000000001},{"$f":"AVERAGE('75_JULY'!Q12,'75_Aug'!Q12)","v":71.399909089999994},{"$f":"AVERAGE('75_JULY'!R12,'75_Aug'!R12)","v":95.427454544545441}]
[{"$f":"AVERAGE('75_JULY'!A13,'75_Aug'!A13)","v":2.5},{"$f":"AVERAGE('75_Aug'!B13)","v":82.71},{"$f":"AVERAGE(B13,D13)","v":82.324999999999989},{"$f":"AVERAGE('75_Aug'!D13)","v":81.94},{"$f":"AVERAGE('75_Aug'!E13)","v":71.37763636363654},{"$f":"AVERAGE('75_Aug'!F13)","v":95.723090909090772},{"$f":"AVERAGE('75_Aug'!G13)","v":2.5},{"$f":"AVERAGE('75_Aug'!H13)","v":82.24},{"$f":"AVERAGE(H13,J13)","v":81.555000000000007},{"$f":"AVERAGE('75_Aug'!J13)","v":80.87},{"$f":"AVERAGE('75_Aug'!K13)","v":72.404000000000039},{"$f":"AVERAGE('75_Aug'!L13)","v":94.584909090909065},{"$f":"AVERAGE('75_Aug'!M13)","v":2.5},{"$f":"AVERAGE('75_Aug'!N13)","v":83.16},{"$f":"AVERAGE(N13,P13)","v":82.055000000000007},{"$f":"AVERAGE('75_Aug'!P13)","v":80.95},{"$f":"AVERAGE('75_Aug'!Q13)","v":72.491999999999948},{"$f":"AVERAGE('75_Aug'!R13)","v":94.875636363636403}]
[{"$f":"AVERAGE('75_JULY'!A14,'75_Aug'!A14)","v":5},{"$f":"AVERAGE('75_JULY'!B14,'75_Aug'!B14)","v":87.32},{"$f":"AVERAGE(B14,D14)","v":86.782499999999999},{"$f":"AVERAGE('75_JULY'!D14,'75_Aug'!D14)","v":86.245000000000005},{"$f":"AVERAGE('75_JULY'!E14,'75_Aug'!E14)","v":72.421545452727258},{"$f":"AVERAGE('75_JULY'!F14,'75_Aug'!F14)","v":94.744363637272727},{"$f":"AVERAGE('75_JULY'!G14,'75_Aug'!G14)","v":5},{"$f":"AVERAGE('75_JULY'!H14,'75_Aug'!H14)","v":87.525000000000006},{"$f":"AVERAGE(H14,J14)","v":87.385000000000005},{"$f":"AVERAGE('75_JULY'!J14,'75_Aug'!J14)","v":87.245000000000005},{"$f":"AVERAGE('75_JULY'!K14,'75_Aug'!K14)","v":72.615090911363609},{"$f":"AVERAGE('75_JULY'!L14,'75_Aug'!L14)","v":94.90845454727264},{"$f":"AVERAGE('75_JULY'!M14,'75_Aug'!M14)","v":5},{"$f":"AVERAGE('75_JULY'!N14,'75_Aug'!N14)","v":87.67},{"$f":"AVERAGE(N14,P14)","v":87.325000000000003},{"$f":"AVERAGE('75_JULY'!P14,'75_Aug'!P14)","v":86.98},{"$f":"AVERAGE('75_JULY'!Q14,'75_Aug'!Q14)","v":73.343999998636335},{"$f":"AVERAGE('75_JULY'!R14,'75_Aug'!R14)","v":94.892363637727215}]
[{"$f":"AVERAGE('75_JULY'!A15,'75_Aug'!A15)","v":10},{"$f":"AVERAGE('75_JULY'!B15,'75_Aug'!B15)","v":91.715000000000003},{"$f":"AVERAGE(B15,D15)","v":91.65},{"$f":"AVERAGE('75_JULY'!D15,'75_Aug'!D15)","v":91.585000000000008},{"$f":"AVERAGE('75_JULY'!E15,'75_Aug'!E15)","v":71.890636364090938},{"$f":"AVERAGE('75_JULY'!F15,'75_Aug'!F15)","v":95.063999999090854},{"$f":"AVERAGE('75_JULY'!G15,'75_Aug'!G15)","v":10},{"$f":"AVERAGE('75_JULY'!H15,'75_Aug'!H15)","v":91.460000000000008},91.42,{"$f":"AVERAGE('75_JULY'!J15,'75_Aug'!J15)","v":91.38},{"$f":"AVERAGE('75_JULY'!K15,'75_Aug'!K15)","v":72.161636364545501},{"$f":"AVERAGE('75_JULY'!L15,'75_Aug'!L15)","v":94.572818180454433},{"$f":"AVERAGE('75_JULY'!M15,'75_Aug'!M15)","v":10},{"$f":"AVERAGE('75_JULY'!N15,'75_Aug'!N15)","v":92.025000000000006},92.212500000000006,{"$f":"AVERAGE('75_JULY'!P15,'75_Aug'!P15)","v":92.4},{"$f":"AVERAGE('75_JULY'!Q15,'75_Aug'!Q15)","v":70.240181820000018},{"$f":"AVERAGE('75_JULY'!R15,'75_Aug'!R15)","v":95.427545454090961}]
[{"$f":"AVERAGE('75_JULY'!A16,'75_Aug'!A16)","v":15},{"$f":"AVERAGE('75_JULY'!B16,'75_Aug'!B16)","v":92.86},93.025000000000006,{"$f":"AVERAGE('75_JULY'!D16,'75_Aug'!D16)","v":93.19},{"$f":"AVERAGE('75_JULY'!E16,'75_Aug'!E16)","v":71.477272725909089},{"$f":"AVERAGE('75_JULY'!F16,'75_Aug'!F16)","v":94.706363635000002},{"$f":"AVERAGE('75_JULY'!G16,'75_Aug'!G16)","v":15},{"$f":"AVERAGE('75_JULY'!H16,'75_Aug'!H16)","v":92.734999999999999},92.877499999999998,{"$f":"AVERAGE('75_JULY'!J16,'75_Aug'!J16)","v":93.02},{"$f":"AVERAGE('75_JULY'!K16,'75_Aug'!K16)","v":71.354181816818283},{"$f":"AVERAGE('75_JULY'!L16,'75_Aug'!L16)","v":95.402999999090952},{"$f":"AVERAGE('75_JULY'!M16,'75_Aug'!M16)","v":15},{"$f":"AVERAGE('75_JULY'!N16,'75_Aug'!N16)","v":93.14},93.347499999999997,{"$f":"AVERAGE('75_JULY'!P16,'75_Aug'!P16)","v":93.555000000000007},{"$f":"AVERAGE('75_JULY'!Q16,'75_Aug'!Q16)","v":72.377909092727265},{"$f":"AVERAGE('75_JULY'!R16,'75_Aug'!R16)","v":95.180636364999998}]
[{"$f":"AVERAGE('75_JULY'!A17,'75_Aug'!A17)","v":20},{"$f":"AVERAGE('75_JULY'!B17,'75_Aug'!B17)","v":93.699999999999989},93.907499999999999,{"$f":"AVERAGE('75_JULY'!D17,'75_Aug'!D17)","v":94.115000000000009},{"$f":"AVERAGE('75_JULY'!E17,'75_Aug'!E17)","v":71.323363638636337},{"$f":"AVERAGE('75_JULY'!F17,'75_Aug'!F17)","v":95.003636363181855},{"$f":"AVERAGE('75_JULY'!G17,'75_Aug'!G17)","v":20},{"$f":"AVERAGE('75_JULY'!H17,'75_Aug'!H17)","v":93.045000000000002},93.45,{"$f":"AVERAGE('75_JULY'!J17,'75_Aug'!J17)","v":93.855000000000004},{"$f":"AVERAGE('75_JULY'!K17,'75_Aug'!K17)","v":73.231909093181827},{"$f":"AVERAGE('75_JULY'!L17,'75_Aug'!L17)","v":94.545363637727263},{"$f":"AVERAGE('75_JULY'!M17,'75_Aug'!M17)","v":20},{"$f":"AVERAGE('75_JULY'!N17,'75_Aug'!N17)","v":93.525000000000006},93.722499999999997,{"$f":"AVERAGE('75_JULY'!P17,'75_Aug'!P17)","v":93.92},{"$f":"AVERAGE('75_JULY'!Q17,'75_Aug'!Q17)","v":72.03718181727271},{"$f":"AVERAGE('75_JULY'!R17,'75_Aug'!R17)","v":94.972999997727229}]
[{"$f":"AVERAGE('75_JULY'!A18,'75_Aug'!A18)","v":30},{"$f":"AVERAGE('75_JULY'!B18,'75_Aug'!B18)","v":93.73},94.162499999999994,{"$f":"AVERAGE('75_JULY'!D18,'75_Aug'!D18)","v":94.594999999999999},{"$f":"AVERAGE('75_JULY'!E18,'75_Aug'!E18)","v":73.159545455909097},{"$f":"AVERAGE('75_JULY'!F18,'75_Aug'!F18)","v":94.704363634545516},{"$f":"AVERAGE('75_JULY'!G18,'75_Aug'!G18)","v":30},{"$f":"AVERAGE('75_JULY'!H18,'75_Aug'!H18)","v":93.805000000000007},93.907499999999999,{"$f":"AVERAGE('75_JULY'!J18,'75_Aug'!J18)","v":94.009999999999991},{"$f":"AVERAGE('75_JULY'!K18,'75_Aug'!K18)","v":71.230909089545463},{"$f":"AVERAGE('75_JULY'!L18,'75_Aug'!L18)","v":94.513999999090871},{"$f":"AVERAGE('75_JULY'!M18,'75_Aug'!M18)","v":30},{"$f":"AVERAGE('75_JULY'!N18,'75_Aug'!N18)","v":94.125},94.307500000000005,{"$f":"AVERAGE('75_JULY'!P18,'75_Aug'!P18)","v":94.490000000000009},{"$f":"AVERAGE('75_JULY'!Q18,'75_Aug'!Q18)","v":72.076909090909126},{"$f":"AVERAGE('75_JULY'!R18,'75_Aug'!R18)","v":95.147454543181709}]
[{"$f":"AVERAGE('75_JULY'!A19,'75_Aug'!A19)","v":40},{"$f":"AVERAGE('75_JULY'!B19,'75_Aug'!B19)","v":93.955000000000013},94.302500000000009,{"$f":"AVERAGE('75_JULY'!D19,'75_Aug'!D19)","v":94.65},{"$f":"AVERAGE('75_JULY'!E19,'75_Aug'!E19)","v":71.085727273181874},{"$f":"AVERAGE('75_JULY'!F19,'75_Aug'!F19)","v":94.978090907272659},{"$f":"AVERAGE('75_JULY'!G19,'75_Aug'!G19)","v":40},{"$f":"AVERAGE('75_JULY'!H19,'75_Aug'!H19)","v":93.924999999999997},94.197499999999991,{"$f":"AVERAGE('75_JULY'!J19,'75_Aug'!J19)","v":94.47},{"$f":"AVERAGE('75_JULY'!K19,'75_Aug'!K19)","v":70.342636362727291},{"$f":"AVERAGE('75_JULY'!L19,'75_Aug'!L19)","v":94.983181818636425},{"$f":"AVERAGE('75_JULY'!M19,'75_Aug'!M19)","v":40},{"$f":"AVERAGE('75_JULY'!N19,'75_Aug'!N19)","v":93.49},94.012499999999989,{"$f":"AVERAGE('75_JULY'!P19,'75_Aug'!P19)","v":94.534999999999997},{"$f":"AVERAGE('75_JULY'!Q19,'75_Aug'!Q19)","v":71.704363635454541},{"$f":"AVERAGE('75_JULY'!R19,'75_Aug'!R19)","v":94.598545455454513}]
[{"$f":"AVERAGE('75_JULY'!A20,'75_Aug'!A20)","v":50},{"$f":"AVERAGE('75_JULY'!B20,'75_Aug'!B20)","v":94.19},94.424999999999997,{"$f":"AVERAGE('75_JULY'!D20,'75_Aug'!D20)","v":94.66},{"$f":"AVERAGE('75_JULY'!E20,'75_Aug'!E20)","v":72.192363637727297},{"$f":"AVERAGE('75_JULY'!F20,'75_Aug'!F20)","v":94.942999999545449},{"$f":"AVERAGE('75_JULY'!G20,'75_Aug'!G20)","v":50},{"$f":"AVERAGE('75_JULY'!H20,'75_Aug'!H20)","v":93.72},94.094999999999999,{"$f":"AVERAGE('75_JULY'!J20,'75_Aug'!J20)","v":94.47},{"$f":"AVERAGE('75_JULY'!K20,'75_Aug'!K20)","v":72.534000000909145},{"$f":"AVERAGE('75_JULY'!L20,'75_Aug'!L20)","v":94.598363634090987},{"$f":"AVERAGE('75_JULY'!M20,'75_Aug'!M20)","v":50},{"$f":"AVERAGE('75_JULY'!N20,'75_Aug'!N20)","v":94.605000000000004},95.265000000000001,{"$f":"AVERAGE('75_JULY'!P20,'75_Aug'!P20)","v":95.924999999999997},{"$f":"AVERAGE('75_JULY'!Q20,'75_Aug'!Q20)","v":71.351181817727166},{"$f":"AVERAGE('75_JULY'!R20,'75_Aug'!R20)","v":96.067727271363566}]
[{"$f":"AVERAGE('75_JULY'!A21,'75_Aug'!A21)","v":60},{"$f":"AVERAGE('75_JULY'!B21,'75_Aug'!B21)","v":94.025000000000006},94.602500000000006,{"$f":"AVERAGE('75_JULY'!D21,'75_Aug'!D21)","v":95.18},{"$f":"AVERAGE('75_JULY'!E21,'75_Aug'!E21)","v":72.517181820000005},{"$f":"AVERAGE('75_JULY'!F21,'75_Aug'!F21)","v":94.796363637272762},{"$f":"AVERAGE('75_JULY'!G21,'75_Aug'!G21)","v":60},{"$f":"AVERAGE('75_JULY'!H21,'75_Aug'!H21)","v":94.13},94.247500000000002,{"$f":"AVERAGE('75_JULY'!J21,'75_Aug'!J21)","v":94.365000000000009},{"$f":"AVERAGE('75_JULY'!K21,'75_Aug'!K21)","v":70.166999998636399},{"$f":"AVERAGE('75_JULY'!L21,'75_Aug'!L21)","v":94.946363638181936},{"$f":"AVERAGE('75_JULY'!M21,'75_Aug'!M21)","v":60},{"$f":"AVERAGE('75_JULY'!N21,'75_Aug'!N21)","v":93.990000000000009},94.44,{"$f":"AVERAGE('75_JULY'!P21,'75_Aug'!P21)","v":94.89},{"$f":"AVERAGE('75_JULY'!Q21,'75_Aug'!Q21)","v":73.679545452727297},{"$f":"AVERAGE('75_JULY'!R21,'75_Aug'!R21)","v":94.853909089545425}]
[{"$f":"AVERAGE('75_JULY'!A22,'75_Aug'!A22)","v":70},{"$f":"AVERAGE('75_JULY'!B22,'75_Aug'!B22)","v":94.43},94.91,{"$f":"AVERAGE('75_JULY'!D22,'75_Aug'!D22)","v":95.39},{"$f":"AVERAGE('75_JULY'!E22,'75_Aug'!E22)","v":70.668090907272727},{"$f":"AVERAGE('75_JULY'!F22,'75_Aug'!F22)","v":95.6014545477273},{"$f":"AVERAGE('75_JULY'!G22,'75_Aug'!G22)","v":70},{"$f":"AVERAGE('75_JULY'!H22,'75_Aug'!H22)","v":93.95},94.34,{"$f":"AVERAGE('75_JULY'!J22,'75_Aug'!J22)","v":94.72999999999999},{"$f":"AVERAGE('75_JULY'!K22,'75_Aug'!K22)","v":71.916545454090851},{"$f":"AVERAGE('75_JULY'!L22,'75_Aug'!L22)","v":94.835454547272761},{"$f":"AVERAGE('75_JULY'!M22,'75_Aug'!M22)","v":70},{"$f":"AVERAGE('75_JULY'!N22,'75_Aug'!N22)","v":94.15},94.835000000000008,{"$f":"AVERAGE('75_JULY'!P22,'75_Aug'!P22)","v":95.52},{"$f":"AVERAGE('75_JULY'!Q22,'75_Aug'!Q22)","v":70.527636364545486},{"$f":"AVERAGE('75_JULY'!R22,'75_Aug'!R22)","v":95.56299999818188}]
[{"$f":"AVERAGE('75_JULY'!A23,'75_Aug'!A23)","v":80},{"$f":"AVERAGE('75_JULY'!B23,'75_Aug'!B23)","v":94.064999999999998},94.55,{"$f":"AVERAGE('75_JULY'!D23,'75_Aug'!D23)","v":95.034999999999997},{"$f":"AVERAGE('75_JULY'!E23,'75_Aug'!E23)","v":71.705090908181859},{"$f":"AVERAGE('75_JULY'!F23,'75_Aug'!F23)","v":95.10081818363642},{"$f":"AVERAGE('75_JULY'!G23,'75_Aug'!G23)","v":80},{"$f":"AVERAGE('75_JULY'!H23,'75_Aug'!H23)","v":94.004999999999995},94.414999999999992,{"$f":"AVERAGE('75_JULY'!J23,'75_Aug'!J23)","v":94.825000000000003},{"$f":"AVERAGE('75_JULY'!K23,'75_Aug'!K23)","v":72.644818180909084},{"$f":"AVERAGE('75_JULY'!L23,'75_Aug'!L23)","v":94.603454544999991},{"$f":"AVERAGE('75_JULY'!M23,'75_Aug'!M23)","v":80},{"$f":"AVERAGE('75_JULY'!N23,'75_Aug'!N23)","v":94.384999999999991},94.56,{"$f":"AVERAGE('75_JULY'!P23,'75_Aug'!P23)","v":94.734999999999999},{"$f":"AVERAGE('75_JULY'!Q23,'75_Aug'!Q23)","v":71.531272725454528},{"$f":"AVERAGE('75_JULY'!R23,'75_Aug'!R23)","v":95.41981817954543}]
[{"$f":"AVERAGE('75_JULY'!A24,'75_Aug'!A24)","v":90},{"$f":"AVERAGE('75_JULY'!B24,'75_Aug'!B24)","v":94.210000000000008},94.965000000000003,{"$f":"AVERAGE('75_JULY'!D24,'75_Aug'!D24)","v":95.72},{"$f":"AVERAGE('75_JULY'!E24,'75_Aug'!E24)","v":72.513090908181852},{"$f":"AVERAGE('75_JULY'!F24,'75_Aug'!F24)","v":93.790363638636421},{"$f":"AVERAGE('75_JULY'!G24,'75_Aug'!G24)","v":90},{"$f":"AVERAGE('75_JULY'!H24,'75_Aug'!H24)","v":94.394999999999996},94.8,{"$f":"AVERAGE('75_JULY'!J24,'75_Aug'!J24)","v":95.204999999999998},{"$f":"AVERAGE('75_JULY'!K24,'75_Aug'!K24)","v":70.709000000454594},{"$f":"AVERAGE('75_JULY'!L24,'75_Aug'!L24)","v":95.093454546818094},{"$f":"AVERAGE('75_JULY'!M24,'75_Aug'!M24)","v":90},{"$f":"AVERAGE('75_JULY'!N24,'75_Aug'!N24)","v":94.105000000000004},94.56,{"$f":"AVERAGE('75_JULY'!P24,'75_Aug'!P24)","v":95.015000000000001},{"$f":"AVERAGE('75_JULY'!Q24,'75_Aug'!Q24)","v":73.014818183181887},{"$f":"AVERAGE('75_JULY'!R24,'75_Aug'!R24)","v":94.945272727727229}]
[]
[]
[]
[]
[]
[]
[]
[]
[]
[]
[]
[]
[]
[]
[]
[]
[]
[]
[]
[]
[]
["Circumferential Position","1 PLI-2.5 Lt","1 PLI-Avg","1 PLI-2.5 Rt","2 PLI-2.5 Lt","2 PLI-Avg","2 PLI-2.5 Rt","3 PLI-2.5 Lt","3 PLI-Avg","3 PLI-2.5 Rt","dist","time"]
[{"$f":"A12","v":0},{"$f":"B12","v":79.680000000000007},{"$f":"C12","v":78.92},{"$f":"D12","v":78.16},{"$f":"H12","v":78.644999999999996},78.872500000000002,79.099999999999994,{"$f":"N12","v":78.775000000000006},{"$f":"O12","v":78.34},{"$f":"P12","v":77.905000000000001},{"$f":"$A47*5.51*PI()/360","v":0},{"$f":"A47*PI()*(5.51/2)/(180*15)","v":0},{"$f":"B47","v":79.680000000000007},{"$f":"C47","v":78.92},{"$f":"D47","v":78.16},{"$f":"E47","v":78.644999999999996},{"$f":"F47","v":78.872500000000002},{"$f":"G47","v":79.099999999999994},{"$f":"H47","v":78.775000000000006},{"$f":"I47","v":78.34},{"$f":"J47","v":77.905000000000001}]
[{"$f":"A13","v":2.5},{"$f":"B13","v":82.71},82.324999999999989,{"$f":"D13","v":81.94},{"$f":"H13","v":82.24},81.555000000000007,80.87,83.16,82.055000000000007,80.95,0.12020955223110942,8.0139701487406297E-3,82.71,82.324999999999989,81.94,82.24,81.555000000000007,80.87,83.16,82.055000000000007,80.95]
[5,{"$f":"B14","v":87.32},{"$f":"C14","v":86.782499999999999},{"$f":"D14","v":86.245000000000005},87.525000000000006,87.385000000000005,87.245000000000005,87.67,87.325000000000003,86.98,0.24041910446221884,1.6027940297481259E-2,87.32,86.782499999999999,86.245000000000005,87.525000000000006,87.385000000000005,87.245000000000005,87.67,87.325000000000003,86.98]
[10,{"$f":"B15","v":91.715000000000003},{"$f":"C15","v":91.65},{"$f":"D15","v":91.585000000000008},91.460000000000008,91.42,91.38,92.025000000000006,92.212500000000006,92.4,0.48083820892443768,3.2055880594962519E-2,91.715000000000003,91.65,91.585000000000008,91.460000000000008,91.42,91.38,92.025000000000006,92.212500000000006,92.4]
[15,{"$f":"B16","v":92.86},{"$f":"C16","v":93.025000000000006},{"$f":"D16","v":93.19},92.734999999999999,92.877499999999998,93.02,93.14,93.347499999999997,93.555000000000007,0.72125731338665655,4.8083820892443771E-2,92.86,93.025000000000006,93.19,92.734999999999999,92.877499999999998,93.02,93.14,93.347499999999997,93.555000000000007]
[20,{"$f":"B17","v":93.699999999999989},{"$f":"C17","v":93.907499999999999},{"$f":"D17","v":94.115000000000009},93.045000000000002,93.45,93.855000000000004,93.525000000000006,93.722499999999997,93.92,0.96167641784887536,6.4111761189925037E-2,93.699999999999989,93.907499999999999,94.115000000000009,93.045000000000002,93.45,93.855000000000004,93.525000000000006,93.722499999999997,93.92]
[30,{"$f":"B18","v":93.73},{"$f":"C18","v":94.162499999999994},{"$f":"D18","v":94.594999999999999},93.805000000000007,93.907499999999999,94.009999999999991,94.125,94.307500000000005,94.490000000000009,1.4425146267733131,9.6167641784887542E-2,93.73,94.162499999999994,94.594999999999999,93.805000000000007,93.907499999999999,94.009999999999991,94.125,94.307500000000005,94.490000000000009]
[40,{"$f":"B19","v":93.955000000000013},{"$f":"C19","v":94.302500000000009},{"$f":"D19","v":94.65},93.924999999999997,94.197499999999991,94.47,93.49,94.012499999999989,94.534999999999997,1.9233528356977507,0.12822352237985007,93.955000000000013,94.302500000000009,94.65,93.924999999999997,94.197499999999991,94.47,93.49,94.012499999999989,94.534999999999997]
[50,{"$f":"B20","v":94.19},{"$f":"C20","v":94.424999999999997},{"$f":"D20","v":94.66},93.72,94.094999999999999,94.47,94.605000000000004,95.265000000000001,95.924999999999997,2.4041910446221886,0.16027940297481258,94.19,94.424999999999997,94.66,93.72,94.094999999999999,94.47,94.605000000000004,95.265000000000001,95.924999999999997]
[60,{"$f":"B21","v":94.025000000000006},{"$f":"C21","v":94.602500000000006},{"$f":"D21","v":95.18},94.13,94.247500000000002,94.365000000000009,93.990000000000009,94.44,94.89,2.8850292535466262,0.19233528356977508,94.025000000000006,94.602500000000006,95.18,94.13,94.247500000000002,94.365000000000009,93.990000000000009,94.44,94.89]
[70,{"$f":"B22","v":94.43},{"$f":"C22","v":94.91},{"$f":"D22","v":95.39},93.95,94.34,94.72999999999999,94.15,94.835000000000008,95.52,3.3658674624710647,0.22439116416473764,94.43,94.91,95.39,93.95,94.34,94.72999999999999,94.15,94.835000000000008,95.52]
[80,{"$f":"B23","v":94.064999999999998},{"$f":"C23","v":94.55},{"$f":"D23","v":95.034999999999997},94.004999999999995,94.414999999999992,94.825000000000003,94.384999999999991,94.56,94.734999999999999,3.8467056713955015,0.25644704475970015,94.064999999999998,94.55,95.034999999999997,94.004999999999995,94.414999999999992,94.825000000000003,94.384999999999991,94.56,94.734999999999999]
[90,{"$f":"B24","v":94.210000000000008},{"$f":"C24","v":94.965000000000003},{"$f":"D24","v":95.72},94.394999999999996,94.8,95.204999999999998,{"$f":"N24","v":94.105000000000004},94.56,95.015000000000001,4.32754388031994,0.28850292535466265,94.210000000000008,94.965000000000003,95.72,94.394999999999996,94.8,95.204999999999998,94.105000000000004,94.56,95.015000000000001]
[]
[]
[]
[]
[]
[null,null,null,null,null,null,null,null,null,null,null,"Time",{"$f":"B46","v":"1 PLI-2.5 Lt"},"1 PLI-Avg","1 PLI-2.5 Rt","2 PLI-2.5 Lt","2 PLI-Avg","2 PLI-2.5 Rt","3 PLI-2.5 Lt","3 PLI-Avg","3 PLI-2.5 Rt"]
[null,null,null,null,null,null,null,null,null,null,null,{"$f":"L47","v":0},{"$f":"(M47-M$47)*$M$82*$M$83","v":0},{"$f":"(N47-N$47)*$M$82*$M$83","v":0},0,0,0,0,0,0,0]
[null,null,null,null,null,null,null,null,null,null,null,8.0139701487406297E-3,{"$f":"(M48-M$47)*$M$82*$M$83","v":21.176333333333243},{"$f":"(N48-N$47)*$M$82*$M$83","v":23.797166666666577},26.41800000000001,25.125055555555548,18.747694444444477,12.370333333333406,30.646277777777716,25.963722222222248,21.281166666666678]
[null,null,null,null,null,null,null,null,null,null,null,1.6027940297481259E-2,53.395111111111021,54.950138888888873,56.505166666666717,62.061333333333401,59.492916666666687,56.924500000000073,62.166166666666633,62.79516666666666,63.424166666666686]
[null,null,null,null,null,null,null,null,null,null,null,3.2055880594962519E-2,84.111277777777758,88.968555555555582,93.825833333333406,89.562611111111195,87.693083333333334,85.823555555555558,92.602777777777774,96.953361111111121,101.30394444444447]
[null,null,null,null,null,null,null,null,null,null,null,4.8083820892443771E-2,92.113555555555507,98.578277777777799,105.04300000000001,98.473444444444468,97.879388888888855,97.285333333333341,100.39538888888886,104.88574999999996,109.37611111111116]
[null,null,null,null,null,null,null,null,null,null,null,6.4111761189925037E-2,97.984222222222087,104.74597222222221,111.50772222222231,100.64000000000004,101.88052777777779,103.12105555555563,103.08611111111111,107.5065833333333,111.92705555555555]
[null,null,null,null,null,null,null,null,null,null,null,9.6167641784887542E-2,98.193888888888878,106.52813888888885,114.8623888888889,105.95155555555564,105.07794444444443,104.20433333333331,107.27944444444441,111.59508333333333,115.91072222222228]
[null,null,null,null,null,null,null,null,null,null,null,0.12822352237985007,99.766388888888926,107.5065833333334,115.24677777777784,106.79022222222223,107.10472222222214,107.41922222222226,102.84149999999993,109.53336111111101,116.22522222222219]
[null,null,null,null,null,null,null,null,null,null,null,0.16027940297481258,101.40877777777773,108.36272222222219,115.31666666666668,105.35750000000003,106.3883611111111,107.41922222222226,110.63411111111111,118.28694444444443,125.93977777777776]
[null,null,null,null,null,null,null,null,null,null,null,0.19233528356977508,100.25561111111111,109.60325000000005,118.95088888888895,108.22294444444444,107.45416666666668,106.68538888888899,106.33594444444448,112.52111111111107,118.70627777777777]
[null,null,null,null,null,null,null,null,null,null,null,0.22439116416473764,103.08611111111111,111.75233333333331,120.41855555555559,106.96494444444448,108.10063888888889,109.23633333333331,107.45416666666668,115.28172222222226,123.10927777777773]
[null,null,null,null,null,null,null,null,null,null,null,0.25644704475970015,100.53516666666661,109.23633333333331,117.93750000000001,107.34933333333332,108.6248055555555,109.90027777777784,109.09655555555545,113.35977777777778,117.62299999999999]
[null,null,null,null,null,null,null,null,null,null,null,0.28850292535466265,101.54855555555558,112.13672222222225,122.72488888888891,110.075,111.31552777777775,112.55605555555559,107.13966666666666,113.35977777777778,119.57988888888889]
[]
[]
[]
[null,null,null,null,null,null,null,null,null,null,null,"alpha",{"$f":"(5/9)*0.000017","v":9.4444444444444446E-6},"in/in/F"]
[null,null,null,null,null,null,null,null,null,null,null,"E-CMD",740000,"psi"]

{"sheet":"150 fpm","index":2,"n_rows":84,"n_cols":21,"rows_kept":84,"cut":false,"hidden":false,"merged":[]}
[]
[]
[]
["Line speed","150 fpm",null,null,null,null,"Line speed","150 fpm",null,null,null,null,"Line speed","150 fpm"]
["Delta T","~ 25 F",null,null,null,null,"Delta T","~ 25 F",null,null,null,null,"Delta T","~ 25 F"]
["Line Tension","1 pli",null,null,null,null,"Line Tension","2 pli",null,null,null,null,"Line Tension","3 pli"]
["Air and roller tempertures determined from readings taken over a ~9 minute span",null,null,null,null,null,"Air and roller tempertures determined from readings taken over a ~9 minute span",null,null,null,null,null,"Air and roller tempertures determined from readings taken over a ~9 minute span"]
["Material tempertures determined from readings taken over a 2.5minute span",null,null,null,null,null,"Material tempertures determined from readings taken over a 2.5minute span",null,null,null,null,null,"Material tempertures determined from readings taken over a 2.5minute span"]
[]
["Material Temp",null,null,null,{"$f":"AVERAGE(E12:E24)","v":71.725930070104894},{"$f":"AVERAGE(F12:F24)","v":93.124790209650342},"Material Temp",null,null,null,{"$f":"AVERAGE(K12:K24)","v":72.191769231293691},{"$f":"AVERAGE(L12:L24)","v":92.394804196468556},"Material Temp",null,null,null,{"$f":"AVERAGE(Q12:Q24)","v":71.977636364370625},{"$f":"AVERAGE(R12:R24)","v":92.864293706188832}]
["Angular Position","Avg 2.50\" Left","Avg of R&L","Avg 2.50\" Right","Avg Air Temp","Avg Roller Temp",null,"Avg 2.50\" Left","Avg of R&L","Avg 2.50\" Right","Avg Air Temp","Avg Roller Temp",null,"Avg 2.50\" Left","Avg of R&L","Avg 2.50\" Right","Avg Air Temp","Avg Roller Temp"]
[{"$f":"AVERAGE('150_JULY'!A12,'150_AUG'!A12)","v":0},{"$f":"AVERAGE('150_JULY'!B12,'150_AUG'!B12)","v":76.435000000000002},{"$f":"AVERAGE(B12,D12)","v":76.092500000000001},{"$f":"AVERAGE('150_JULY'!D12,'150_AUG'!D12)","v":75.75},{"$f":"AVERAGE('150_JULY'!E12,'150_AUG'!E12)","v":71.797272729545455},{"$f":"AVERAGE('150_JULY'!F12,'150_AUG'!F12)","v":93.218909091363741},{"$f":"AVERAGE('150_JULY'!G12,'150_AUG'!G12)","v":0},{"$f":"AVERAGE('150_JULY'!H12,'150_AUG'!H12)","v":75.91},{"$f":"AVERAGE(H12,J12)","v":76.047499999999999},{"$f":"AVERAGE('150_JULY'!J12,'150_AUG'!J12)","v":76.185000000000002},{"$f":"AVERAGE('150_JULY'!K12,'150_AUG'!K12)","v":72.054090906818175},{"$f":"AVERAGE('150_JULY'!L12,'150_AUG'!L12)","v":92.461272725909112},{"$f":"AVERAGE('150_JULY'!M12,'150_AUG'!M12)","v":0},{"$f":"AVERAGE('150_JULY'!N12,'150_AUG'!N12)","v":77.245000000000005},{"$f":"AVERAGE(N12,P12)","v":76.752499999999998},{"$f":"AVERAGE('150_JULY'!P12,'150_AUG'!P12)","v":76.260000000000005},{"$f":"AVERAGE('150_JULY'!Q12,'150_AUG'!Q12)","v":72.546181818181893},{"$f":"AVERAGE('150_JULY'!R12,'150_AUG'!R12)","v":92.534545454090875}]
[{"$f":"AVERAGE('150_JULY'!A13,'150_AUG'!A13)","v":2.5},{"$f":"AVERAGE('150_AUG'!B13)","v":78.5},{"$f":"AVERAGE(B13,D13)","v":77.775000000000006},{"$f":"AVERAGE('150_AUG'!D13)","v":77.05},{"$f":"AVERAGE('150_AUG'!E13)","v":70.674727272727239},{"$f":"AVERAGE('150_AUG'!F13)","v":92.523454545454427},2.5,{"$f":"AVERAGE('150_AUG'!H13)","v":78.59},{"$f":"AVERAGE(H13,J13)","v":78.765000000000001},{"$f":"AVERAGE('150_AUG'!J13)","v":78.94},{"$f":"AVERAGE('150_AUG'!K13)","v":73.605090909090748},{"$f":"AVERAGE('150_AUG'!L13)","v":92.40509090909093},{"$f":"AVERAGE('150_AUG'!M13)","v":2.5},{"$f":"AVERAGE('150_AUG'!N13)","v":79.069999999999993},{"$f":"AVERAGE(N13,P13)","v":78.41},{"$f":"AVERAGE('150_AUG'!P13)","v":77.75},{"$f":"AVERAGE('150_AUG'!Q13)","v":72.417090909090874},{"$f":"AVERAGE('150_AUG'!R13)","v":92.409090909091034}]
[{"$f":"AVERAGE('150_JULY'!A14,'150_AUG'!A14)","v":5},{"$f":"AVERAGE('150_JULY'!B14,'150_AUG'!B14)","v":80.849999999999994},{"$f":"AVERAGE(B14,D14)","v":80.655000000000001},{"$f":"AVERAGE('150_JULY'!D14,'150_AUG'!D14)","v":80.460000000000008},{"$f":"AVERAGE('150_JULY'!E14,'150_AUG'!E14)","v":71.97781818272729},{"$f":"AVERAGE('150_JULY'!F14,'150_AUG'!F14)","v":93.112727272272707},{"$f":"AVERAGE('150_JULY'!G14,'150_AUG'!G14)","v":5},{"$f":"AVERAGE('150_JULY'!H14,'150_AUG'!H14)","v":82.05},{"$f":"AVERAGE(H14,J14)","v":81.472499999999997},{"$f":"AVERAGE('150_JULY'!J14,'150_AUG'!J14)","v":80.89500000000001},{"$f":"AVERAGE('150_JULY'!K14,'150_AUG'!K14)","v":72.24109090954542},{"$f":"AVERAGE('150_JULY'!L14,'150_AUG'!L14)","v":92.523454546818243},{"$f":"AVERAGE('150_JULY'!M14,'150_AUG'!M14)","v":5},{"$f":"AVERAGE('150_JULY'!N14,'150_AUG'!N14)","v":81.444999999999993},{"$f":"AVERAGE(N14,P14)","v":80.66749999999999},{"$f":"AVERAGE('150_JULY'!P14,'150_AUG'!P14)","v":79.89},{"$f":"AVERAGE('150_JULY'!Q14,'150_AUG'!Q14)","v":70.909272729545449},{"$f":"AVERAGE('150_JULY'!R14,'150_AUG'!R14)","v":92.406272725454556}]
[{"$f":"AVERAGE('150_JULY'!A15,'150_AUG'!A15)","v":10},{"$f":"AVERAGE('150_JULY'!B15,'150_AUG'!B15)","v":85.414999999999992},85.037499999999994,{"$f":"AVERAGE('150_JULY'!D15,'150_AUG'!D15)","v":84.66},{"$f":"AVERAGE('150_JULY'!E15,'150_AUG'!E15)","v":71.705181819999993},{"$f":"AVERAGE('150_JULY'!F15,'150_AUG'!F15)","v":93.156636362272664},{"$f":"AVERAGE('150_JULY'!G15,'150_AUG'!G15)","v":10},{"$f":"AVERAGE('150_JULY'!H15,'150_AUG'!H15)","v":85.995000000000005},85.81,{"$f":"AVERAGE('150_JULY'!J15,'150_AUG'!J15)","v":85.625},{"$f":"AVERAGE('150_JULY'!K15,'150_AUG'!K15)","v":71.047454545909133},{"$f":"AVERAGE('150_JULY'!L15,'150_AUG'!L15)","v":92.53909090863641},{"$f":"AVERAGE('150_JULY'!M15,'150_AUG'!M15)","v":10},{"$f":"AVERAGE('150_JULY'!N15,'150_AUG'!N15)","v":85.78},85.55,{"$f":"AVERAGE('150_JULY'!P15,'150_AUG'!P15)","v":85.32},{"$f":"AVERAGE('150_JULY'!Q15,'150_AUG'!Q15)","v":72.809818183636366},{"$f":"AVERAGE('150_JULY'!R15,'150_AUG'!R15)","v":92.381818179999982}]
[{"$f":"AVERAGE('150_JULY'!A16,'150_AUG'!A16)","v":15},{"$f":"AVERAGE('150_JULY'!B16,'150_AUG'!B16)","v":87.335000000000008},87.320000000000007,{"$f":"AVERAGE('150_JULY'!D16,'150_AUG'!D16)","v":87.305000000000007},{"$f":"AVERAGE('150_JULY'!E16,'150_AUG'!E16)","v":71.274818181363599},{"$f":"AVERAGE('150_JULY'!F16,'150_AUG'!F16)","v":92.95545454409087},{"$f":"AVERAGE('150_JULY'!G16,'150_AUG'!G16)","v":15},{"$f":"AVERAGE('150_JULY'!H16,'150_AUG'!H16)","v":87.634999999999991},87.832499999999996,{"$f":"AVERAGE('150_JULY'!J16,'150_AUG'!J16)","v":88.03},{"$f":"AVERAGE('150_JULY'!K16,'150_AUG'!K16)","v":71.827999999999989},{"$f":"AVERAGE('150_JULY'!L16,'150_AUG'!L16)","v":92.385727273636405},{"$f":"AVERAGE('150_JULY'!M16,'150_AUG'!M16)","v":15},{"$f":"AVERAGE('150_JULY'!N16,'150_AUG'!N16)","v":87.83},87.932500000000005,{"$f":"AVERAGE('150_JULY'!P16,'150_AUG'!P16)","v":88.034999999999997},{"$f":"AVERAGE('150_JULY'!Q16,'150_AUG'!Q16)","v":72.621909093181827},{"$f":"AVERAGE('150_JULY'!R16,'150_AUG'!R16)","v":93.16600000227271}]
[{"$f":"AVERAGE('150_JULY'!A17,'150_AUG'!A17)","v":20},{"$f":"AVERAGE('150_JULY'!B17,'150_AUG'!B17)","v":88.984999999999999},89.182500000000005,{"$f":"AVERAGE('150_JULY'!D17,'150_AUG'!D17)","v":89.38},{"$f":"AVERAGE('150_JULY'!E17,'150_AUG'!E17)","v":72.729545452272731},{"$f":"AVERAGE('150_JULY'!F17,'150_AUG'!F17)","v":92.724545455000055},{"$f":"AVERAGE('150_JULY'!G17,'150_AUG'!G17)","v":20},{"$f":"AVERAGE('150_JULY'!H17,'150_AUG'!H17)","v":89.015000000000001},89.12,{"$f":"AVERAGE('150_JULY'!J17,'150_AUG'!J17)","v":89.224999999999994},{"$f":"AVERAGE('150_JULY'!K17,'150_AUG'!K17)","v":72.646636364999978},{"$f":"AVERAGE('150_JULY'!L17,'150_AUG'!L17)","v":92.353545454999903},{"$f":"AVERAGE('150_JULY'!M17,'150_AUG'!M17)","v":20},{"$f":"AVERAGE('150_JULY'!N17,'150_AUG'!N17)","v":89.1},88.949999999999989,{"$f":"AVERAGE('150_JULY'!P17,'150_AUG'!P17)","v":88.8},{"$f":"AVERAGE('150_JULY'!Q17,'150_AUG'!Q17)","v":71.809363638636398},{"$f":"AVERAGE('150_JULY'!R17,'150_AUG'!R17)","v":92.953909092272738}]
[{"$f":"AVERAGE('150_JULY'!A18,'150_AUG'!A18)","v":30},{"$f":"AVERAGE('150_JULY'!B18,'150_AUG'!B18)","v":90.465000000000003},90.51,{"$f":"AVERAGE('150_JULY'!D18,'150_AUG'!D18)","v":90.555000000000007},{"$f":"AVERAGE('150_JULY'!E18,'150_AUG'!E18)","v":71.974818182272742},{"$f":"AVERAGE('150_JULY'!F18,'150_AUG'!F18)","v":92.889272725000055},{"$f":"AVERAGE('150_JULY'!G18,'150_AUG'!G18)","v":30},{"$f":"AVERAGE('150_JULY'!H18,'150_AUG'!H18)","v":90.27000000000001},90.580000000000013,{"$f":"AVERAGE('150_JULY'!J18,'150_AUG'!J18)","v":90.89},{"$f":"AVERAGE('150_JULY'!K18,'150_AUG'!K18)","v":71.722545455454579},{"$f":"AVERAGE('150_JULY'!L18,'150_AUG'!L18)","v":92.819909092727215},{"$f":"AVERAGE('150_JULY'!M18,'150_AUG'!M18)","v":30},{"$f":"AVERAGE('150_JULY'!N18,'150_AUG'!N18)","v":90.424999999999997},90.574999999999989,{"$f":"AVERAGE('150_JULY'!P18,'150_AUG'!P18)","v":90.724999999999994},{"$f":"AVERAGE('150_JULY'!Q18,'150_AUG'!Q18)","v":71.385636363181789},{"$f":"AVERAGE('150_JULY'!R18,'150_AUG'!R18)","v":92.912181819545452}]
[{"$f":"AVERAGE('150_JULY'!A19,'150_AUG'!A19)","v":40},{"$f":"AVERAGE('150_JULY'!B19,'150_AUG'!B19)","v":90.734999999999999},91.162499999999994,{"$f":"AVERAGE('150_JULY'!D19,'150_AUG'!D19)","v":91.59},{"$f":"AVERAGE('150_JULY'!E19,'150_AUG'!E19)","v":72.040727272272704},{"$f":"AVERAGE('150_JULY'!F19,'150_AUG'!F19)","v":93.210818181818155},{"$f":"AVERAGE('150_JULY'!G19,'150_AUG'!G19)","v":40},{"$f":"AVERAGE('150_JULY'!H19,'150_AUG'!H19)","v":90.694999999999993},90.887499999999989,{"$f":"AVERAGE('150_JULY'!J19,'150_AUG'!J19)","v":91.08},{"$f":"AVERAGE('150_JULY'!K19,'150_AUG'!K19)","v":70.458636365454552},{"$f":"AVERAGE('150_JULY'!L19,'150_AUG'!L19)","v":92.352818180909139},{"$f":"AVERAGE('150_JULY'!M19,'150_AUG'!M19)","v":40},{"$f":"AVERAGE('150_JULY'!N19,'150_AUG'!N19)","v":91.085000000000008},91.222499999999997,{"$f":"AVERAGE('150_JULY'!P19,'150_AUG'!P19)","v":91.36},{"$f":"AVERAGE('150_JULY'!Q19,'150_AUG'!Q19)","v":72.345818182727243},{"$f":"AVERAGE('150_JULY'!R19,'150_AUG'!R19)","v":93.005545452727276}]
[{"$f":"AVERAGE('150_JULY'!A20,'150_AUG'!A20)","v":50},{"$f":"AVERAGE('150_JULY'!B20,'150_AUG'!B20)","v":91.574999999999989},92.009999999999991,{"$f":"AVERAGE('150_JULY'!D20,'150_AUG'!D20)","v":92.444999999999993},{"$f":"AVERAGE('150_JULY'!E20,'150_AUG'!E20)","v":72.10199999909095},{"$f":"AVERAGE('150_JULY'!F20,'150_AUG'!F20)","v":93.612545454545455},{"$f":"AVERAGE('150_JULY'!G20,'150_AUG'!G20)","v":50},{"$f":"AVERAGE('150_JULY'!H20,'150_AUG'!H20)","v":90.694999999999993},91.017499999999998,{"$f":"AVERAGE('150_JULY'!J20,'150_AUG'!J20)","v":91.34},{"$f":"AVERAGE('150_JULY'!K20,'150_AUG'!K20)","v":72.372545455000022},{"$f":"AVERAGE('150_JULY'!L20,'150_AUG'!L20)","v":92.191181820000082},{"$f":"AVERAGE('150_JULY'!M20,'150_AUG'!M20)","v":50},{"$f":"AVERAGE('150_JULY'!N20,'150_AUG'!N20)","v":91.08},91.41,{"$f":"AVERAGE('150_JULY'!P20,'150_AUG'!P20)","v":91.740000000000009},{"$f":"AVERAGE('150_JULY'!Q20,'150_AUG'!Q20)","v":72.770818184090928},{"$f":"AVERAGE('150_JULY'!R20,'150_AUG'!R20)","v":92.817363634090924}]
[{"$f":"AVERAGE('150_JULY'!A21,'150_AUG'!A21)","v":60},{"$f":"AVERAGE('150_JULY'!B21,'150_AUG'!B21)","v":91.805000000000007},91.605000000000004,{"$f":"AVERAGE('150_JULY'!D21,'150_AUG'!D21)","v":91.405000000000001},{"$f":"AVERAGE('150_JULY'!E21,'150_AUG'!E21)","v":70.679727273181797},{"$f":"AVERAGE('150_JULY'!F21,'150_AUG'!F21)","v":93.583454547727342},{"$f":"AVERAGE('150_JULY'!G21,'150_AUG'!G21)","v":60},{"$f":"AVERAGE('150_JULY'!H21,'150_AUG'!H21)","v":90.68},91.202500000000001,{"$f":"AVERAGE('150_JULY'!J21,'150_AUG'!J21)","v":91.724999999999994},{"$f":"AVERAGE('150_JULY'!K21,'150_AUG'!K21)","v":72.033363637272714},{"$f":"AVERAGE('150_JULY'!L21,'150_AUG'!L21)","v":92.231727271818158},{"$f":"AVERAGE('150_JULY'!M21,'150_AUG'!M21)","v":60},{"$f":"AVERAGE('150_JULY'!N21,'150_AUG'!N21)","v":91.2},91.402500000000003,{"$f":"AVERAGE('150_JULY'!P21,'150_AUG'!P21)","v":91.605000000000004},{"$f":"AVERAGE('150_JULY'!Q21,'150_AUG'!Q21)","v":70.386272728636328},{"$f":"AVERAGE('150_JULY'!R21,'150_AUG'!R21)","v":93.120090908181808}]
[{"$f":"AVERAGE('150_JULY'!A22,'150_AUG'!A22)","v":70},{"$f":"AVERAGE('150_JULY'!B22,'150_AUG'!B22)","v":91.194999999999993},91.712500000000006,{"$f":"AVERAGE('150_JULY'!D22,'150_AUG'!D22)","v":92.23},{"$f":"AVERAGE('150_JULY'!E22,'150_AUG'!E22)","v":73.645545456363664},{"$f":"AVERAGE('150_JULY'!F22,'150_AUG'!F22)","v":92.761454547272706},{"$f":"AVERAGE('150_JULY'!G22,'150_AUG'!G22)","v":70},{"$f":"AVERAGE('150_JULY'!H22,'150_AUG'!H22)","v":91.08},91.557500000000005,{"$f":"AVERAGE('150_JULY'!J22,'150_AUG'!J22)","v":92.034999999999997},{"$f":"AVERAGE('150_JULY'!K22,'150_AUG'!K22)","v":72.262000001818166},{"$f":"AVERAGE('150_JULY'!L22,'150_AUG'!L22)","v":92.269636365909108},{"$f":"AVERAGE('150_JULY'!M22,'150_AUG'!M22)","v":70},{"$f":"AVERAGE('150_JULY'!N22,'150_AUG'!N22)","v":90.935000000000002},91.232500000000002,{"$f":"AVERAGE('150_JULY'!P22,'150_AUG'!P22)","v":91.53},{"$f":"AVERAGE('150_JULY'!Q22,'150_AUG'!Q22)","v":72.084909088636323},{"$f":"AVERAGE('150_JULY'!R22,'150_AUG'!R22)","v":93.012090911363629}]
[{"$f":"AVERAGE('150_JULY'!A23,'150_AUG'!A23)","v":80},{"$f":"AVERAGE('150_JULY'!B23,'150_AUG'!B23)","v":92.094999999999999},92.342500000000001,{"$f":"AVERAGE('150_JULY'!D23,'150_AUG'!D23)","v":92.59},{"$f":"AVERAGE('150_JULY'!E23,'150_AUG'!E23)","v":70.716272726818175},{"$f":"AVERAGE('150_JULY'!F23,'150_AUG'!F23)","v":93.405181817727254},{"$f":"AVERAGE('150_JULY'!G23,'150_AUG'!G23)","v":80},{"$f":"AVERAGE('150_JULY'!H23,'150_AUG'!H23)","v":91.23},91.675000000000011,{"$f":"AVERAGE('150_JULY'!J23,'150_AUG'!J23)","v":92.12},{"$f":"AVERAGE('150_JULY'!K23,'150_AUG'!K23)","v":72.663909090909115},{"$f":"AVERAGE('150_JULY'!L23,'150_AUG'!L23)","v":92.355272728636422},{"$f":"AVERAGE('150_JULY'!M23,'150_AUG'!M23)","v":80},{"$f":"AVERAGE('150_JULY'!N23,'150_AUG'!N23)","v":91.3},91.677500000000009,{"$f":"AVERAGE('150_JULY'!P23,'150_AUG'!P23)","v":92.055000000000007},{"$f":"AVERAGE('150_JULY'!Q23,'150_AUG'!Q23)","v":73.629363636363607},{"$f":"AVERAGE('150_JULY'!R23,'150_AUG'!R23)","v":92.924000001363652}]
[{"$f":"AVERAGE('150_JULY'!A24,'150_AUG'!A24)","v":90},{"$f":"AVERAGE('150_JULY'!B24,'150_AUG'!B24)","v":91.77},91.694999999999993,{"$f":"AVERAGE('150_JULY'!D24,'150_AUG'!D24)","v":91.62},{"$f":"AVERAGE('150_JULY'!E24,'150_AUG'!E24)","v":71.118636362727244},{"$f":"AVERAGE('150_JULY'!F24,'150_AUG'!F24)","v":93.467818180909092},{"$f":"AVERAGE('150_JULY'!G24,'150_AUG'!G24)","v":90},{"$f":"AVERAGE('150_JULY'!H24,'150_AUG'!H24)","v":91.194999999999993},91.71,{"$f":"AVERAGE('150_JULY'!J24,'150_AUG'!J24)","v":92.224999999999994},{"$f":"AVERAGE('150_JULY'!K24,'150_AUG'!K24)","v":73.557636364545402},{"$f":"AVERAGE('150_JULY'!L24,'150_AUG'!L24)","v":92.24372727500014},{"$f":"AVERAGE('150_JULY'!M24,'150_AUG'!M24)","v":90},{"$f":"AVERAGE('150_JULY'!N24,'150_AUG'!N24)","v":91.56},91.97,{"$f":"AVERAGE('150_JULY'!P24,'150_AUG'!P24)","v":92.38},{"$f":"AVERAGE('150_JULY'!Q24,'150_AUG'!Q24)","v":69.992818180909126},{"$f":"AVERAGE('150_JULY'!R24,'150_AUG'!R24)","v":93.592909090000077}]
[]
[]
[]
[]
[]
[]
[]
[]
[]
[]
[]
[]
[]
[]
[]
[]
[]
[]
[]
[]
[]
[null,"1 PLI-2.5 Lt","1 PLI-Avg","1 PLI-2.5 Rt","2 PLI-2.5 Lt","2 PLI-Avg","2 PLI-2.5 Rt","3 PLI-2.5 Lt","3 PLI-Avg","3 PLI-2.5 Rt",null,"Time",{"$f":"B46","v":"1 PLI-2.5 Lt"},{"$f":"C46","v":"1 PLI-Avg"},{"$f":"D46","v":"1 PLI-2.5 Rt"},{"$f":"E46","v":"2 PLI-2.5 Lt"},{"$f":"F46","v":"2 PLI-Avg"},{"$f":"G46","v":"2 PLI-2.5 Rt"},{"$f":"H46","v":"3 PLI-2.5 Lt"},{"$f":"I46","v":"3 PLI-Avg"},{"$f":"J46","v":"3 PLI-2.5 Rt"}]
[{"$f":"A12","v":0},{"$f":"B12","v":76.435000000000002},{"$f":"C12","v":76.092500000000001},{"$f":"D12","v":75.75},{"$f":"H12","v":75.91},76.047499999999999,76.185000000000002,{"$f":"N12","v":77.245000000000005},76.752499999999998,76.260000000000005,null,{"$f":"A47*PI()*(5.51/2)/(180*30)","v":0},76.435000000000002,76.092500000000001,75.75,75.91,76.047499999999999,76.185000000000002,77.245000000000005,76.752499999999998,76.260000000000005]
[{"$f":"A13","v":2.5},{"$f":"B13","v":78.5},77.775000000000006,{"$f":"D13","v":77.05},{"$f":"H13","v":78.59},78.765000000000001,78.94,{"$f":"N13","v":79.069999999999993},78.41,77.75,null,4.0069850743703148E-3,78.5,77.775000000000006,77.05,78.59,78.765000000000001,78.94,79.069999999999993,78.41,77.75]
[5,{"$f":"B14","v":80.849999999999994},{"$f":"C14","v":80.655000000000001},{"$f":"D14","v":80.460000000000008},82.05,81.472499999999997,80.89500000000001,81.444999999999993,80.66749999999999,79.89,null,8.0139701487406297E-3,80.849999999999994,80.655000000000001,80.460000000000008,82.05,81.472499999999997,80.89500000000001,81.444999999999993,80.66749999999999,79.89]
[10,{"$f":"B15","v":85.414999999999992},85.037499999999994,{"$f":"D15","v":84.66},85.995000000000005,85.81,85.625,85.78,85.55,85.32,null,1.6027940297481259E-2,85.414999999999992,85.037499999999994,84.66,85.995000000000005,85.81,85.625,85.78,85.55,85.32]
[15,{"$f":"B16","v":87.335000000000008},87.320000000000007,{"$f":"D16","v":87.305000000000007},87.634999999999991,87.832499999999996,88.03,87.83,87.932500000000005,88.034999999999997,null,2.4041910446221886E-2,87.335000000000008,87.320000000000007,87.305000000000007,87.634999999999991,87.832499999999996,88.03,87.83,87.932500000000005,88.034999999999997]
[20,{"$f":"B17","v":88.984999999999999},89.182500000000005,{"$f":"D17","v":89.38},89.015000000000001,89.12,89.224999999999994,89.1,88.949999999999989,88.8,null,3.2055880594962519E-2,88.984999999999999,89.182500000000005,89.38,89.015000000000001,89.12,89.224999999999994,89.1,88.949999999999989,88.8]
[30,{"$f":"B18","v":90.465000000000003},90.51,{"$f":"D18","v":90.555000000000007},90.27000000000001,90.580000000000013,90.89,90.424999999999997,90.574999999999989,90.724999999999994,null,4.8083820892443771E-2,90.465000000000003,90.51,90.555000000000007,90.27000000000001,90.580000000000013,90.89,90.424999999999997,90.574999999999989,90.724999999999994]
[40,{"$f":"B19","v":90.734999999999999},91.162499999999994,{"$f":"D19","v":91.59},90.694999999999993,90.887499999999989,91.08,91.085000000000008,91.222499999999997,91.36,null,6.4111761189925037E-2,90.734999999999999,91.162499999999994,91.59,90.694999999999993,90.887499999999989,91.08,91.085000000000008,91.222499999999997,91.36]
[50,{"$f":"B20","v":91.574999999999989},92.009999999999991,{"$f":"D20","v":92.444999999999993},90.694999999999993,91.017499999999998,91.34,91.08,91.41,91.740000000000009,null,8.013970148740629E-2,91.574999999999989,92.009999999999991,92.444999999999993,90.694999999999993,91.017499999999998,91.34,91.08,91.41,91.740000000000009]
[60,{"$f":"B21","v":91.805000000000007},91.605000000000004,{"$f":"D21","v":91.405000000000001},90.68,91.202500000000001,91.724999999999994,91.2,91.402500000000003,91.605000000000004,null,9.6167641784887542E-2,91.805000000000007,91.605000000000004,91.405000000000001,90.68,91.202500000000001,91.724999999999994,91.2,91.402500000000003,91.605000000000004]
[70,{"$f":"B22","v":91.194999999999993},91.712500000000006,{"$f":"D22","v":92.23},91.08,91.557500000000005,92.034999999999997,90.935000000000002,91.232500000000002,91.53,null,0.11219558208236882,91.194999999999993,91.712500000000006,92.23,91.08,91.557500000000005,92.034999999999997,90.935000000000002,91.232500000000002,91.53]
[80,{"$f":"B23","v":92.094999999999999},92.342500000000001,{"$f":"D23","v":92.59},91.23,91.675000000000011,92.12,91.3,91.677500000000009,92.055000000000007,null,0.12822352237985007,92.094999999999999,92.342500000000001,92.59,91.23,91.675000000000011,92.12,91.3,91.677500000000009,92.055000000000007]
[90,91.77,91.694999999999993,{"$f":"D24","v":91.62},91.194999999999993,91.71,92.224999999999994,91.56,91.97,92.38,null,0.14425146267733133,91.77,91.694999999999993,91.62,91.194999999999993,91.71,92.224999999999994,91.56,91.97,92.38]
[]
[]
[]
[]
[]
[]
[null,null,null,null,null,null,null,null,null,null,null,{"$f":"L47","v":0},{"$f":"(M47-M$47)*$M$82*$M$83","v":0},{"$f":"(N47-N$47)*$M$82*$M$83","v":0},0,0,0,0,0,0,0]
[null,null,null,null,null,null,null,null,null,null,null,4.0069850743703148E-3,{"$f":"(M48-M$47)*$M$82*$M$83","v":14.432055555555541},11.758805555555588,9.0855555555555352,18.73022222222227,18.992305555555564,19.254388888888858,12.754722222222142,11.584083333333325,10.413444444444409]
[null,null,null,null,null,null,null,null,null,null,null,8.0139701487406297E-3,30.85594444444439,31.886805555555558,32.917666666666726,42.911777777777779,37.914722222222203,32.917666666666726,29.353333333333257,27.361499999999943,25.369666666666635]
[null,null,null,null,null,null,null,null,null,null,null,1.6027940297481259E-2,62.760222222222154,62.515611111111063,62.270999999999979,70.482944444444499,68.229027777777802,65.97511111111109,59.650166666666642,61.484749999999998,63.319333333333255]
[null,null,null,null,null,null,null,null,null,null,null,2.4041910446221886E-2,76.178888888888935,78.467750000000052,80.75661111111117,81.944722222222182,82.364055555555524,82.783388888888879,73.977388888888839,78.135777777777832,82.294166666666598]
[null,null,null,null,null,null,null,null,null,null,null,3.2055880594962519E-2,87.710555555555544,91.484555555555573,95.258555555555517,91.589388888888919,91.362250000000046,91.135111111111058,82.853277777777706,85.246972222222169,87.640666666666618]
[null,null,null,null,null,null,null,null,null,null,null,4.8083820892443771E-2,98.054111111111126,100.76230555555559,103.47050000000006,100.36044444444454,101.56602777777788,102.77161111111111,92.113555555555507,96.603916666666606,101.09427777777771]
[null,null,null,null,null,null,null,null,null,null,null,6.4111761189925037E-2,99.941111111111084,105.32255555555551,110.70400000000002,103.33072222222221,103.71511111111104,104.09949999999998,96.726222222222233,101.12922222222223,105.53222222222219]
[null,null,null,null,null,null,null,null,null,null,null,8.013970148740629E-2,105.81177777777769,111.24563888888882,116.67949999999996,103.33072222222221,104.62366666666665,105.91661111111112,96.691277777777742,102.43963888888889,108.18800000000002]
[null,null,null,null,null,null,null,null,null,null,null,9.6167641784887542E-2,107.41922222222226,108.4151388888889,109.41105555555555,103.22588888888896,105.91661111111112,108.60733333333327,97.529944444444439,102.38722222222225,107.24449999999999]
[null,null,null,null,null,null,null,null,null,null,null,0.11219558208236882,103.15599999999993,109.16644444444448,115.17688888888893,106.02144444444446,108.39766666666671,110.77388888888886,95.677888888888873,101.19911111111114,106.7203333333333]
[null,null,null,null,null,null,null,null,null,null,null,0.12822352237985007,109.44599999999997,113.56944444444444,117.6928888888889,107.06977777777782,109.2188611111112,111.36794444444446,98.228833333333284,104.30916666666674,110.38950000000001]
[null,null,null,null,null,null,null,null,null,null,null,0.14425146267733133,107.17461111111108,109.04413888888884,110.91366666666671,106.82516666666663,109.46347222222219,112.10177777777773,100.04594444444442,106.35341666666667,112.66088888888882]
[]
[]
[]
[null,null,null,null,null,null,null,null,null,null,null,"alpha",{"$f":"(5/9)*0.000017","v":9.4444444444444446E-6},"in/in/F"]
[null,null,null,null,null,null,null,null,null,null,null,"E-CMD",740000,"psi"]
[null,null,null,null,null,null,null,null,null,null,null,"t",2E-3]

{"sheet":"225 fpm","index":3,"n_rows":86,"n_cols":21,"rows_kept":86,"cut":false,"hidden":false,"merged":[]}
[]
[]
[]
["Line speed","225 fpm",null,null,null,null,"Line speed","225 fpm",null,null,null,null,"Line speed","225 fpm"]
["Delta T","~ 25 F",null,null,null,null,"Delta T","~ 25 F",null,null,null,null,"Delta T","~ 25 F"]
["Line Tension","1 pli",null,null,null,null,"Line Tension","2 pli",null,null,null,null,"Line Tension","3 pli"]
["Air and roller tempertures determined from readings taken over a ~9 minute span",null,null,null,null,null,"Air and roller tempertures determined from readings taken over a ~9 minute span",null,null,null,null,null,"Air and roller tempertures determined from readings taken over a ~9 minute span"]
["Material tempertures determined from readings taken over a 2.5minute span",null,null,null,null,null,"Material tempertures determined from readings taken over a 2.5minute span",null,null,null,null,null,"Material tempertures determined from readings taken over a 2.5minute span"]
[]
["Material Temp",null,null,null,{"$f":"AVERAGE(E12:E27)","v":72.181414772727265},{"$f":"AVERAGE(F12:F27)","v":92.417681818181819},"Material Temp",null,null,null,{"$f":"AVERAGE(K12:K27)","v":72.081954545454536},{"$f":"AVERAGE(L12:L27)","v":92.839232954545466},"Material Temp",null,null,null,{"$f":"AVERAGE(Q12:Q27)","v":72.438590909090905},{"$f":"AVERAGE(R12:R27)","v":92.959073863636377}]
["Angular Position","Avg 2.50\" Left","Avg of R&L","Avg 2.50\" Right","Avg Air Temp","Avg Roller Temp",null,"Avg 2.50\" Left","Avg of R&L","Avg 2.50\" Right","Avg Air Temp","Avg Roller Temp",null,"Avg 2.50\" Left","Avg of R&L","Avg 2.50\" Right","Avg Air Temp","Avg Roller Temp"]
[{"$f":"AVERAGE('225_JULY'!A12,'225_AUG'!A12)","v":0},{"$f":"AVERAGE('225_JULY'!B12,'225_AUG'!B12)","v":76.545000000000002},{"$f":"AVERAGE(B12,D12)","v":76.137500000000003},{"$f":"AVERAGE('225_JULY'!D12,'225_AUG'!D12)","v":75.73},{"$f":"AVERAGE('225_JULY'!E12,'225_AUG'!E12)","v":72.383636363636327},{"$f":"AVERAGE('225_JULY'!F12,'225_AUG'!F12)","v":93.460090909090866},{"$f":"AVERAGE('225_JULY'!G12,'225_AUG'!G12)","v":0},{"$f":"AVERAGE('225_JULY'!H12,'225_AUG'!H12)","v":75.825000000000003},{"$f":"AVERAGE(H12,J12)","v":75.435000000000002},{"$f":"AVERAGE('225_JULY'!J12,'225_AUG'!J12)","v":75.045000000000002},{"$f":"AVERAGE('225_JULY'!K12,'225_AUG'!K12)","v":70.62136363636364},{"$f":"AVERAGE('225_JULY'!L12,'225_AUG'!L12)","v":93.010000000000076},{"$f":"AVERAGE('225_JULY'!M12,'225_AUG'!M12)","v":0},{"$f":"AVERAGE('225_JULY'!N12,'225_AUG'!N12)","v":76.234999999999999},{"$f":"AVERAGE(N12,P12)","v":75.942499999999995},{"$f":"AVERAGE('225_JULY'!P12,'225_AUG'!P12)","v":75.650000000000006},{"$f":"AVERAGE('225_JULY'!Q12,'225_AUG'!Q12)","v":71.25745454545455},{"$f":"AVERAGE('225_JULY'!R12,'225_AUG'!R12)","v":93.146000000000015}]
[{"$f":"AVERAGE('225_JULY'!A13,'225_AUG'!A13)","v":2.5},{"$f":"AVERAGE('225_AUG'!B13)","v":76.11},{"$f":"AVERAGE(B13,D13)","v":76.16},{"$f":"AVERAGE('225_AUG'!D13)","v":76.209999999999994},{"$f":"AVERAGE('225_AUG'!E13)","v":72.760545454545365},{"$f":"AVERAGE('225_AUG'!F13)","v":91.976181818181843},{"$f":"AVERAGE('225_JULY'!G13,'225_AUG'!G13)","v":2.5},{"$f":"AVERAGE('225_AUG'!H13)","v":77.78},{"$f":"AVERAGE(H13,J13)","v":77.42},{"$f":"AVERAGE('225_AUG'!J13)","v":77.06},{"$f":"AVERAGE('225_AUG'!K13)","v":72.465272727272705},{"$f":"AVERAGE('225_AUG'!L13)","v":92.72381818181826},{"$f":"AVERAGE('225_JULY'!M13,'225_AUG'!M13)","v":2.5},{"$f":"AVERAGE('225_AUG'!N13)","v":77.88},{"$f":"AVERAGE(N13,P13)","v":77.914999999999992},{"$f":"AVERAGE('225_AUG'!P13)","v":77.95},{"$f":"AVERAGE('225_AUG'!Q13)","v":73.804545454545419},{"$f":"AVERAGE('225_AUG'!R13)","v":92.644727272727394}]
[{"$f":"AVERAGE('225_JULY'!A14,'225_AUG'!A14)","v":5},{"$f":"AVERAGE('225_JULY'!B14,'225_AUG'!B14)","v":78.724999999999994},{"$f":"AVERAGE(B14,D14)","v":78.352499999999992},{"$f":"AVERAGE('225_JULY'!D14,'225_AUG'!D14)","v":77.97999999999999},{"$f":"AVERAGE('225_JULY'!E14,'225_AUG'!E14)","v":72.745636363636464},{"$f":"AVERAGE('225_JULY'!F14,'225_AUG'!F14)","v":92.823181818181808},{"$f":"AVERAGE('225_JULY'!G14,'225_AUG'!G14)","v":5},{"$f":"AVERAGE('225_JULY'!H14,'225_AUG'!H14)","v":79.405000000000001},{"$f":"AVERAGE(H14,J14)","v":79.305000000000007},{"$f":"AVERAGE('225_JULY'!J14,'225_AUG'!J14)","v":79.204999999999998},{"$f":"AVERAGE('225_JULY'!K14,'225_AUG'!K14)","v":73.739909090909038},{"$f":"AVERAGE('225_JULY'!L14,'225_AUG'!L14)","v":92.656090909090778},{"$f":"AVERAGE('225_JULY'!M14,'225_AUG'!M14)","v":5},{"$f":"AVERAGE('225_JULY'!N14,'225_AUG'!N14)","v":79.099999999999994},{"$f":"AVERAGE(N14,P14)","v":78.664999999999992},{"$f":"AVERAGE('225_JULY'!P14,'225_AUG'!P14)","v":78.22999999999999},{"$f":"AVERAGE('225_JULY'!Q14,'225_AUG'!Q14)","v":72.316545454545434},{"$f":"AVERAGE('225_JULY'!R14,'225_AUG'!R14)","v":92.737454545454568}]
[{"$f":"AVERAGE('225_JULY'!A15,'225_AUG'!A15)","v":10},{"$f":"AVERAGE('225_JULY'!B15,'225_AUG'!B15)","v":82.155000000000001},81.84,{"$f":"AVERAGE('225_JULY'!D15,'225_AUG'!D15)","v":81.525000000000006},{"$f":"AVERAGE('225_JULY'!E15,'225_AUG'!E15)","v":70.53100000000002},{"$f":"AVERAGE('225_JULY'!F15,'225_AUG'!F15)","v":92.154363636363712},{"$f":"AVERAGE('225_JULY'!G15,'225_AUG'!G15)","v":10},{"$f":"AVERAGE('225_JULY'!H15,'225_AUG'!H15)","v":83.075000000000003},82.32,{"$f":"AVERAGE('225_JULY'!J15,'225_AUG'!J15)","v":81.564999999999998},{"$f":"AVERAGE('225_JULY'!K15,'225_AUG'!K15)","v":71.552545454545466},{"$f":"AVERAGE('225_JULY'!L15,'225_AUG'!L15)","v":93.007090909090863},{"$f":"AVERAGE('225_JULY'!M15,'225_AUG'!M15)","v":10},{"$f":"AVERAGE('225_JULY'!N15,'225_AUG'!N15)","v":82.72},82.412499999999994,{"$f":"AVERAGE('225_JULY'!P15,'225_AUG'!P15)","v":82.10499999999999},{"$f":"AVERAGE('225_JULY'!Q15,'225_AUG'!Q15)","v":72.554363636363718},{"$f":"AVERAGE('225_JULY'!R15,'225_AUG'!R15)","v":93.038272727272783}]
[{"$f":"AVERAGE('225_JULY'!A16,'225_AUG'!A16)","v":15},{"$f":"AVERAGE('225_JULY'!B16,'225_AUG'!B16)","v":84.215000000000003},83.9,{"$f":"AVERAGE('225_JULY'!D16,'225_AUG'!D16)","v":83.584999999999994},{"$f":"AVERAGE('225_JULY'!E16,'225_AUG'!E16)","v":71.189727272727268},{"$f":"AVERAGE('225_JULY'!F16,'225_AUG'!F16)","v":92.091181818181866},{"$f":"AVERAGE('225_JULY'!G16,'225_AUG'!G16)","v":15},{"$f":"AVERAGE('225_JULY'!H16,'225_AUG'!H16)","v":83.889999999999986},83.872500000000002,{"$f":"AVERAGE('225_JULY'!J16,'225_AUG'!J16)","v":83.855000000000004},{"$f":"AVERAGE('225_JULY'!K16,'225_AUG'!K16)","v":70.425181818181812},{"$f":"AVERAGE('225_JULY'!L16,'225_AUG'!L16)","v":93.292636363636277},{"$f":"AVERAGE('225_JULY'!M16,'225_AUG'!M16)","v":15},{"$f":"AVERAGE('225_JULY'!N16,'225_AUG'!N16)","v":85.004999999999995},84.724999999999994,{"$f":"AVERAGE('225_JULY'!P16,'225_AUG'!P16)","v":84.444999999999993},{"$f":"AVERAGE('225_JULY'!Q16,'225_AUG'!Q16)","v":72.440727272727202},{"$f":"AVERAGE('225_JULY'!R16,'225_AUG'!R16)","v":92.833090909090885}]
[{"$f":"AVERAGE('225_JULY'!A17,'225_AUG'!A17)","v":20},{"$f":"AVERAGE('225_JULY'!B17,'225_AUG'!B17)","v":85.210000000000008},85.212500000000006,{"$f":"AVERAGE('225_JULY'!D17,'225_AUG'!D17)","v":85.215000000000003},{"$f":"AVERAGE('225_JULY'!E17,'225_AUG'!E17)","v":72.902454545454532},{"$f":"AVERAGE('225_JULY'!F17,'225_AUG'!F17)","v":91.544090909090897},{"$f":"AVERAGE('225_JULY'!G17,'225_AUG'!G17)","v":20},{"$f":"AVERAGE('225_JULY'!H17,'225_AUG'!H17)","v":85.794999999999987},85.82,{"$f":"AVERAGE('225_JULY'!J17,'225_AUG'!J17)","v":85.844999999999999},{"$f":"AVERAGE('225_JULY'!K17,'225_AUG'!K17)","v":72.783363636363589},{"$f":"AVERAGE('225_JULY'!L17,'225_AUG'!L17)","v":92.575181818181818},{"$f":"AVERAGE('225_JULY'!M17,'225_AUG'!M17)","v":20},{"$f":"AVERAGE('225_JULY'!N17,'225_AUG'!N17)","v":86.634999999999991},86.367499999999993,{"$f":"AVERAGE('225_JULY'!P17,'225_AUG'!P17)","v":86.1},{"$f":"AVERAGE('225_JULY'!Q17,'225_AUG'!Q17)","v":72.244545454545474},{"$f":"AVERAGE('225_JULY'!R17,'225_AUG'!R17)","v":93.118090909090967}]
[{"$f":"AVERAGE('225_JULY'!A18,'225_AUG'!A18)","v":30},{"$f":"AVERAGE('225_JULY'!B18,'225_AUG'!B18)","v":87.174999999999997},87.58,{"$f":"AVERAGE('225_JULY'!D18,'225_AUG'!D18)","v":87.984999999999999},{"$f":"AVERAGE('225_JULY'!E18,'225_AUG'!E18)","v":72.734909090909156},{"$f":"AVERAGE('225_JULY'!F18,'225_AUG'!F18)","v":91.786454545454546},{"$f":"AVERAGE('225_JULY'!G18,'225_AUG'!G18)","v":30},{"$f":"AVERAGE('225_JULY'!H18,'225_AUG'!H18)","v":88.28},88.267499999999998,{"$f":"AVERAGE('225_JULY'!J18,'225_AUG'!J18)","v":88.254999999999995},{"$f":"AVERAGE('225_JULY'!K18,'225_AUG'!K18)","v":73.422272727272741},{"$f":"AVERAGE('225_JULY'!L18,'225_AUG'!L18)","v":92.7024545454546},{"$f":"AVERAGE('225_JULY'!M18,'225_AUG'!M18)","v":30},{"$f":"AVERAGE('225_JULY'!N18,'225_AUG'!N18)","v":88.98},88.727499999999992,{"$f":"AVERAGE('225_JULY'!P18,'225_AUG'!P18)","v":88.474999999999994},{"$f":"AVERAGE('225_JULY'!Q18,'225_AUG'!Q18)","v":72.046727272727225},{"$f":"AVERAGE('225_JULY'!R18,'225_AUG'!R18)","v":93.236181818181905}]
[{"$f":"AVERAGE('225_JULY'!A19,'225_AUG'!A19)","v":40},{"$f":"AVERAGE('225_JULY'!B19,'225_AUG'!B19)","v":88.204999999999998},88.704999999999998,{"$f":"AVERAGE('225_JULY'!D19,'225_AUG'!D19)","v":89.204999999999998},{"$f":"AVERAGE('225_JULY'!E19,'225_AUG'!E19)","v":71.51318181818192},{"$f":"AVERAGE('225_JULY'!F19,'225_AUG'!F19)","v":92.556727272727343},{"$f":"AVERAGE('225_JULY'!G19,'225_AUG'!G19)","v":40},{"$f":"AVERAGE('225_JULY'!H19,'225_AUG'!H19)","v":88.46},88.59,{"$f":"AVERAGE('225_JULY'!J19,'225_AUG'!J19)","v":88.72},{"$f":"AVERAGE('225_JULY'!K19,'225_AUG'!K19)","v":71.289363636363646},{"$f":"AVERAGE('225_JULY'!L19,'225_AUG'!L19)","v":92.520000000000095},{"$f":"AVERAGE('225_JULY'!M19,'225_AUG'!M19)","v":40},{"$f":"AVERAGE('225_JULY'!N19,'225_AUG'!N19)","v":89.49},89.547499999999985,{"$f":"AVERAGE('225_JULY'!P19,'225_AUG'!P19)","v":89.60499999999999},{"$f":"AVERAGE('225_JULY'!Q19,'225_AUG'!Q19)","v":72.315818181818258},{"$f":"AVERAGE('225_JULY'!R19,'225_AUG'!R19)","v":92.874636363636426}]
[{"$f":"AVERAGE('225_JULY'!A20,'225_AUG'!A20)","v":50},{"$f":"AVERAGE('225_JULY'!B20,'225_AUG'!B20)","v":89.13},89.614999999999995,{"$f":"AVERAGE('225_JULY'!D20,'225_AUG'!D20)","v":90.1},{"$f":"AVERAGE('225_JULY'!E20,'225_AUG'!E20)","v":72.797545454545457},{"$f":"AVERAGE('225_JULY'!F20,'225_AUG'!F20)","v":92.255090909090981},{"$f":"AVERAGE('225_JULY'!G20,'225_AUG'!G20)","v":50},{"$f":"AVERAGE('225_JULY'!H20,'225_AUG'!H20)","v":89.63},89.734999999999999,{"$f":"AVERAGE('225_JULY'!J20,'225_AUG'!J20)","v":89.84},{"$f":"AVERAGE('225_JULY'!K20,'225_AUG'!K20)","v":72.748636363636336},{"$f":"AVERAGE('225_JULY'!L20,'225_AUG'!L20)","v":92.754454545454564},{"$f":"AVERAGE('225_JULY'!M20,'225_AUG'!M20)","v":50},{"$f":"AVERAGE('225_JULY'!N20,'225_AUG'!N20)","v":90.18},90.16,{"$f":"AVERAGE('225_JULY'!P20,'225_AUG'!P20)","v":90.139999999999986},{"$f":"AVERAGE('225_JULY'!Q20,'225_AUG'!Q20)","v":72.734090909090867},{"$f":"AVERAGE('225_JULY'!R20,'225_AUG'!R20)","v":93.065727272727315}]
[{"$f":"AVERAGE('225_JULY'!A21,'225_AUG'!A21)","v":60},{"$f":"AVERAGE('225_JULY'!B21,'225_AUG'!B21)","v":89.544999999999987},89.919999999999987,{"$f":"AVERAGE('225_JULY'!D21,'225_AUG'!D21)","v":90.295000000000002},{"$f":"AVERAGE('225_JULY'!E21,'225_AUG'!E21)","v":73.274545454545432},{"$f":"AVERAGE('225_JULY'!F21,'225_AUG'!F21)","v":92.012272727272645},{"$f":"AVERAGE('225_JULY'!G21,'225_AUG'!G21)","v":60},{"$f":"AVERAGE('225_JULY'!H21,'225_AUG'!H21)","v":89.85499999999999},90.117499999999993,{"$f":"AVERAGE('225_JULY'!J21,'225_AUG'!J21)","v":90.38},{"$f":"AVERAGE('225_JULY'!K21,'225_AUG'!K21)","v":72.195545454545481},{"$f":"AVERAGE('225_JULY'!L21,'225_AUG'!L21)","v":92.896636363636389},{"$f":"AVERAGE('225_JULY'!M21,'225_AUG'!M21)","v":60},{"$f":"AVERAGE('225_JULY'!N21,'225_AUG'!N21)","v":89.914999999999992},90.112499999999997,{"$f":"AVERAGE('225_JULY'!P21,'225_AUG'!P21)","v":90.31},{"$f":"AVERAGE('225_JULY'!Q21,'225_AUG'!Q21)","v":72.434727272727343},{"$f":"AVERAGE('225_JULY'!R21,'225_AUG'!R21)","v":92.966818181818212}]
[{"$f":"AVERAGE('225_JULY'!A22,'225_AUG'!A22)","v":70},{"$f":"AVERAGE('225_JULY'!B22,'225_AUG'!B22)","v":90.13},90.532499999999999,{"$f":"AVERAGE('225_JULY'!D22,'225_AUG'!D22)","v":90.935000000000002},{"$f":"AVERAGE('225_JULY'!E22,'225_AUG'!E22)","v":72.733272727272748},{"$f":"AVERAGE('225_JULY'!F22,'225_AUG'!F22)","v":92.172090909090912},{"$f":"AVERAGE('225_JULY'!G22,'225_AUG'!G22)","v":70},{"$f":"AVERAGE('225_JULY'!H22,'225_AUG'!H22)","v":89.745000000000005},90.027500000000003,{"$f":"AVERAGE('225_JULY'!J22,'225_AUG'!J22)","v":90.31},{"$f":"AVERAGE('225_JULY'!K22,'225_AUG'!K22)","v":71.54945454545441},{"$f":"AVERAGE('225_JULY'!L22,'225_AUG'!L22)","v":92.789999999999964},{"$f":"AVERAGE('225_JULY'!M22,'225_AUG'!M22)","v":70},{"$f":"AVERAGE('225_JULY'!N22,'225_AUG'!N22)","v":90.025000000000006},90.362500000000011,{"$f":"AVERAGE('225_JULY'!P22,'225_AUG'!P22)","v":90.7},{"$f":"AVERAGE('225_JULY'!Q22,'225_AUG'!Q22)","v":72.044363636363556},{"$f":"AVERAGE('225_JULY'!R22,'225_AUG'!R22)","v":92.995909090909009}]
[{"$f":"AVERAGE('225_JULY'!A23,'225_AUG'!A23)","v":80},{"$f":"AVERAGE('225_JULY'!B23,'225_AUG'!B23)","v":90.31},90.342500000000001,{"$f":"AVERAGE('225_JULY'!D23,'225_AUG'!D23)","v":90.375},{"$f":"AVERAGE('225_JULY'!E23,'225_AUG'!E23)","v":70.615000000000123},{"$f":"AVERAGE('225_JULY'!F23,'225_AUG'!F23)","v":92.773272727272698},{"$f":"AVERAGE('225_JULY'!G23,'225_AUG'!G23)","v":80},{"$f":"AVERAGE('225_JULY'!H23,'225_AUG'!H23)","v":90.19},90.259999999999991,{"$f":"AVERAGE('225_JULY'!J23,'225_AUG'!J23)","v":90.33},{"$f":"AVERAGE('225_JULY'!K23,'225_AUG'!K23)","v":72.805454545454552},{"$f":"AVERAGE('225_JULY'!L23,'225_AUG'!L23)","v":92.757727272727351},{"$f":"AVERAGE('225_JULY'!M23,'225_AUG'!M23)","v":80},{"$f":"AVERAGE('225_JULY'!N23,'225_AUG'!N23)","v":90.4},90.492500000000007,{"$f":"AVERAGE('225_JULY'!P23,'225_AUG'!P23)","v":90.585000000000008},{"$f":"AVERAGE('225_JULY'!Q23,'225_AUG'!Q23)","v":72.682272727272718},{"$f":"AVERAGE('225_JULY'!R23,'225_AUG'!R23)","v":92.819454545454619}]
[{"$f":"AVERAGE('225_JULY'!A24,'225_AUG'!A24)","v":90},{"$f":"AVERAGE('225_JULY'!B24,'225_AUG'!B24)","v":89.435000000000002},89.82,{"$f":"AVERAGE('225_JULY'!D24,'225_AUG'!D24)","v":90.204999999999998},{"$f":"AVERAGE('225_JULY'!E24,'225_AUG'!E24)","v":72.947727272727221},{"$f":"AVERAGE('225_JULY'!F24,'225_AUG'!F24)","v":91.798090909090888},{"$f":"AVERAGE('225_JULY'!G24,'225_AUG'!G24)","v":90},{"$f":"AVERAGE('225_JULY'!H24,'225_AUG'!H24)","v":90.22},90.4,{"$f":"AVERAGE('225_JULY'!J24,'225_AUG'!J24)","v":90.580000000000013},{"$f":"AVERAGE('225_JULY'!K24,'225_AUG'!K24)","v":72.311090909090879},{"$f":"AVERAGE('225_JULY'!L24,'225_AUG'!L24)","v":92.864727272727279},{"$f":"AVERAGE('225_JULY'!M24,'225_AUG'!M24)","v":90},{"$f":"AVERAGE('225_JULY'!N24,'225_AUG'!N24)","v":90.69},90.962500000000006,{"$f":"AVERAGE('225_JULY'!P24,'225_AUG'!P24)","v":91.234999999999999},{"$f":"AVERAGE('225_JULY'!Q24,'225_AUG'!Q24)","v":72.649090909090887},{"$f":"AVERAGE('225_JULY'!R24,'225_AUG'!R24)","v":93.229363636363615}]
[{"$f":"AVERAGE('225_JULY'!A25,'225_AUG'!A25)","v":100},{"$f":"AVERAGE('225_JULY'!B25,'225_AUG'!B25)","v":90.07},90.38,{"$f":"AVERAGE('225_JULY'!D25,'225_AUG'!D25)","v":90.69},{"$f":"AVERAGE('225_AUG'!E25)","v":73.911818181818148},{"$f":"AVERAGE('225_AUG'!F25)","v":92.770363636363541},{"$f":"AVERAGE('225_JULY'!G25,'225_AUG'!G25)","v":100},{"$f":"AVERAGE('225_JULY'!H25,'225_AUG'!H25)","v":90.36},90.585000000000008,{"$f":"AVERAGE('225_JULY'!J25,'225_AUG'!J25)","v":90.81},{"$f":"AVERAGE('225_JULY'!K25,'225_AUG'!K25)","v":71.329636363636283},{"$f":"AVERAGE('225_JULY'!L25,'225_AUG'!L25)","v":93.293636363636381},{"$f":"AVERAGE('225_JULY'!M25,'225_AUG'!M25)","v":100},{"$f":"AVERAGE('225_JULY'!N25,'225_AUG'!N25)","v":90.19},90.405000000000001,{"$f":"AVERAGE('225_JULY'!P25,'225_AUG'!P25)","v":90.62},{"$f":"AVERAGE('225_JULY'!Q25,'225_AUG'!Q25)","v":73.700727272727335},{"$f":"AVERAGE('225_JULY'!R25,'225_AUG'!R25)","v":92.702363636363643}]
[{"$f":"AVERAGE('225_JULY'!A26,'225_AUG'!A26)","v":110},{"$f":"AVERAGE('225_JULY'!B26,'225_AUG'!B26)","v":90.12},90.077500000000001,{"$f":"AVERAGE('225_JULY'!D26,'225_AUG'!D26)","v":90.034999999999997},{"$f":"AVERAGE('225_AUG'!E26)","v":69.972545454545298},{"$f":"AVERAGE('225_AUG'!F26)","v":93.542909090909106},{"$f":"AVERAGE('225_JULY'!G26,'225_AUG'!G26)","v":110},{"$f":"AVERAGE('225_JULY'!H26,'225_AUG'!H26)","v":89.59},89.784999999999997,{"$f":"AVERAGE('225_JULY'!J26,'225_AUG'!J26)","v":89.98},{"$f":"AVERAGE('225_JULY'!K26,'225_AUG'!K26)","v":70.78672727272729},{"$f":"AVERAGE('225_JULY'!L26,'225_AUG'!L26)","v":92.726363636363686},{"$f":"AVERAGE('225_JULY'!M26,'225_AUG'!M26)","v":110},{"$f":"AVERAGE('225_JULY'!N26,'225_AUG'!N26)","v":90.52},90.544999999999987,{"$f":"AVERAGE('225_JULY'!P26,'225_AUG'!P26)","v":90.57},{"$f":"AVERAGE('225_JULY'!Q26,'225_AUG'!Q26)","v":73.023454545454527},{"$f":"AVERAGE('225_JULY'!R26,'225_AUG'!R26)","v":92.726363636363445}]
[{"$f":"AVERAGE('225_JULY'!A27,'225_AUG'!A27)","v":120},{"$f":"AVERAGE('225_JULY'!B27,'225_AUG'!B27)","v":89.92},89.97,{"$f":"AVERAGE('225_JULY'!D27,'225_AUG'!D27)","v":90.02},{"$f":"AVERAGE('225_JULY'!E27,'225_AUG'!E27)","v":71.889090909090783},{"$f":"AVERAGE('225_JULY'!F27,'225_AUG'!F27)","v":92.966545454545525},{"$f":"AVERAGE('225_JULY'!G27,'225_AUG'!G27)","v":120},{"$f":"AVERAGE('225_JULY'!H27,'225_AUG'!H27)","v":90.03},90.31,{"$f":"AVERAGE('225_JULY'!J27,'225_AUG'!J27)","v":90.59},{"$f":"AVERAGE('225_JULY'!K27,'225_AUG'!K27)","v":73.285454545454485},{"$f":"AVERAGE('225_JULY'!L27,'225_AUG'!L27)","v":92.856909090909085},{"$f":"AVERAGE('225_JULY'!M27,'225_AUG'!M27)","v":120},{"$f":"AVERAGE('225_JULY'!N27,'225_AUG'!N27)","v":90.14},90.435000000000002,{"$f":"AVERAGE('225_JULY'!P27,'225_AUG'!P27)","v":90.73},{"$f":"AVERAGE('225_JULY'!Q27,'225_AUG'!Q27)","v":70.767999999999958},{"$f":"AVERAGE('225_JULY'!R27,'225_AUG'!R27)","v":93.210727272727311}]
[]
[]
[]
[]
[]
[]
[]
[]
[]
[]
[]
[]
[]
[]
[]
[]
[]
[]
[]
[]
[null,"1 PLI-2.5 Lt","1 PLI-AVG","1 PLI-2.5 Rt","2 PLI-2.5 Lt","2 PLI-AVG","2 PLI-2.5 Rt","3 PLI-2.5 Lt","3 PLI-AVG","3 PLI-2.5 Rt","dist","time",{"$f":"B48","v":"1 PLI-2.5 Lt"},{"$f":"C48","v":"1 PLI-AVG"},{"$f":"D48","v":"1 PLI-2.5 Rt"},{"$f":"E48","v":"2 PLI-2.5 Lt"},{"$f":"F48","v":"2 PLI-AVG"},{"$f":"G48","v":"2 PLI-2.5 Rt"},{"$f":"H48","v":"3 PLI-2.5 Lt"},{"$f":"I48","v":"3 PLI-AVG"},{"$f":"J48","v":"3 PLI-2.5 Rt"}]
[{"$f":"A12","v":0},{"$f":"B12","v":76.545000000000002},{"$f":"C12","v":76.137500000000003},{"$f":"D12","v":75.73},{"$f":"H12","v":75.825000000000003},{"$f":"I12","v":75.435000000000002},75.045000000000002,{"$f":"N12","v":76.234999999999999},{"$f":"O12","v":75.942499999999995},75.650000000000006,{"$f":"$A49*5.51*PI()/360","v":0},{"$f":"A49*PI()*(5.51/2)/(180*45)","v":0},76.545000000000002,76.137500000000003,75.73,75.825000000000003,75.435000000000002,75.045000000000002,76.234999999999999,75.942499999999995,75.650000000000006]
[{"$f":"A13","v":2.5},{"$f":"B13","v":76.11},76.16,76.209999999999994,{"$f":"H13","v":77.78},{"$f":"I13","v":77.42},{"$f":"J13","v":77.06},{"$f":"N13","v":77.88},{"$f":"O13","v":77.914999999999992},{"$f":"P13","v":77.95},0.12020955223110942,2.6713233829135431E-3,76.11,76.16,76.209999999999994,77.78,77.42,77.06,77.88,77.914999999999992,77.95]
[5,{"$f":"B14","v":78.724999999999994},78.352499999999992,77.97999999999999,79.405000000000001,79.305000000000007,79.204999999999998,79.099999999999994,78.664999999999992,78.22999999999999,0.24041910446221884,5.3426467658270861E-3,78.724999999999994,78.352499999999992,77.97999999999999,79.405000000000001,79.305000000000007,79.204999999999998,79.099999999999994,78.664999999999992,78.22999999999999]
[10,{"$f":"B15","v":82.155000000000001},81.84,81.525000000000006,83.075000000000003,82.32,81.564999999999998,82.72,82.412499999999994,82.10499999999999,0.48083820892443768,1.0685293531654172E-2,82.155000000000001,81.84,81.525000000000006,83.075000000000003,82.32,81.564999999999998,82.72,82.412499999999994,82.10499999999999]
[15,{"$f":"B16","v":84.215000000000003},83.9,83.584999999999994,83.889999999999986,83.872500000000002,83.855000000000004,85.004999999999995,84.724999999999994,84.444999999999993,0.72125731338665655,1.6027940297481256E-2,84.215000000000003,83.9,83.584999999999994,83.889999999999986,83.872500000000002,83.855000000000004,85.004999999999995,84.724999999999994,84.444999999999993]
[20,{"$f":"B17","v":85.210000000000008},85.212500000000006,85.215000000000003,85.794999999999987,85.82,85.844999999999999,86.634999999999991,86.367499999999993,86.1,0.96167641784887536,2.1370587063308345E-2,85.210000000000008,85.212500000000006,85.215000000000003,85.794999999999987,85.82,85.844999999999999,86.634999999999991,86.367499999999993,86.1]
[30,{"$f":"B18","v":87.174999999999997},87.58,87.984999999999999,88.28,88.267499999999998,88.254999999999995,88.98,88.727499999999992,88.474999999999994,1.4425146267733131,3.2055880594962512E-2,87.174999999999997,87.58,87.984999999999999,88.28,88.267499999999998,88.254999999999995,88.98,88.727499999999992,88.474999999999994]
[40,{"$f":"B19","v":88.204999999999998},88.704999999999998,89.204999999999998,88.46,88.59,88.72,89.49,89.547499999999985,89.60499999999999,1.9233528356977507,4.2741174126616689E-2,88.204999999999998,88.704999999999998,89.204999999999998,88.46,88.59,88.72,89.49,89.547499999999985,89.60499999999999]
[50,{"$f":"B20","v":89.13},89.614999999999995,90.1,89.63,89.734999999999999,89.84,90.18,90.16,90.139999999999986,2.4041910446221886,5.342646765827086E-2,89.13,89.614999999999995,90.1,89.63,89.734999999999999,89.84,90.18,90.16,90.139999999999986]
[60,{"$f":"B21","v":89.544999999999987},89.919999999999987,90.295000000000002,89.85499999999999,90.117499999999993,90.38,89.914999999999992,90.112499999999997,90.31,2.8850292535466262,6.4111761189925023E-2,89.544999999999987,89.919999999999987,90.295000000000002,89.85499999999999,90.117499999999993,90.38,89.914999999999992,90.112499999999997,90.31]
[70,{"$f":"B22","v":90.13},90.532499999999999,90.935000000000002,89.745000000000005,90.027500000000003,90.31,90.025000000000006,90.362500000000011,90.7,3.3658674624710647,7.4797054721579215E-2,90.13,90.532499999999999,90.935000000000002,89.745000000000005,90.027500000000003,90.31,90.025000000000006,90.362500000000011,90.7]
[80,{"$f":"B23","v":90.31},90.342500000000001,90.375,90.19,90.259999999999991,90.33,90.4,90.492500000000007,90.585000000000008,3.8467056713955015,8.5482348253233378E-2,90.31,90.342500000000001,90.375,90.19,90.259999999999991,90.33,90.4,90.492500000000007,90.585000000000008]
[90,{"$f":"B24","v":89.435000000000002},89.82,90.204999999999998,90.22,90.4,90.580000000000013,90.69,90.962500000000006,91.234999999999999,4.32754388031994,9.6167641784887556E-2,89.435000000000002,89.82,90.204999999999998,90.22,90.4,90.580000000000013,90.69,90.962500000000006,91.234999999999999]
[100,{"$f":"B25","v":90.07},90.38,90.69,90.36,90.585000000000008,90.81,90.19,90.405000000000001,90.62,4.8083820892443772,0.10685293531654172,90.07,90.38,90.69,90.36,90.585000000000008,90.81,90.19,90.405000000000001,90.62]
[110,{"$f":"B26","v":90.12},90.077500000000001,90.034999999999997,89.59,89.784999999999997,89.98,90.52,90.544999999999987,90.57,5.2892202981688161,0.11753822884819591,90.12,90.077500000000001,90.034999999999997,89.59,89.784999999999997,89.98,90.52,90.544999999999987,90.57]
[120,{"$f":"B27","v":89.92},89.97,90.02,90.03,90.31,90.59,90.14,90.435000000000002,90.73,5.7700585070932524,0.12822352237985005,89.92,89.97,90.02,90.03,90.31,90.59,90.14,90.435000000000002,90.73]
[]
[null,null,null,null,null,null,null,null,null,null,"cicumference",{"$f":"PI()*5.51/2","v":8.6550877606398799}]
[]
[null,null,null,null,null,null,null,null,null,null,null,{"$f":"L49","v":0},{"$f":"(M49-M$49)*$M$85*$M$86","v":0},0,0,0,0,0,0,0,0]
[null,null,null,null,null,null,null,null,null,null,null,2.6713233829135431E-3,{"$f":"(M50-M$49)*$M$85*$M$86","v":-3.0401666666666824},0.15724999999995631,3.3546666666665956,13.663277777777765,13.872944444444441,14.082611111111115,11.496722222222195,13.785583333333308,16.074444444444424]
[null,null,null,null,null,null,null,null,null,null,null,5.3426467658270861E-3,{"$f":"(M51-M$49)*$M$85*$M$86","v":15.235777777777725},15.480388888888813,15.7249999999999,25.020222222222209,27.047000000000029,29.073777777777757,20.023166666666629,19.027249999999977,18.031333333333222]
[null,null,null,null,null,null,null,null,null,null,null,1.0685293531654172E-2,{"$f":"(M52-M$49)*$M$85*$M$86","v":39.207666666666668},39.854138888888897,40.500611111111127,50.669444444444444,48.118499999999933,45.567555555555529,45.322944444444445,45.218111111111099,45.113277777777668]
[null,null,null,null,null,null,null,null,null,null,null,1.6027940297481256E-2,{"$f":"(M53-M$49)*$M$85*$M$86","v":53.604777777777784},54.25125000000002,54.897722222222157,56.365388888888781,58.968750000000007,61.572111111111127,61.292555555555531,61.379916666666659,61.467277777777689]
[null,null,null,null,null,null,null,null,null,null,null,2.1370587063308345E-2,{"$f":"(M54-M$49)*$M$85*$M$86","v":60.558722222222272},63.424166666666686,66.2896111111111,69.679222222222108,72.579611111111049,75.479999999999976,72.684444444444395,72.859166666666653,73.033888888888811]
[null,null,null,null,null,null,null,null,null,null,null,3.2055880594962512E-2,{"$f":"(M55-M$49)*$M$85*$M$86","v":74.291888888888849},79.970361111111075,85.6488333333333,87.046611111111091,89.684916666666638,92.323222222222171,89.073388888888928,89.352944444444418,89.632499999999922]
[null,null,null,null,null,null,null,null,null,null,null,4.2741174126616689E-2,{"$f":"(M56-M$49)*$M$85*$M$86","v":81.490444444444421},87.832861111111086,94.175277777777737,88.304611111111043,91.938833333333335,95.573055555555541,92.637722222222195,95.08383333333326,97.52994444444434]
[null,null,null,null,null,null,null,null,null,null,null,5.342646765827086E-2,{"$f":"(M57-M$49)*$M$85*$M$86","v":87.955166666666628},94.192749999999933,100.43033333333328,96.48161111111105,99.941111111111084,103.40061111111112,97.460055555555599,99.364527777777795,101.26899999999988]
[null,null,null,null,null,null,null,null,null,null,null,6.4111761189925023E-2,{"$f":"(M58-M$49)*$M$85*$M$86","v":90.855555555555455},96.324361111111003,101.79316666666665,98.054111111111027,102.61436111111104,107.17461111111108,95.607999999999961,99.032555555555575,102.45711111111109]
[null,null,null,null,null,null,null,null,null,null,null,7.4797054721579215E-2,{"$f":"(M59-M$49)*$M$85*$M$86","v":94.944055555555508},100.60505555555552,106.26605555555554,97.285333333333341,101.98536111111112,106.68538888888889,96.376777777777818,100.77977777777789,105.18277777777776]
[null,null,null,null,null,null,null,null,null,null,null,8.5482348253233378E-2,{"$f":"(M60-M$49)*$M$85*$M$86","v":96.20205555555556},99.277166666666659,102.35227777777776,100.39538888888886,103.61027777777771,106.82516666666663,98.997611111111155,101.6883333333334,104.37905555555557]
[null,null,null,null,null,null,null,null,null,null,null,9.6167641784887556E-2,{"$f":"(M61-M$49)*$M$85*$M$86","v":90.086777777777783},95.625472222222157,101.16416666666662,100.60505555555552,104.58872222222224,108.57238888888898,101.02438888888886,104.97311111111119,108.9218333333333]
[null,null,null,null,null,null,null,null,null,null,null,{"$f":"L62","v":0.10685293531654172},{"$f":"(M62-M$49)*$M$85*$M$86","v":94.524722222222152},99.539249999999953,104.55377777777774,101.58349999999997,105.8816666666667,110.17983333333333,97.529944444444439,101.07680555555559,104.62366666666665]
[null,null,null,null,null,null,null,null,null,null,null,0.11753822884819591,{"$f":"(M63-M$49)*$M$85*$M$86","v":94.874166666666696},97.425111111111093,99.976055555555504,96.20205555555556,100.29055555555553,104.37905555555557,99.836277777777752,102.05524999999994,104.27422222222214]
[null,null,null,null,null,null,null,null,null,null,null,{"$f":"L64","v":0.12822352237985005},{"$f":"(M64-M$49)*$M$85*$M$86","v":93.476388888888891},96.673805555555518,99.871222222222173,99.277166666666659,103.95972222222223,108.64227777777779,97.180500000000009,101.28647222222227,105.39244444444444]
[]
[null,null,null,null,null,null,null,null,null,null,null,"alpha",{"$f":"(5/9)*0.000017","v":9.4444444444444446E-6},"in/in/F"]
[null,null,null,null,null,null,null,null,null,null,null,"E-CMD",740000,"psi"]

{"sheet":"1 PLI","index":4,"n_rows":19,"n_cols":25,"rows_kept":19,"cut":false,"hidden":false,"merged":[]}
["Comparisons for readings taken at 1 PLI but at varying line speeds"]
[]
[null,"75 fpm-2.5 Lt","75 fpm-Avg","75 fpm-2.5 Rt","150 fpm-2.5 Lt","150 fpm-Avg","150 fpm-2.5 Rt","225 fpm-2.5 Lt","225 fpm-Avg","225 fpm-2.5 Rt",null,"Time (sec)",null,"75 fpm-Avg",null,null,"Time (sec)",null,"150 fpm-Avg",null,null,"Time (sec)",null,"225 fpm-Avg"]
[0,{"$f":"'75 fpm'!B12","v":79.680000000000007},{"$f":"'75 fpm'!C12","v":78.92},{"$f":"'75 fpm'!D12","v":78.16},{"$f":"'150 fpm'!B12","v":76.435000000000002},{"$f":"'150 fpm'!C12","v":76.092500000000001},{"$f":"'150 fpm'!D12","v":75.75},{"$f":"'225 fpm'!B12","v":76.545000000000002},{"$f":"'225 fpm'!C12","v":76.137500000000003},{"$f":"'225 fpm'!D12","v":75.73},null,{"$f":"'75 fpm'!L47","v":0},{"$f":"'75 fpm'!M47","v":79.680000000000007},{"$f":"'75 fpm'!N47","v":78.92},{"$f":"'75 fpm'!O47","v":78.16},null,{"$f":"'150 fpm'!L47","v":0},{"$f":"'150 fpm'!M47","v":76.435000000000002},{"$f":"'150 fpm'!N47","v":76.092500000000001},{"$f":"'150 fpm'!O47","v":75.75},null,{"$f":"'225 fpm'!L49","v":0},{"$f":"'225 fpm'!M49","v":76.545000000000002},{"$f":"'225 fpm'!N49","v":76.137500000000003},{"$f":"'225 fpm'!O49","v":75.73}]
[2.5,{"$f":"'75 fpm'!B13","v":82.71},{"$f":"'75 fpm'!C13","v":82.324999999999989},{"$f":"'75 fpm'!D13","v":81.94},{"$f":"'150 fpm'!B13","v":78.5},{"$f":"'150 fpm'!C13","v":77.775000000000006},{"$f":"'150 fpm'!D13","v":77.05},{"$f":"'225 fpm'!B13","v":76.11},{"$f":"'225 fpm'!C13","v":76.16},{"$f":"'225 fpm'!D13","v":76.209999999999994},null,{"$f":"'75 fpm'!L48","v":8.0139701487406297E-3},{"$f":"'75 fpm'!M48","v":82.71},{"$f":"'75 fpm'!N48","v":82.324999999999989},{"$f":"'75 fpm'!O48","v":81.94},null,{"$f":"'150 fpm'!L48","v":4.0069850743703148E-3},{"$f":"'150 fpm'!M48","v":78.5},{"$f":"'150 fpm'!N48","v":77.775000000000006},{"$f":"'150 fpm'!O48","v":77.05},null,{"$f":"'225 fpm'!L50","v":2.6713233829135431E-3},{"$f":"'225 fpm'!M50","v":76.11},{"$f":"'225 fpm'!N50","v":76.16},{"$f":"'225 fpm'!O50","v":76.209999999999994}]
[5,{"$f":"'75 fpm'!B14","v":87.32},{"$f":"'75 fpm'!C14","v":86.782499999999999},{"$f":"'75 fpm'!D14","v":86.245000000000005},{"$f":"'150 fpm'!B14","v":80.849999999999994},{"$f":"'150 fpm'!C14","v":80.655000000000001},{"$f":"'150 fpm'!D14","v":80.460000000000008},{"$f":"'225 fpm'!B14","v":78.724999999999994},{"$f":"'225 fpm'!C14","v":78.352499999999992},{"$f":"'225 fpm'!D14","v":77.97999999999999},null,{"$f":"'75 fpm'!L49","v":1.6027940297481259E-2},{"$f":"'75 fpm'!M49","v":87.32},{"$f":"'75 fpm'!N49","v":86.782499999999999},{"$f":"'75 fpm'!O49","v":86.245000000000005},null,{"$f":"'150 fpm'!L49","v":8.0139701487406297E-3},{"$f":"'150 fpm'!M49","v":80.849999999999994},{"$f":"'150 fpm'!N49","v":80.655000000000001},{"$f":"'150 fpm'!O49","v":80.460000000000008},null,{"$f":"'225 fpm'!L51","v":5.3426467658270861E-3},{"$f":"'225 fpm'!M51","v":78.724999999999994},{"$f":"'225 fpm'!N51","v":78.352499999999992},{"$f":"'225 fpm'!O51","v":77.97999999999999}]
[10,{"$f":"'75 fpm'!B15","v":91.715000000000003},{"$f":"'75 fpm'!C15","v":91.65},{"$f":"'75 fpm'!D15","v":91.585000000000008},{"$f":"'150 fpm'!B15","v":85.414999999999992},{"$f":"'150 fpm'!C15","v":85.037499999999994},{"$f":"'150 fpm'!D15","v":84.66},{"$f":"'225 fpm'!B15","v":82.155000000000001},{"$f":"'225 fpm'!C15","v":81.84},{"$f":"'225 fpm'!D15","v":81.525000000000006},null,{"$f":"'75 fpm'!L50","v":3.2055880594962519E-2},{"$f":"'75 fpm'!M50","v":91.715000000000003},{"$f":"'75 fpm'!N50","v":91.65},{"$f":"'75 fpm'!O50","v":91.585000000000008},null,{"$f":"'150 fpm'!L50","v":1.6027940297481259E-2},{"$f":"'150 fpm'!M50","v":85.414999999999992},{"$f":"'150 fpm'!N50","v":85.037499999999994},{"$f":"'150 fpm'!O50","v":84.66},null,{"$f":"'225 fpm'!L52","v":1.0685293531654172E-2},{"$f":"'225 fpm'!M52","v":82.155000000000001},{"$f":"'225 fpm'!N52","v":81.84},{"$f":"'225 fpm'!O52","v":81.525000000000006}]
[15,{"$f":"'75 fpm'!B16","v":92.86},{"$f":"'75 fpm'!C16","v":93.025000000000006},{"$f":"'75 fpm'!D16","v":93.19},{"$f":"'150 fpm'!B16","v":87.335000000000008},{"$f":"'150 fpm'!C16","v":87.320000000000007},{"$f":"'150 fpm'!D16","v":87.305000000000007},{"$f":"'225 fpm'!B16","v":84.215000000000003},{"$f":"'225 fpm'!C16","v":83.9},{"$f":"'225 fpm'!D16","v":83.584999999999994},null,{"$f":"'75 fpm'!L51","v":4.8083820892443771E-2},{"$f":"'75 fpm'!M51","v":92.86},{"$f":"'75 fpm'!N51","v":93.025000000000006},{"$f":"'75 fpm'!O51","v":93.19},null,{"$f":"'150 fpm'!L51","v":2.4041910446221886E-2},{"$f":"'150 fpm'!M51","v":87.335000000000008},{"$f":"'150 fpm'!N51","v":87.320000000000007},{"$f":"'150 fpm'!O51","v":87.305000000000007},null,{"$f":"'225 fpm'!L53","v":1.6027940297481256E-2},{"$f":"'225 fpm'!M53","v":84.215000000000003},{"$f":"'225 fpm'!N53","v":83.9},{"$f":"'225 fpm'!O53","v":83.584999999999994}]
[20,{"$f":"'75 fpm'!B17","v":93.699999999999989},{"$f":"'75 fpm'!C17","v":93.907499999999999},{"$f":"'75 fpm'!D17","v":94.115000000000009},{"$f":"'150 fpm'!B17","v":88.984999999999999},{"$f":"'150 fpm'!C17","v":89.182500000000005},{"$f":"'150 fpm'!D17","v":89.38},{"$f":"'225 fpm'!B17","v":85.210000000000008},{"$f":"'225 fpm'!C17","v":85.212500000000006},{"$f":"'225 fpm'!D17","v":85.215000000000003},null,{"$f":"'75 fpm'!L52","v":6.4111761189925037E-2},{"$f":"'75 fpm'!M52","v":93.699999999999989},{"$f":"'75 fpm'!N52","v":93.907499999999999},{"$f":"'75 fpm'!O52","v":94.115000000000009},null,{"$f":"'150 fpm'!L52","v":3.2055880594962519E-2},{"$f":"'150 fpm'!M52","v":88.984999999999999},{"$f":"'150 fpm'!N52","v":89.182500000000005},{"$f":"'150 fpm'!O52","v":89.38},null,{"$f":"'225 fpm'!L54","v":2.1370587063308345E-2},{"$f":"'225 fpm'!M54","v":85.210000000000008},{"$f":"'225 fpm'!N54","v":85.212500000000006},{"$f":"'225 fpm'!O54","v":85.215000000000003}]
[30,{"$f":"'75 fpm'!B18","v":93.73},{"$f":"'75 fpm'!C18","v":94.162499999999994},{"$f":"'75 fpm'!D18","v":94.594999999999999},{"$f":"'150 fpm'!B18","v":90.465000000000003},{"$f":"'150 fpm'!C18","v":90.51},{"$f":"'150 fpm'!D18","v":90.555000000000007},{"$f":"'225 fpm'!B18","v":87.174999999999997},{"$f":"'225 fpm'!C18","v":87.58},{"$f":"'225 fpm'!D18","v":87.984999999999999},null,{"$f":"'75 fpm'!L53","v":9.6167641784887542E-2},{"$f":"'75 fpm'!M53","v":93.73},{"$f":"'75 fpm'!N53","v":94.162499999999994},{"$f":"'75 fpm'!O53","v":94.594999999999999},null,{"$f":"'150 fpm'!L53","v":4.8083820892443771E-2},{"$f":"'150 fpm'!M53","v":90.465000000000003},{"$f":"'150 fpm'!N53","v":90.51},{"$f":"'150 fpm'!O53","v":90.555000000000007},null,{"$f":"'225 fpm'!L55","v":3.2055880594962512E-2},{"$f":"'225 fpm'!M55","v":87.174999999999997},{"$f":"'225 fpm'!N55","v":87.58},{"$f":"'225 fpm'!O55","v":87.984999999999999}]
[40,{"$f":"'75 fpm'!B19","v":93.955000000000013},{"$f":"'75 fpm'!C19","v":94.302500000000009},{"$f":"'75 fpm'!D19","v":94.65},{"$f":"'150 fpm'!B19","v":90.734999999999999},{"$f":"'150 fpm'!C19","v":91.162499999999994},{"$f":"'150 fpm'!D19","v":91.59},{"$f":"'225 fpm'!B19","v":88.204999999999998},{"$f":"'225 fpm'!C19","v":88.704999999999998},{"$f":"'225 fpm'!D19","v":89.204999999999998},null,{"$f":"'75 fpm'!L54","v":0.12822352237985007},{"$f":"'75 fpm'!M54","v":93.955000000000013},{"$f":"'75 fpm'!N54","v":94.302500000000009},{"$f":"'75 fpm'!O54","v":94.65},null,{"$f":"'150 fpm'!L54","v":6.4111761189925037E-2},{"$f":"'150 fpm'!M54","v":90.734999999999999},{"$f":"'150 fpm'!N54","v":91.162499999999994},{"$f":"'150 fpm'!O54","v":91.59},null,{"$f":"'225 fpm'!L56","v":4.2741174126616689E-2},{"$f":"'225 fpm'!M56","v":88.204999999999998},{"$f":"'225 fpm'!N56","v":88.704999999999998},{"$f":"'225 fpm'!O56","v":89.204999999999998}]
[50,{"$f":"'75 fpm'!B20","v":94.19},{"$f":"'75 fpm'!C20","v":94.424999999999997},{"$f":"'75 fpm'!D20","v":94.66},{"$f":"'150 fpm'!B20","v":91.574999999999989},{"$f":"'150 fpm'!C20","v":92.009999999999991},{"$f":"'150 fpm'!D20","v":92.444999999999993},{"$f":"'225 fpm'!B20","v":89.13},{"$f":"'225 fpm'!C20","v":89.614999999999995},{"$f":"'225 fpm'!D20","v":90.1},null,{"$f":"'75 fpm'!L55","v":0.16027940297481258},{"$f":"'75 fpm'!M55","v":94.19},{"$f":"'75 fpm'!N55","v":94.424999999999997},{"$f":"'75 fpm'!O55","v":94.66},null,{"$f":"'150 fpm'!L55","v":8.013970148740629E-2},{"$f":"'150 fpm'!M55","v":91.574999999999989},{"$f":"'150 fpm'!N55","v":92.009999999999991},{"$f":"'150 fpm'!O55","v":92.444999999999993},null,{"$f":"'225 fpm'!L57","v":5.342646765827086E-2},{"$f":"'225 fpm'!M57","v":89.13},{"$f":"'225 fpm'!N57","v":89.614999999999995},{"$f":"'225 fpm'!O57","v":90.1}]
[60,{"$f":"'75 fpm'!B21","v":94.025000000000006},{"$f":"'75 fpm'!C21","v":94.602500000000006},{"$f":"'75 fpm'!D21","v":95.18},{"$f":"'150 fpm'!B21","v":91.805000000000007},{"$f":"'150 fpm'!C21","v":91.605000000000004},{"$f":"'150 fpm'!D21","v":91.405000000000001},{"$f":"'225 fpm'!B21","v":89.544999999999987},{"$f":"'225 fpm'!C21","v":89.919999999999987},{"$f":"'225 fpm'!D21","v":90.295000000000002},null,{"$f":"'75 fpm'!L56","v":0.19233528356977508},{"$f":"'75 fpm'!M56","v":94.025000000000006},{"$f":"'75 fpm'!N56","v":94.602500000000006},{"$f":"'75 fpm'!O56","v":95.18},null,{"$f":"'150 fpm'!L56","v":9.6167641784887542E-2},{"$f":"'150 fpm'!M56","v":91.805000000000007},{"$f":"'150 fpm'!N56","v":91.605000000000004},{"$f":"'150 fpm'!O56","v":91.405000000000001},null,{"$f":"'225 fpm'!L58","v":6.4111761189925023E-2},{"$f":"'225 fpm'!M58","v":89.544999999999987},{"$f":"'225 fpm'!N58","v":89.919999999999987},{"$f":"'225 fpm'!O58","v":90.295000000000002}]
[70,{"$f":"'75 fpm'!B22","v":94.43},{"$f":"'75 fpm'!C22","v":94.91},{"$f":"'75 fpm'!D22","v":95.39},{"$f":"'150 fpm'!B22","v":91.194999999999993},{"$f":"'150 fpm'!C22","v":91.712500000000006},{"$f":"'150 fpm'!D22","v":92.23},{"$f":"'225 fpm'!B22","v":90.13},{"$f":"'225 fpm'!C22","v":90.532499999999999},{"$f":"'225 fpm'!D22","v":90.935000000000002},null,{"$f":"'75 fpm'!L57","v":0.22439116416473764},{"$f":"'75 fpm'!M57","v":94.43},{"$f":"'75 fpm'!N57","v":94.91},{"$f":"'75 fpm'!O57","v":95.39},null,{"$f":"'150 fpm'!L57","v":0.11219558208236882},{"$f":"'150 fpm'!M57","v":91.194999999999993},{"$f":"'150 fpm'!N57","v":91.712500000000006},{"$f":"'150 fpm'!O57","v":92.23},null,{"$f":"'225 fpm'!L59","v":7.4797054721579215E-2},{"$f":"'225 fpm'!M59","v":90.13},{"$f":"'225 fpm'!N59","v":90.532499999999999},{"$f":"'225 fpm'!O59","v":90.935000000000002}]
[80,{"$f":"'75 fpm'!B23","v":94.064999999999998},{"$f":"'75 fpm'!C23","v":94.55},{"$f":"'75 fpm'!D23","v":95.034999999999997},{"$f":"'150 fpm'!B23","v":92.094999999999999},{"$f":"'150 fpm'!C23","v":92.342500000000001},{"$f":"'150 fpm'!D23","v":92.59},{"$f":"'225 fpm'!B23","v":90.31},{"$f":"'225 fpm'!C23","v":90.342500000000001},{"$f":"'225 fpm'!D23","v":90.375},null,{"$f":"'75 fpm'!L58","v":0.25644704475970015},{"$f":"'75 fpm'!M58","v":94.064999999999998},{"$f":"'75 fpm'!N58","v":94.55},{"$f":"'75 fpm'!O58","v":95.034999999999997},null,{"$f":"'150 fpm'!L58","v":0.12822352237985007},{"$f":"'150 fpm'!M58","v":92.094999999999999},{"$f":"'150 fpm'!N58","v":92.342500000000001},{"$f":"'150 fpm'!O58","v":92.59},null,{"$f":"'225 fpm'!L60","v":8.5482348253233378E-2},{"$f":"'225 fpm'!M60","v":90.31},{"$f":"'225 fpm'!N60","v":90.342500000000001},{"$f":"'225 fpm'!O60","v":90.375}]
[90,{"$f":"'75 fpm'!B24","v":94.210000000000008},{"$f":"'75 fpm'!C24","v":94.965000000000003},{"$f":"'75 fpm'!D24","v":95.72},{"$f":"'150 fpm'!B24","v":91.77},{"$f":"'150 fpm'!C24","v":91.694999999999993},{"$f":"'150 fpm'!D24","v":91.62},{"$f":"'225 fpm'!B24","v":89.435000000000002},{"$f":"'225 fpm'!C24","v":89.82},{"$f":"'225 fpm'!D24","v":90.204999999999998},null,{"$f":"'75 fpm'!L59","v":0.28850292535466265},{"$f":"'75 fpm'!M59","v":94.210000000000008},{"$f":"'75 fpm'!N59","v":94.965000000000003},{"$f":"'75 fpm'!O59","v":95.72},null,{"$f":"'150 fpm'!L59","v":0.14425146267733133},{"$f":"'150 fpm'!M59","v":91.77},{"$f":"'150 fpm'!N59","v":91.694999999999993},{"$f":"'150 fpm'!O59","v":91.62},null,{"$f":"'225 fpm'!L61","v":9.6167641784887556E-2},{"$f":"'225 fpm'!M61","v":89.435000000000002},{"$f":"'225 fpm'!N61","v":89.82},{"$f":"'225 fpm'!O61","v":90.204999999999998}]
[null,null,null,null,null,null,null,null,null,null,null,null,null,null,null,null,null,null,null,null,null,{"$f":"'225 fpm'!L62","v":0.10685293531654172},{"$f":"'225 fpm'!M62","v":90.07},{"$f":"'225 fpm'!N62","v":90.38},{"$f":"'225 fpm'!O62","v":90.69}]
[null,null,null,null,null,null,null,null,null,null,null,null,null,null,null,null,null,null,null,null,null,{"$f":"'225 fpm'!L63","v":0.11753822884819591},{"$f":"'225 fpm'!M63","v":90.12},{"$f":"'225 fpm'!N63","v":90.077500000000001},{"$f":"'225 fpm'!O63","v":90.034999999999997}]
[null,null,null,null,null,null,null,null,null,null,null,null,null,null,null,null,null,null,null,null,null,{"$f":"'225 fpm'!L64","v":0.12822352237985005},{"$f":"'225 fpm'!M64","v":89.92},{"$f":"'225 fpm'!N64","v":89.97},{"$f":"'225 fpm'!O64","v":90.02}]

{"sheet":"2 PLI","index":5,"n_rows":19,"n_cols":25,"rows_kept":19,"cut":false,"hidden":false,"merged":[]}
["Comparisons for readings taken at 2 PLI but at varying line speeds"]
[]
[null,"75 fpm-2.5 Lt","75 fpm-Avg","75 fpm-2.5 Rt","150 fpm-2.5 Lt","150 fpm-Avg","150 fpm-2.5 Rt","225 fpm-2.5 Lt","225 fpm-Avg","225 fpm-2.5 Rt",null,"Time (sec)",null,"75 fpm-Avg",null,null,"Time (sec)",null,"150 fpm-Avg",null,null,"Time (sec)",null,"225 fpm-Avg"]
[0,{"$f":"'75 fpm'!H12","v":78.644999999999996},{"$f":"'75 fpm'!I12","v":78.872500000000002},{"$f":"'75 fpm'!J12","v":79.099999999999994},{"$f":"'150 fpm'!H12","v":75.91},{"$f":"'150 fpm'!I12","v":76.047499999999999},{"$f":"'150 fpm'!J12","v":76.185000000000002},{"$f":"'225 fpm'!H12","v":75.825000000000003},{"$f":"'225 fpm'!I12","v":75.435000000000002},{"$f":"'225 fpm'!J12","v":75.045000000000002},null,{"$f":"'75 fpm'!L47","v":0},{"$f":"'75 fpm'!P47","v":78.644999999999996},{"$f":"'75 fpm'!Q47","v":78.872500000000002},{"$f":"'75 fpm'!R47","v":79.099999999999994},null,{"$f":"'150 fpm'!L47","v":0},{"$f":"'150 fpm'!P47","v":75.91},{"$f":"'150 fpm'!Q47","v":76.047499999999999},{"$f":"'150 fpm'!R47","v":76.185000000000002},null,{"$f":"'225 fpm'!L49","v":0},{"$f":"'225 fpm'!P49","v":75.825000000000003},{"$f":"'225 fpm'!Q49","v":75.435000000000002},{"$f":"'225 fpm'!R49","v":75.045000000000002}]
[2.5,{"$f":"'75 fpm'!H13","v":82.24},{"$f":"'75 fpm'!I13","v":81.555000000000007},{"$f":"'75 fpm'!J13","v":80.87},{"$f":"'150 fpm'!H13","v":78.59},{"$f":"'150 fpm'!I13","v":78.765000000000001},{"$f":"'150 fpm'!J13","v":78.94},{"$f":"'225 fpm'!H13","v":77.78},{"$f":"'225 fpm'!I13","v":77.42},{"$f":"'225 fpm'!J13","v":77.06},null,{"$f":"'75 fpm'!L48","v":8.0139701487406297E-3},{"$f":"'75 fpm'!P48","v":82.24},{"$f":"'75 fpm'!Q48","v":81.555000000000007},{"$f":"'75 fpm'!R48","v":80.87},null,{"$f":"'150 fpm'!L48","v":4.0069850743703148E-3},{"$f":"'150 fpm'!P48","v":78.59},{"$f":"'150 fpm'!Q48","v":78.765000000000001},{"$f":"'150 fpm'!R48","v":78.94},null,{"$f":"'225 fpm'!L50","v":2.6713233829135431E-3},{"$f":"'225 fpm'!P50","v":77.78},{"$f":"'225 fpm'!Q50","v":77.42},{"$f":"'225 fpm'!R50","v":77.06}]
[5,{"$f":"'75 fpm'!H14","v":87.525000000000006},{"$f":"'75 fpm'!I14","v":87.385000000000005},{"$f":"'75 fpm'!J14","v":87.245000000000005},{"$f":"'150 fpm'!H14","v":82.05},{"$f":"'150 fpm'!I14","v":81.472499999999997},{"$f":"'150 fpm'!J14","v":80.89500000000001},{"$f":"'225 fpm'!H14","v":79.405000000000001},{"$f":"'225 fpm'!I14","v":79.305000000000007},{"$f":"'225 fpm'!J14","v":79.204999999999998},null,{"$f":"'75 fpm'!L49","v":1.6027940297481259E-2},{"$f":"'75 fpm'!P49","v":87.525000000000006},{"$f":"'75 fpm'!Q49","v":87.385000000000005},{"$f":"'75 fpm'!R49","v":87.245000000000005},null,{"$f":"'150 fpm'!L49","v":8.0139701487406297E-3},{"$f":"'150 fpm'!P49","v":82.05},{"$f":"'150 fpm'!Q49","v":81.472499999999997},{"$f":"'150 fpm'!R49","v":80.89500000000001},null,{"$f":"'225 fpm'!L51","v":5.3426467658270861E-3},{"$f":"'225 fpm'!P51","v":79.405000000000001},{"$f":"'225 fpm'!Q51","v":79.305000000000007},{"$f":"'225 fpm'!R51","v":79.204999999999998}]
[10,{"$f":"'75 fpm'!H15","v":91.460000000000008},{"$f":"'75 fpm'!I15","v":91.42},{"$f":"'75 fpm'!J15","v":91.38},{"$f":"'150 fpm'!H15","v":85.995000000000005},{"$f":"'150 fpm'!I15","v":85.81},{"$f":"'150 fpm'!J15","v":85.625},{"$f":"'225 fpm'!H15","v":83.075000000000003},{"$f":"'225 fpm'!I15","v":82.32},{"$f":"'225 fpm'!J15","v":81.564999999999998},null,{"$f":"'75 fpm'!L50","v":3.2055880594962519E-2},{"$f":"'75 fpm'!P50","v":91.460000000000008},{"$f":"'75 fpm'!Q50","v":91.42},{"$f":"'75 fpm'!R50","v":91.38},null,{"$f":"'150 fpm'!L50","v":1.6027940297481259E-2},{"$f":"'150 fpm'!P50","v":85.995000000000005},{"$f":"'150 fpm'!Q50","v":85.81},{"$f":"'150 fpm'!R50","v":85.625},null,{"$f":"'225 fpm'!L52","v":1.0685293531654172E-2},{"$f":"'225 fpm'!P52","v":83.075000000000003},{"$f":"'225 fpm'!Q52","v":82.32},{"$f":"'225 fpm'!R52","v":81.564999999999998}]
[15,{"$f":"'75 fpm'!H16","v":92.734999999999999},{"$f":"'75 fpm'!I16","v":92.877499999999998},{"$f":"'75 fpm'!J16","v":93.02},{"$f":"'150 fpm'!H16","v":87.634999999999991},{"$f":"'150 fpm'!I16","v":87.832499999999996},{"$f":"'150 fpm'!J16","v":88.03},{"$f":"'225 fpm'!H16","v":83.889999999999986},{"$f":"'225 fpm'!I16","v":83.872500000000002},{"$f":"'225 fpm'!J16","v":83.855000000000004},null,{"$f":"'75 fpm'!L51","v":4.8083820892443771E-2},{"$f":"'75 fpm'!P51","v":92.734999999999999},{"$f":"'75 fpm'!Q51","v":92.877499999999998},{"$f":"'75 fpm'!R51","v":93.02},null,{"$f":"'150 fpm'!L51","v":2.4041910446221886E-2},{"$f":"'150 fpm'!P51","v":87.634999999999991},{"$f":"'150 fpm'!Q51","v":87.832499999999996},{"$f":"'150 fpm'!R51","v":88.03},null,{"$f":"'225 fpm'!L53","v":1.6027940297481256E-2},{"$f":"'225 fpm'!P53","v":83.889999999999986},{"$f":"'225 fpm'!Q53","v":83.872500000000002},{"$f":"'225 fpm'!R53","v":83.855000000000004}]
[20,{"$f":"'75 fpm'!H17","v":93.045000000000002},{"$f":"'75 fpm'!I17","v":93.45},{"$f":"'75 fpm'!J17","v":93.855000000000004},{"$f":"'150 fpm'!H17","v":89.015000000000001},{"$f":"'150 fpm'!I17","v":89.12},{"$f":"'150 fpm'!J17","v":89.224999999999994},{"$f":"'225 fpm'!H17","v":85.794999999999987},{"$f":"'225 fpm'!I17","v":85.82},{"$f":"'225 fpm'!J17","v":85.844999999999999},null,{"$f":"'75 fpm'!L52","v":6.4111761189925037E-2},{"$f":"'75 fpm'!P52","v":93.045000000000002},{"$f":"'75 fpm'!Q52","v":93.45},{"$f":"'75 fpm'!R52","v":93.855000000000004},null,{"$f":"'150 fpm'!L52","v":3.2055880594962519E-2},{"$f":"'150 fpm'!P52","v":89.015000000000001},{"$f":"'150 fpm'!Q52","v":89.12},{"$f":"'150 fpm'!R52","v":89.224999999999994},null,{"$f":"'225 fpm'!L54","v":2.1370587063308345E-2},{"$f":"'225 fpm'!P54","v":85.794999999999987},{"$f":"'225 fpm'!Q54","v":85.82},{"$f":"'225 fpm'!R54","v":85.844999999999999}]
[30,{"$f":"'75 fpm'!H18","v":93.805000000000007},{"$f":"'75 fpm'!I18","v":93.907499999999999},{"$f":"'75 fpm'!J18","v":94.009999999999991},{"$f":"'150 fpm'!H18","v":90.27000000000001},{"$f":"'150 fpm'!I18","v":90.580000000000013},{"$f":"'150 fpm'!J18","v":90.89},{"$f":"'225 fpm'!H18","v":88.28},{"$f":"'225 fpm'!I18","v":88.267499999999998},{"$f":"'225 fpm'!J18","v":88.254999999999995},null,{"$f":"'75 fpm'!L53","v":9.6167641784887542E-2},{"$f":"'75 fpm'!P53","v":93.805000000000007},{"$f":"'75 fpm'!Q53","v":93.907499999999999},{"$f":"'75 fpm'!R53","v":94.009999999999991},null,{"$f":"'150 fpm'!L53","v":4.8083820892443771E-2},{"$f":"'150 fpm'!P53","v":90.27000000000001},{"$f":"'150 fpm'!Q53","v":90.580000000000013},{"$f":"'150 fpm'!R53","v":90.89},null,{"$f":"'225 fpm'!L55","v":3.2055880594962512E-2},{"$f":"'225 fpm'!P55","v":88.28},{"$f":"'225 fpm'!Q55","v":88.267499999999998},{"$f":"'225 fpm'!R55","v":88.254999999999995}]
[40,{"$f":"'75 fpm'!H19","v":93.924999999999997},{"$f":"'75 fpm'!I19","v":94.197499999999991},{"$f":"'75 fpm'!J19","v":94.47},{"$f":"'150 fpm'!H19","v":90.694999999999993},{"$f":"'150 fpm'!I19","v":90.887499999999989},{"$f":"'150 fpm'!J19","v":91.08},{"$f":"'225 fpm'!H19","v":88.46},{"$f":"'225 fpm'!I19","v":88.59},{"$f":"'225 fpm'!J19","v":88.72},null,{"$f":"'75 fpm'!L54","v":0.12822352237985007},{"$f":"'75 fpm'!P54","v":93.924999999999997},{"$f":"'75 fpm'!Q54","v":94.197499999999991},{"$f":"'75 fpm'!R54","v":94.47},null,{"$f":"'150 fpm'!L54","v":6.4111761189925037E-2},{"$f":"'150 fpm'!P54","v":90.694999999999993},{"$f":"'150 fpm'!Q54","v":90.887499999999989},{"$f":"'150 fpm'!R54","v":91.08},null,{"$f":"'225 fpm'!L56","v":4.2741174126616689E-2},{"$f":"'225 fpm'!P56","v":88.46},{"$f":"'225 fpm'!Q56","v":88.59},{"$f":"'225 fpm'!R56","v":88.72}]
[50,{"$f":"'75 fpm'!H20","v":93.72},{"$f":"'75 fpm'!I20","v":94.094999999999999},{"$f":"'75 fpm'!J20","v":94.47},{"$f":"'150 fpm'!H20","v":90.694999999999993},{"$f":"'150 fpm'!I20","v":91.017499999999998},{"$f":"'150 fpm'!J20","v":91.34},{"$f":"'225 fpm'!H20","v":89.63},{"$f":"'225 fpm'!I20","v":89.734999999999999},{"$f":"'225 fpm'!J20","v":89.84},null,{"$f":"'75 fpm'!L55","v":0.16027940297481258},{"$f":"'75 fpm'!P55","v":93.72},{"$f":"'75 fpm'!Q55","v":94.094999999999999},{"$f":"'75 fpm'!R55","v":94.47},null,{"$f":"'150 fpm'!L55","v":8.013970148740629E-2},{"$f":"'150 fpm'!P55","v":90.694999999999993},{"$f":"'150 fpm'!Q55","v":91.017499999999998},{"$f":"'150 fpm'!R55","v":91.34},null,{"$f":"'225 fpm'!L57","v":5.342646765827086E-2},{"$f":"'225 fpm'!P57","v":89.63},{"$f":"'225 fpm'!Q57","v":89.734999999999999},{"$f":"'225 fpm'!R57","v":89.84}]
[60,{"$f":"'75 fpm'!H21","v":94.13},{"$f":"'75 fpm'!I21","v":94.247500000000002},{"$f":"'75 fpm'!J21","v":94.365000000000009},{"$f":"'150 fpm'!H21","v":90.68},{"$f":"'150 fpm'!I21","v":91.202500000000001},{"$f":"'150 fpm'!J21","v":91.724999999999994},{"$f":"'225 fpm'!H21","v":89.85499999999999},{"$f":"'225 fpm'!I21","v":90.117499999999993},{"$f":"'225 fpm'!J21","v":90.38},null,{"$f":"'75 fpm'!L56","v":0.19233528356977508},{"$f":"'75 fpm'!P56","v":94.13},{"$f":"'75 fpm'!Q56","v":94.247500000000002},{"$f":"'75 fpm'!R56","v":94.365000000000009},null,{"$f":"'150 fpm'!L56","v":9.6167641784887542E-2},{"$f":"'150 fpm'!P56","v":90.68},{"$f":"'150 fpm'!Q56","v":91.202500000000001},{"$f":"'150 fpm'!R56","v":91.724999999999994},null,{"$f":"'225 fpm'!L58","v":6.4111761189925023E-2},{"$f":"'225 fpm'!P58","v":89.85499999999999},{"$f":"'225 fpm'!Q58","v":90.117499999999993},{"$f":"'225 fpm'!R58","v":90.38}]
[70,{"$f":"'75 fpm'!H22","v":93.95},{"$f":"'75 fpm'!I22","v":94.34},{"$f":"'75 fpm'!J22","v":94.72999999999999},{"$f":"'150 fpm'!H22","v":91.08},{"$f":"'150 fpm'!I22","v":91.557500000000005},{"$f":"'150 fpm'!J22","v":92.034999999999997},{"$f":"'225 fpm'!H22","v":89.745000000000005},{"$f":"'225 fpm'!I22","v":90.027500000000003},{"$f":"'225 fpm'!J22","v":90.31},null,{"$f":"'75 fpm'!L57","v":0.22439116416473764},{"$f":"'75 fpm'!P57","v":93.95},{"$f":"'75 fpm'!Q57","v":94.34},{"$f":"'75 fpm'!R57","v":94.72999999999999},null,{"$f":"'150 fpm'!L57","v":0.11219558208236882},{"$f":"'150 fpm'!P57","v":91.08},{"$f":"'150 fpm'!Q57","v":91.557500000000005},{"$f":"'150 fpm'!R57","v":92.034999999999997},null,{"$f":"'225 fpm'!L59","v":7.4797054721579215E-2},{"$f":"'225 fpm'!P59","v":89.745000000000005},{"$f":"'225 fpm'!Q59","v":90.027500000000003},{"$f":"'225 fpm'!R59","v":90.31}]
[80,{"$f":"'75 fpm'!H23","v":94.004999999999995},{"$f":"'75 fpm'!I23","v":94.414999999999992},{"$f":"'75 fpm'!J23","v":94.825000000000003},{"$f":"'150 fpm'!H23","v":91.23},{"$f":"'150 fpm'!I23","v":91.675000000000011},{"$f":"'150 fpm'!J23","v":92.12},{"$f":"'225 fpm'!H23","v":90.19},{"$f":"'225 fpm'!I23","v":90.259999999999991},{"$f":"'225 fpm'!J23","v":90.33},null,{"$f":"'75 fpm'!L58","v":0.25644704475970015},{"$f":"'75 fpm'!P58","v":94.004999999999995},{"$f":"'75 fpm'!Q58","v":94.414999999999992},{"$f":"'75 fpm'!R58","v":94.825000000000003},null,{"$f":"'150 fpm'!L58","v":0.12822352237985007},{"$f":"'150 fpm'!P58","v":91.23},{"$f":"'150 fpm'!Q58","v":91.675000000000011},{"$f":"'150 fpm'!R58","v":92.12},null,{"$f":"'225 fpm'!L60","v":8.5482348253233378E-2},{"$f":"'225 fpm'!P60","v":90.19},{"$f":"'225 fpm'!Q60","v":90.259999999999991},{"$f":"'225 fpm'!R60","v":90.33}]
[90,{"$f":"'75 fpm'!H24","v":94.394999999999996},{"$f":"'75 fpm'!I24","v":94.8},{"$f":"'75 fpm'!J24","v":95.204999999999998},{"$f":"'150 fpm'!H24","v":91.194999999999993},{"$f":"'150 fpm'!I24","v":91.71},{"$f":"'150 fpm'!J24","v":92.224999999999994},{"$f":"'225 fpm'!H24","v":90.22},{"$f":"'225 fpm'!I24","v":90.4},{"$f":"'225 fpm'!J24","v":90.580000000000013},null,{"$f":"'75 fpm'!L59","v":0.28850292535466265},{"$f":"'75 fpm'!P59","v":94.394999999999996},{"$f":"'75 fpm'!Q59","v":94.8},{"$f":"'75 fpm'!R59","v":95.204999999999998},null,{"$f":"'150 fpm'!L59","v":0.14425146267733133},{"$f":"'150 fpm'!P59","v":91.194999999999993},{"$f":"'150 fpm'!Q59","v":91.71},{"$f":"'150 fpm'!R59","v":92.224999999999994},null,{"$f":"'225 fpm'!L61","v":9.6167641784887556E-2},{"$f":"'225 fpm'!P61","v":90.22},{"$f":"'225 fpm'!Q61","v":90.4},{"$f":"'225 fpm'!R61","v":90.580000000000013}]
[null,null,null,null,null,null,null,null,null,null,null,null,null,null,null,null,null,null,null,null,null,{"$f":"'225 fpm'!L62","v":0.10685293531654172},{"$f":"'225 fpm'!P62","v":90.36},{"$f":"'225 fpm'!Q62","v":90.585000000000008},{"$f":"'225 fpm'!R62","v":90.81}]
[null,null,null,null,null,null,null,null,null,null,null,null,null,null,null,null,null,null,null,null,null,{"$f":"'225 fpm'!L63","v":0.11753822884819591},{"$f":"'225 fpm'!P63","v":89.59},{"$f":"'225 fpm'!Q63","v":89.784999999999997},{"$f":"'225 fpm'!R63","v":89.98}]
[null,null,null,null,null,null,null,null,null,null,null,null,null,null,null,null,null,null,null,null,null,{"$f":"'225 fpm'!L64","v":0.12822352237985005},{"$f":"'225 fpm'!P64","v":90.03},{"$f":"'225 fpm'!Q64","v":90.31},{"$f":"'225 fpm'!R64","v":90.59}]

{"sheet":"3 PLI","index":6,"n_rows":19,"n_cols":25,"rows_kept":19,"cut":false,"hidden":false,"merged":[]}
["Comparisons for readings taken at 3 PLI but at varying line speeds"]
[]
[null,"75 fpm-2.5 Lt","75 fpm-Avg","75 fpm-2.5 Rt","150 fpm-2.5 Lt","150 fpm-Avg","150 fpm-2.5 Rt","225 fpm-2.5 Lt","225 fpm-Avg","225 fpm-2.5 Rt",null,"Time (sec)",null,"75 fpm-Avg",null,null,"Time (sec)",null,"150 fpm-Avg",null,null,"Time (sec)",null,"225 fpm-Avg"]
[0,{"$f":"'75 fpm'!N12","v":78.775000000000006},{"$f":"'75 fpm'!O12","v":78.34},{"$f":"'75 fpm'!P12","v":77.905000000000001},{"$f":"'150 fpm'!N12","v":77.245000000000005},{"$f":"'150 fpm'!O12","v":76.752499999999998},{"$f":"'150 fpm'!P12","v":76.260000000000005},{"$f":"'225 fpm'!N12","v":76.234999999999999},{"$f":"'225 fpm'!O12","v":75.942499999999995},{"$f":"'225 fpm'!P12","v":75.650000000000006},null,{"$f":"'75 fpm'!L47","v":0},{"$f":"'75 fpm'!S47","v":78.775000000000006},{"$f":"'75 fpm'!T47","v":78.34},{"$f":"'75 fpm'!U47","v":77.905000000000001},null,{"$f":"'150 fpm'!L47","v":0},{"$f":"'150 fpm'!S47","v":77.245000000000005},{"$f":"'150 fpm'!T47","v":76.752499999999998},{"$f":"'150 fpm'!U47","v":76.260000000000005},null,{"$f":"'225 fpm'!L49","v":0},{"$f":"'225 fpm'!S49","v":76.234999999999999},{"$f":"'225 fpm'!T49","v":75.942499999999995},{"$f":"'225 fpm'!U49","v":75.650000000000006}]
[2.5,{"$f":"'75 fpm'!N13","v":83.16},{"$f":"'75 fpm'!O13","v":82.055000000000007},{"$f":"'75 fpm'!P13","v":80.95},{"$f":"'150 fpm'!N13","v":79.069999999999993},{"$f":"'150 fpm'!O13","v":78.41},{"$f":"'150 fpm'!P13","v":77.75},{"$f":"'225 fpm'!N13","v":77.88},{"$f":"'225 fpm'!O13","v":77.914999999999992},{"$f":"'225 fpm'!P13","v":77.95},null,{"$f":"'75 fpm'!L48","v":8.0139701487406297E-3},{"$f":"'75 fpm'!S48","v":83.16},{"$f":"'75 fpm'!T48","v":82.055000000000007},{"$f":"'75 fpm'!U48","v":80.95},null,{"$f":"'150 fpm'!L48","v":4.0069850743703148E-3},{"$f":"'150 fpm'!S48","v":79.069999999999993},{"$f":"'150 fpm'!T48","v":78.41},{"$f":"'150 fpm'!U48","v":77.75},null,{"$f":"'225 fpm'!L50","v":2.6713233829135431E-3},{"$f":"'225 fpm'!S50","v":77.88},{"$f":"'225 fpm'!T50","v":77.914999999999992},{"$f":"'225 fpm'!U50","v":77.95}]
[5,{"$f":"'75 fpm'!N14","v":87.67},{"$f":"'75 fpm'!O14","v":87.325000000000003},{"$f":"'75 fpm'!P14","v":86.98},{"$f":"'150 fpm'!N14","v":81.444999999999993},{"$f":"'150 fpm'!O14","v":80.66749999999999},{"$f":"'150 fpm'!P14","v":79.89},{"$f":"'225 fpm'!N14","v":79.099999999999994},{"$f":"'225 fpm'!O14","v":78.664999999999992},{"$f":"'225 fpm'!P14","v":78.22999999999999},null,{"$f":"'75 fpm'!L49","v":1.6027940297481259E-2},{"$f":"'75 fpm'!S49","v":87.67},{"$f":"'75 fpm'!T49","v":87.325000000000003},{"$f":"'75 fpm'!U49","v":86.98},null,{"$f":"'150 fpm'!L49","v":8.0139701487406297E-3},{"$f":"'150 fpm'!S49","v":81.444999999999993},{"$f":"'150 fpm'!T49","v":80.66749999999999},{"$f":"'150 fpm'!U49","v":79.89},null,{"$f":"'225 fpm'!L51","v":5.3426467658270861E-3},{"$f":"'225 fpm'!S51","v":79.099999999999994},{"$f":"'225 fpm'!T51","v":78.664999999999992},{"$f":"'225 fpm'!U51","v":78.22999999999999}]
[10,{"$f":"'75 fpm'!N15","v":92.025000000000006},{"$f":"'75 fpm'!O15","v":92.212500000000006},{"$f":"'75 fpm'!P15","v":92.4},{"$f":"'150 fpm'!N15","v":85.78},{"$f":"'150 fpm'!O15","v":85.55},{"$f":"'150 fpm'!P15","v":85.32},{"$f":"'225 fpm'!N15","v":82.72},{"$f":"'225 fpm'!O15","v":82.412499999999994},{"$f":"'225 fpm'!P15","v":82.10499999999999},null,{"$f":"'75 fpm'!L50","v":3.2055880594962519E-2},{"$f":"'75 fpm'!S50","v":92.025000000000006},{"$f":"'75 fpm'!T50","v":92.212500000000006},{"$f":"'75 fpm'!U50","v":92.4},null,{"$f":"'150 fpm'!L50","v":1.6027940297481259E-2},{"$f":"'150 fpm'!S50","v":85.78},{"$f":"'150 fpm'!T50","v":85.55},{"$f":"'150 fpm'!U50","v":85.32},null,{"$f":"'225 fpm'!L52","v":1.0685293531654172E-2},{"$f":"'225 fpm'!S52","v":82.72},{"$f":"'225 fpm'!T52","v":82.412499999999994},{"$f":"'225 fpm'!U52","v":82.10499999999999}]
[15,{"$f":"'75 fpm'!N16","v":93.14},{"$f":"'75 fpm'!O16","v":93.347499999999997},{"$f":"'75 fpm'!P16","v":93.555000000000007},{"$f":"'150 fpm'!N16","v":87.83},{"$f":"'150 fpm'!O16","v":87.932500000000005},{"$f":"'150 fpm'!P16","v":88.034999999999997},{"$f":"'225 fpm'!N16","v":85.004999999999995},{"$f":"'225 fpm'!O16","v":84.724999999999994},{"$f":"'225 fpm'!P16","v":84.444999999999993},null,{"$f":"'75 fpm'!L51","v":4.8083820892443771E-2},{"$f":"'75 fpm'!S51","v":93.14},{"$f":"'75 fpm'!T51","v":93.347499999999997},{"$f":"'75 fpm'!U51","v":93.555000000000007},null,{"$f":"'150 fpm'!L51","v":2.4041910446221886E-2},{"$f":"'150 fpm'!S51","v":87.83},{"$f":"'150 fpm'!T51","v":87.932500000000005},{"$f":"'150 fpm'!U51","v":88.034999999999997},null,{"$f":"'225 fpm'!L53","v":1.6027940297481256E-2},{"$f":"'225 fpm'!S53","v":85.004999999999995},{"$f":"'225 fpm'!T53","v":84.724999999999994},{"$f":"'225 fpm'!U53","v":84.444999999999993}]
[20,{"$f":"'75 fpm'!N17","v":93.525000000000006},{"$f":"'75 fpm'!O17","v":93.722499999999997},{"$f":"'75 fpm'!P17","v":93.92},{"$f":"'150 fpm'!N17","v":89.1},{"$f":"'150 fpm'!O17","v":88.949999999999989},{"$f":"'150 fpm'!P17","v":88.8},{"$f":"'225 fpm'!N17","v":86.634999999999991},{"$f":"'225 fpm'!O17","v":86.367499999999993},{"$f":"'225 fpm'!P17","v":86.1},null,{"$f":"'75 fpm'!L52","v":6.4111761189925037E-2},{"$f":"'75 fpm'!S52","v":93.525000000000006},{"$f":"'75 fpm'!T52","v":93.722499999999997},{"$f":"'75 fpm'!U52","v":93.92},null,{"$f":"'150 fpm'!L52","v":3.2055880594962519E-2},{"$f":"'150 fpm'!S52","v":89.1},{"$f":"'150 fpm'!T52","v":88.949999999999989},{"$f":"'150 fpm'!U52","v":88.8},null,{"$f":"'225 fpm'!L54","v":2.1370587063308345E-2},{"$f":"'225 fpm'!S54","v":86.634999999999991},{"$f":"'225 fpm'!T54","v":86.367499999999993},{"$f":"'225 fpm'!U54","v":86.1}]
[30,{"$f":"'75 fpm'!N18","v":94.125},{"$f":"'75 fpm'!O18","v":94.307500000000005},{"$f":"'75 fpm'!P18","v":94.490000000000009},{"$f":"'150 fpm'!N18","v":90.424999999999997},{"$f":"'150 fpm'!O18","v":90.574999999999989},{"$f":"'150 fpm'!P18","v":90.724999999999994},{"$f":"'225 fpm'!N18","v":88.98},{"$f":"'225 fpm'!O18","v":88.727499999999992},{"$f":"'225 fpm'!P18","v":88.474999999999994},null,{"$f":"'75 fpm'!L53","v":9.6167641784887542E-2},{"$f":"'75 fpm'!S53","v":94.125},{"$f":"'75 fpm'!T53","v":94.307500000000005},{"$f":"'75 fpm'!U53","v":94.490000000000009},null,{"$f":"'150 fpm'!L53","v":4.8083820892443771E-2},{"$f":"'150 fpm'!S53","v":90.424999999999997},{"$f":"'150 fpm'!T53","v":90.574999999999989},{"$f":"'150 fpm'!U53","v":90.724999999999994},null,{"$f":"'225 fpm'!L55","v":3.2055880594962512E-2},{"$f":"'225 fpm'!S55","v":88.98},{"$f":"'225 fpm'!T55","v":88.727499999999992},{"$f":"'225 fpm'!U55","v":88.474999999999994}]
[40,{"$f":"'75 fpm'!N19","v":93.49},{"$f":"'75 fpm'!O19","v":94.012499999999989},{"$f":"'75 fpm'!P19","v":94.534999999999997},{"$f":"'150 fpm'!N19","v":91.085000000000008},{"$f":"'150 fpm'!O19","v":91.222499999999997},{"$f":"'150 fpm'!P19","v":91.36},{"$f":"'225 fpm'!N19","v":89.49},{"$f":"'225 fpm'!O19","v":89.547499999999985},{"$f":"'225 fpm'!P19","v":89.60499999999999},null,{"$f":"'75 fpm'!L54","v":0.12822352237985007},{"$f":"'75 fpm'!S54","v":93.49},{"$f":"'75 fpm'!T54","v":94.012499999999989},{"$f":"'75 fpm'!U54","v":94.534999999999997},null,{"$f":"'150 fpm'!L54","v":6.4111761189925037E-2},{"$f":"'150 fpm'!S54","v":91.085000000000008},{"$f":"'150 fpm'!T54","v":91.222499999999997},{"$f":"'150 fpm'!U54","v":91.36},null,{"$f":"'225 fpm'!L56","v":4.2741174126616689E-2},{"$f":"'225 fpm'!S56","v":89.49},{"$f":"'225 fpm'!T56","v":89.547499999999985},{"$f":"'225 fpm'!U56","v":89.60499999999999}]
[50,{"$f":"'75 fpm'!N20","v":94.605000000000004},{"$f":"'75 fpm'!O20","v":95.265000000000001},{"$f":"'75 fpm'!P20","v":95.924999999999997},{"$f":"'150 fpm'!N20","v":91.08},{"$f":"'150 fpm'!O20","v":91.41},{"$f":"'150 fpm'!P20","v":91.740000000000009},{"$f":"'225 fpm'!N20","v":90.18},{"$f":"'225 fpm'!O20","v":90.16},{"$f":"'225 fpm'!P20","v":90.139999999999986},null,{"$f":"'75 fpm'!L55","v":0.16027940297481258},{"$f":"'75 fpm'!S55","v":94.605000000000004},{"$f":"'75 fpm'!T55","v":95.265000000000001},{"$f":"'75 fpm'!U55","v":95.924999999999997},null,{"$f":"'150 fpm'!L55","v":8.013970148740629E-2},{"$f":"'150 fpm'!S55","v":91.08},{"$f":"'150 fpm'!T55","v":91.41},{"$f":"'150 fpm'!U55","v":91.740000000000009},null,{"$f":"'225 fpm'!L57","v":5.342646765827086E-2},{"$f":"'225 fpm'!S57","v":90.18},{"$f":"'225 fpm'!T57","v":90.16},{"$f":"'225 fpm'!U57","v":90.139999999999986}]
[60,{"$f":"'75 fpm'!N21","v":93.990000000000009},{"$f":"'75 fpm'!O21","v":94.44},{"$f":"'75 fpm'!P21","v":94.89},{"$f":"'150 fpm'!N21","v":91.2},{"$f":"'150 fpm'!O21","v":91.402500000000003},{"$f":"'150 fpm'!P21","v":91.605000000000004},{"$f":"'225 fpm'!N21","v":89.914999999999992},{"$f":"'225 fpm'!O21","v":90.112499999999997},{"$f":"'225 fpm'!P21","v":90.31},null,{"$f":"'75 fpm'!L56","v":0.19233528356977508},{"$f":"'75 fpm'!S56","v":93.990000000000009},{"$f":"'75 fpm'!T56","v":94.44},{"$f":"'75 fpm'!U56","v":94.89},null,{"$f":"'150 fpm'!L56","v":9.6167641784887542E-2},{"$f":"'150 fpm'!S56","v":91.2},{"$f":"'150 fpm'!T56","v":91.402500000000003},{"$f":"'150 fpm'!U56","v":91.605000000000004},null,{"$f":"'225 fpm'!L58","v":6.4111761189925023E-2},{"$f":"'225 fpm'!S58","v":89.914999999999992},{"$f":"'225 fpm'!T58","v":90.112499999999997},{"$f":"'225 fpm'!U58","v":90.31}]
[70,{"$f":"'75 fpm'!N22","v":94.15},{"$f":"'75 fpm'!O22","v":94.835000000000008},{"$f":"'75 fpm'!P22","v":95.52},{"$f":"'150 fpm'!N22","v":90.935000000000002},{"$f":"'150 fpm'!O22","v":91.232500000000002},{"$f":"'150 fpm'!P22","v":91.53},{"$f":"'225 fpm'!N22","v":90.025000000000006},{"$f":"'225 fpm'!O22","v":90.362500000000011},{"$f":"'225 fpm'!P22","v":90.7},null,{"$f":"'75 fpm'!L57","v":0.22439116416473764},{"$f":"'75 fpm'!S57","v":94.15},{"$f":"'75 fpm'!T57","v":94.835000000000008},{"$f":"'75 fpm'!U57","v":95.52},null,{"$f":"'150 fpm'!L57","v":0.11219558208236882},{"$f":"'150 fpm'!S57","v":90.935000000000002},{"$f":"'150 fpm'!T57","v":91.232500000000002},{"$f":"'150 fpm'!U57","v":91.53},null,{"$f":"'225 fpm'!L59","v":7.4797054721579215E-2},{"$f":"'225 fpm'!S59","v":90.025000000000006},{"$f":"'225 fpm'!T59","v":90.362500000000011},{"$f":"'225 fpm'!U59","v":90.7}]
[80,{"$f":"'75 fpm'!N23","v":94.384999999999991},{"$f":"'75 fpm'!O23","v":94.56},{"$f":"'75 fpm'!P23","v":94.734999999999999},{"$f":"'150 fpm'!N23","v":91.3},{"$f":"'150 fpm'!O23","v":91.677500000000009},{"$f":"'150 fpm'!P23","v":92.055000000000007},{"$f":"'225 fpm'!N23","v":90.4},{"$f":"'225 fpm'!O23","v":90.492500000000007},{"$f":"'225 fpm'!P23","v":90.585000000000008},null,{"$f":"'75 fpm'!L58","v":0.25644704475970015},{"$f":"'75 fpm'!S58","v":94.384999999999991},{"$f":"'75 fpm'!T58","v":94.56},{"$f":"'75 fpm'!U58","v":94.734999999999999},null,{"$f":"'150 fpm'!L58","v":0.12822352237985007},{"$f":"'150 fpm'!S58","v":91.3},{"$f":"'150 fpm'!T58","v":91.677500000000009},{"$f":"'150 fpm'!U58","v":92.055000000000007},null,{"$f":"'225 fpm'!L60","v":8.5482348253233378E-2},{"$f":"'225 fpm'!S60","v":90.4},{"$f":"'225 fpm'!T60","v":90.492500000000007},{"$f":"'225 fpm'!U60","v":90.585000000000008}]
[90,{"$f":"'75 fpm'!N24","v":94.105000000000004},{"$f":"'75 fpm'!O24","v":94.56},{"$f":"'75 fpm'!P24","v":95.015000000000001},{"$f":"'150 fpm'!N24","v":91.56},{"$f":"'150 fpm'!O24","v":91.97},{"$f":"'150 fpm'!P24","v":92.38},{"$f":"'225 fpm'!N24","v":90.69},{"$f":"'225 fpm'!O24","v":90.962500000000006},{"$f":"'225 fpm'!P24","v":91.234999999999999},null,{"$f":"'75 fpm'!L59","v":0.28850292535466265},{"$f":"'75 fpm'!S59","v":94.105000000000004},{"$f":"'75 fpm'!T59","v":94.56},{"$f":"'75 fpm'!U59","v":95.015000000000001},null,{"$f":"'150 fpm'!L59","v":0.14425146267733133},{"$f":"'150 fpm'!S59","v":91.56},{"$f":"'150 fpm'!T59","v":91.97},{"$f":"'150 fpm'!U59","v":92.38},null,{"$f":"'225 fpm'!L61","v":9.6167641784887556E-2},{"$f":"'225 fpm'!S61","v":90.69},{"$f":"'225 fpm'!T61","v":90.962500000000006},{"$f":"'225 fpm'!U61","v":91.234999999999999}]
[null,null,null,null,null,null,null,null,null,null,null,null,null,null,null,null,null,null,null,null,null,{"$f":"'225 fpm'!L62","v":0.10685293531654172},{"$f":"'225 fpm'!S62","v":90.19},{"$f":"'225 fpm'!T62","v":90.405000000000001},{"$f":"'225 fpm'!U62","v":90.62}]
[null,null,null,null,null,null,null,null,null,null,null,null,null,null,null,null,null,null,null,null,null,{"$f":"'225 fpm'!L63","v":0.11753822884819591},{"$f":"'225 fpm'!S63","v":90.52},{"$f":"'225 fpm'!T63","v":90.544999999999987},{"$f":"'225 fpm'!U63","v":90.57}]
[null,null,null,null,null,null,null,null,null,null,null,null,null,null,null,null,null,null,null,null,null,{"$f":"'225 fpm'!L64","v":0.12822352237985005},{"$f":"'225 fpm'!S64","v":90.14},{"$f":"'225 fpm'!T64","v":90.435000000000002},{"$f":"'225 fpm'!U64","v":90.73}]

{"sheet":"75_JULY","index":7,"n_rows":60,"n_cols":20,"rows_kept":60,"cut":false,"hidden":false,"merged":[]}
[]
[]
[]
["Line speed","75 fpm",null,null,null,null,"Line speed","75 fpm",null,null,null,null,"Line speed","75 fpm"]
["Delta T","~ 25 F",null,null,null,null,"Delta T","~ 25 F",null,null,null,null,"Delta T","~ 25 F"]
["Line Tension","1 pli",null,null,null,null,"Line Tension","2 pli",null,null,null,null,"Line Tension","3 pli"]
["Air and roller tempertures determined from readings taken over a ~9 minute span",null,null,null,null,null,"Air and roller tempertures determined from readings taken over a ~9 minute span",null,null,null,null,null,"Air and roller tempertures determined from readings taken over a ~9 minute span"]
["Material tempertures determined from readings taken over a 2.5minute span",null,null,null,null,null,"Material tempertures determined from readings taken over a 2.5minute span",null,null,null,null,null,"Material tempertures determined from readings taken over a 2.5minute span"]
[]
["Material Temp",null,null,null,null,null,"Material Temp",null,null,null,null,null,"Material Temp"]
[null,"2.50\" Left","Centerline","2.50\" Right","Air Temp","Roller Temp",null,"2.50\" Left","Centerline","2.50\" Right","Air Temp","Roller Temp",null,"2.50\" Left","Centerline","2.50\" Right","Air Temp","Roller Temp"]
[0,79.459999999999994,79.290000000000006,78.599999999999994,73.331454550000004,94.946545450000002,0,78.569999999999993,77.010000000000005,76.900000000000006,71.382000000000005,95.696909090000005,0,80.11,79.87,78.8,73.299818180000003,95.295818179999998,null,"Roler Temps"]
[null,{"$f":"NA()","v":{"$error":"#N/A"}},{"$f":"NA()","v":{"$error":"#N/A"}},{"$f":"NA()","v":{"$error":"#N/A"}},{"$f":"NA()","v":{"$error":"#N/A"}},{"$f":"NA()","v":{"$error":"#N/A"}},null,{"$f":"NA()","v":{"$error":"#N/A"}},{"$f":"NA()","v":{"$error":"#N/A"}},{"$f":"NA()","v":{"$error":"#N/A"}},{"$f":"NA()","v":{"$error":"#N/A"}},{"$f":"NA()","v":{"$error":"#N/A"}},null,{"$f":"NA()","v":{"$error":"#N/A"}},{"$f":"NA()","v":{"$error":"#N/A"}},{"$f":"NA()","v":{"$error":"#N/A"}},{"$f":"NA()","v":{"$error":"#N/A"}},{"$f":"NA()","v":{"$error":"#N/A"}}]
[5,88.38,87.36,86.46,71.765636360000002,95.048181819999996,5,88.63,88.08,88.43,72.961454549999999,95.224363640000007,5,88.67,89.35,88.59,73.184727269999996,95.147272729999997]
[10,92.57,92.2,92.18,71.465090910000001,95.711818179999995,10,91.81,91,91.63,70.786181819999996,94.888727270000004,10,92.32,92.63,93.87,70.336363640000002,95.920909089999995]
[15,93.28,92.73,93.75,73.476727269999998,94.676727270000001,15,92.89,92.71,93.32,71.622727269999999,95.057818179999998,15,93.25,93.66,94.02,73.718363640000007,95.10327273]
[20,93.94,93.71,94.61,70.643454550000001,95.354909090000007,20,93.47,93.36,94.4,73.047454549999998,94.765272730000007,20,94.1,93.88,94.54,71.031818180000002,95.320545449999997]
[30,94.01,93.9,94.79,72.813272729999994,95.025636359999993,30,93.87,93.08,93.78,70.726727269999998,94.59381818,30,94.53,93.7,94.69,71.8,95.476545450000003]
[40,94.43,93.93,95.01,71.95909091,95.191636360000004,40,94.1,93.61,94.53,71.163818180000007,95.171090910000004,40,93.32,93.13,94.17,73.769818180000001,93.928181820000006]
[50,94.56,93.95,94.77,71.701272729999999,95.446909090000005,50,93.94,93.71,94.7,72.982181819999994,94.714545450000003,50,93.92,94.21,96.64,70.426909089999995,95.872727269999999]
[60,94.13,93.92,95.24,73.784363639999995,94.946181820000007,60,94.15,93.57,94.53,70.28672727,94.792363640000005,60,94.11,93.89,95.02,73.749636359999997,94.926727270000001]
[70,94.78,94.6,96.03,70.457636359999995,96.019454550000006,70,94.23,93.79,94.8,71.176909089999995,95.244363640000003,70,94.35,94.36,95.94,70.936181820000002,95.71763636]
[80,94.39,93.69,95.14,70.519818180000001,95.740363639999998,80,94.02,93.82,94.93,72.973818179999995,94.658909089999995,80,94.44,93.75,94.98,72.389636359999997,95.304545450000006]
[90,94.42,94.41,95.96,72.135818180000001,93.11945455,90,94.38,93.83,95.03,71.817090910000005,94.941272729999994,90,94.51,93.8,95.35,73.289272729999993,95.189090910000004]
[]
[]
[]
[]
[]
[]
[]
[]
[]
[]
[]
[]
[]
[]
[]
[]
[]
[]
[]
[]
[]
[]
[null,"1 PLI-2.5 Lt","1 PLI-Centerline","1 PLI-2.5 Rt","2 PLI-2.5 Lt","2 PLI-Centerline","2 PLI-2.5 Rt","3 PLI-2.5 Lt","3 PLI-Centerline","3 PLI-2.5 Rt"]
[{"$f":"A12","v":0},{"$f":"B12","v":79.459999999999994},79.290000000000006,78.599999999999994,{"$f":"H12","v":78.569999999999993},{"$f":"I12","v":77.010000000000005},76.900000000000006,{"$f":"N12","v":80.11},{"$f":"O12","v":79.87},78.8]
[null,{"$f":"NA()","v":{"$error":"#N/A"}},{"$f":"NA()","v":{"$error":"#N/A"}},{"$f":"NA()","v":{"$error":"#N/A"}},{"$f":"NA()","v":{"$error":"#N/A"}},{"$f":"NA()","v":{"$error":"#N/A"}},{"$f":"NA()","v":{"$error":"#N/A"}},{"$f":"NA()","v":{"$error":"#N/A"}},{"$f":"NA()","v":{"$error":"#N/A"}},{"$f":"NA()","v":{"$error":"#N/A"}}]
[{"$f":"A14","v":5},88.38,87.36,86.46,{"$f":"H14","v":88.63},{"$f":"I14","v":88.08},{"$f":"J14","v":88.43},{"$f":"N14","v":88.67},{"$f":"O14","v":89.35},{"$f":"P14","v":88.59}]
[10,92.57,92.2,92.18,91.81,91,91.63,92.32,92.63,93.87]
[15,93.28,92.73,93.75,92.89,92.71,93.32,93.25,93.66,94.02]
[20,93.94,93.71,94.61,93.47,93.36,94.4,94.1,93.88,94.54]
[30,94.01,93.9,94.79,93.87,93.08,93.78,94.53,93.7,94.69]
[40,94.43,93.93,95.01,94.1,93.61,94.53,93.32,93.13,94.17]
[50,94.56,93.95,94.77,93.94,93.71,94.7,93.92,94.21,96.64]
[60,94.13,93.92,95.24,94.15,93.57,94.53,94.11,93.89,95.02]
[70,94.78,94.6,96.03,94.23,93.79,94.8,94.35,94.36,95.94]
[80,94.39,93.69,95.14,94.02,93.82,94.93,94.44,93.75,94.98]
[{"$f":"A24","v":90},{"$f":"B24","v":94.42},94.41,95.96,94.38,93.83,95.03,94.51,93.8,95.35]

{"sheet":"75_Aug","index":8,"n_rows":59,"n_cols":18,"rows_kept":59,"cut":false,"hidden":false,"merged":[]}
[]
[]
[]
["Line speed","75 fpm",null,null,null,null,"Line speed","75 fpm",null,null,null,null,"Line speed","75 fpm"]
["Delta T","~ 25 F",null,null,null,null,"Delta T","~ 25 F",null,null,null,null,"Delta T","~ 25 F"]
["Line Tension","1 pli",null,null,null,null,"Line Tension","2 pli",null,null,null,null,"Line Tension","3 pli"]
["Air and roller tempertures determined from readings taken over a ~9 minute span",null,null,null,null,null,"Air and roller tempertures determined from readings taken over a ~9 minute span",null,null,null,null,null,"Air and roller tempertures determined from readings taken over a ~9 minute span"]
["Material tempertures determined from readings taken over a 2.5minute span",null,null,null,null,null,"Material tempertures determined from readings taken over a 2.5minute span",null,null,null,null,null,"Material tempertures determined from readings taken over a 2.5minute span"]
[]
["Material Temp",null,null,null,null,null,"Material Temp",null,null,null,null,null,"Material Temp"]
[null,"2.50\" Left","Centerline","2.50\" Right","Air Temp","Roller Temp",null,"2.50\" Left","Centerline","2.50\" Right","Air Temp","Roller Temp",null,"2.50\" Left","Centerline","2.50\" Right","Air Temp","Roller Temp"]
[0,79.900000000000006,78.709999999999994,77.72,71.998727272727351,94.269636363636252,0,78.72,81.39,81.3,72.974727272727222,94.414545454545433,0,77.44,77.72,77.010000000000005,69.499999999999986,95.55909090909087]
[2.5,82.71,82.57,81.94,71.37763636363654,95.723090909090772,2.5,82.24,81.77,80.87,72.404000000000039,94.584909090909065,2.5,83.16,80.680000000000007,80.95,72.491999999999948,94.875636363636403]
[5,86.26,86.1,86.03,73.077454545454529,94.440545454545457,5,86.42,86.5,86.06,72.268727272727233,94.592545454545288,5,86.67,85.23,85.37,73.503272727272673,94.637454545454446]
[10,90.86,90.66,90.99,72.316181818181889,94.416181818181713,10,91.11,90.68,91.13,73.537090909091006,94.256909090908863,10,91.73,90.88,90.93,70.144000000000034,94.934181818181926]
[15,92.44,91.94,92.63,69.477818181818179,94.73599999999999,15,92.58,92.7,92.72,71.085636363636553,95.748181818181891,15,93.03,91.97,93.09,71.037454545454523,95.257999999999996]
[20,93.46,92.67,93.62,72.003272727272673,94.652363636363702,20,92.62,92.3,93.31,73.416363636363641,94.325454545454505,20,92.95,92.36,93.3,73.042545454545433,94.62545454545446]
[30,93.45,93.17,94.4,73.505818181818213,94.383090909091038,30,93.74,92.71,94.24,71.735090909090914,94.434181818181742,30,93.72,93.14,94.29,72.353818181818255,94.818363636363429]
[40,93.48,93.49,94.29,70.212363636363733,94.764545454545313,40,93.75,92.83,94.41,69.521454545454574,94.795272727272845,40,93.66,92.82,94.9,69.638909090909095,95.268909090909034]
[50,93.82,93.57,94.55,72.683454545454595,94.439090909090893,50,93.5,93,94.24,72.085818181818283,94.482181818181985,50,95.29,94.34,95.21,72.275454545454323,96.262727272727147]
[60,93.92,93.28,95.12,71.250000000000014,94.646545454545517,60,94.11,93.47,94.2,70.047272727272798,95.10036363636388,60,93.87,93.27,94.76,73.609454545454611,94.781090909090864]
[70,94.08,93.51,94.75,70.87854545454546,95.183454545454595,70,93.67,93.06,94.66,72.656181818181722,94.426545454545519,70,93.95,93.79,95.1,70.119090909090957,95.408363636363759]
[80,93.74,93.28,94.93,72.890363636363702,94.461272727272828,80,93.99,93.31,94.72,72.315818181818173,94.547999999999988,80,94.33,93.93,94.49,70.672909090909044,95.535090909090854]
[90,94,93.38,95.48,72.890363636363702,94.461272727272828,90,94.41,93.23,95.38,69.600909090909184,95.245636363636208,90,93.7,93.36,94.68,72.740363636363782,94.701454545454467]
[]
[]
[]
[]
[]
[]
[]
[]
[]
[]
[]
[]
[]
[]
[]
[]
[]
[]
[]
[]
[]
[null,"1 PLI-2.5 Lt","1 PLI-Centerline","1 PLI-2.5 Rt","2 PLI-2.5 Lt","2 PLI-Centerline","2 PLI-2.5 Rt","3 PLI-2.5 Lt","3 PLI-Centerline","3 PLI-2.5 Rt"]
[0,{"$f":"B12","v":79.900000000000006},{"$f":"C12","v":78.709999999999994},77.72,{"$f":"H12","v":78.72},{"$f":"I12","v":81.39},{"$f":"J12","v":81.3},{"$f":"N12","v":77.44},{"$f":"O12","v":77.72},{"$f":"P12","v":77.010000000000005}]
[2.5,{"$f":"B13","v":82.71},82.57,81.94,{"$f":"H13","v":82.24},81.77,80.87,{"$f":"N13","v":83.16},80.680000000000007,80.95]
[5,{"$f":"B14","v":86.26},86.1,86.03,{"$f":"H14","v":86.42},{"$f":"I14","v":86.5},{"$f":"J14","v":86.06},{"$f":"N14","v":86.67},{"$f":"O14","v":85.23},{"$f":"P14","v":85.37}]
[10,90.86,90.66,90.99,91.11,90.68,91.13,91.73,90.88,90.93]
[15,92.44,91.94,92.63,92.58,92.7,92.72,93.03,91.97,93.09]
[20,93.46,92.67,93.62,92.62,92.3,93.31,92.95,92.36,93.3]
[30,93.45,93.17,94.4,93.74,92.71,94.24,93.72,93.14,94.29]
[40,93.48,93.49,94.29,93.75,92.83,94.41,93.66,92.82,94.9]
[50,93.82,93.57,94.55,93.5,93,94.24,95.29,94.34,95.21]
[60,93.92,93.28,95.12,94.11,93.47,94.2,93.87,93.27,94.76]
[70,94.08,93.51,94.75,93.67,93.06,94.66,93.95,93.79,95.1]
[80,93.74,93.28,94.93,93.99,93.31,94.72,94.33,93.93,94.49]
[90,94,93.38,95.48,94.41,93.23,95.38,93.7,93.36,94.68]

{"sheet":"150_JULY","index":9,"n_rows":60,"n_cols":18,"rows_kept":60,"cut":false,"hidden":false,"merged":[]}
[]
[]
[]
["Line speed","150 fpm",null,null,null,null,"Line speed","150 fpm",null,null,null,null,"Line speed","150 fpm"]
["Delta T","~ 25 F",null,null,null,null,"Delta T","~ 25 F",null,null,null,null,"Delta T","~ 25 F"]
["Line Tension","1 pli",null,null,null,null,"Line Tension","2 pli",null,null,null,null,"Line Tension","3 pli"]
["Air and roller tempertures determined from readings taken over a ~9 minute span",null,null,null,null,null,"Air and roller tempertures determined from readings taken over a ~9 minute span",null,null,null,null,null,"Air and roller tempertures determined from readings taken over a ~9 minute span"]
["Material tempertures determined from readings taken over a 2.5minute span",null,null,null,null,null,"Material tempertures determined from readings taken over a 2.5minute span",null,null,null,null,null,"Material tempertures determined from readings taken over a 2.5minute span"]
[]
["Material Temp",null,null,null,null,null,"Material Temp",null,null,null,null,null,"Material Temp"]
[null,"2.50\" Left","Centerline","2.50\" Right","Air Temp","Roller Temp",null,"2.50\" Left","Centerline","2.50\" Right","Air Temp","Roller Temp",null,"2.50\" Left","Centerline","2.50\" Right","Air Temp","Roller Temp"]
[0,76.23,75.27,74.849999999999994,70.419454549999998,94.307090909999999,0,75.91,75.930000000000007,76.08,72.114545449999994,92.302727270000005,0,78.03,76.83,75.73,71.974000000000004,92.264909090000003]
[null,{"$f":"NA()","v":{"$error":"#N/A"}},{"$f":"NA()","v":{"$error":"#N/A"}},{"$f":"NA()","v":{"$error":"#N/A"}},{"$f":"NA()","v":{"$error":"#N/A"}},{"$f":"NA()","v":{"$error":"#N/A"}},null,{"$f":"NA()","v":{"$error":"#N/A"}},{"$f":"NA()","v":{"$error":"#N/A"}},{"$f":"NA()","v":{"$error":"#N/A"}},{"$f":"NA()","v":{"$error":"#N/A"}},{"$f":"NA()","v":{"$error":"#N/A"}},null,{"$f":"NA()","v":{"$error":"#N/A"}},{"$f":"NA()","v":{"$error":"#N/A"}},{"$f":"NA()","v":{"$error":"#N/A"}},{"$f":"NA()","v":{"$error":"#N/A"}},{"$f":"NA()","v":{"$error":"#N/A"}}]
[5,81.93,80.77,80.739999999999995,73.412181820000001,92.968909089999997,5,82.91,82.28,82.11,73.629090910000002,92.179272729999994,5,81.66,81.569999999999993,81.290000000000006,72.133454549999996,92.405636360000003]
[10,85.89,83.54,84.26,70.998363639999994,93.884727269999999,10,87.08,85.61,86.29,71.241090909999997,92.18690909,10,86.73,86.23,86.68,73.66636364,92.235636360000001]
[15,87.84,86.36,87.41,72.638909089999999,92.946727269999997,15,88,87.17,88.4,70.596000000000004,92.358181819999999,15,88.92,88.12,88.71,71.443454549999998,93.195454549999994]
[20,89.64,88.66,89.51,73.088545449999998,93.183090910000004,20,89.58,88.67,90.01,72.759272730000006,92.057090909999999,20,89.57,88.86,89.97,73.401454549999997,92.299272729999998]
[30,91.08,88.89,90.3,71.579090910000005,93.512545450000005,30,90.68,89.83,91.4,73.352181819999998,92.614363639999993,30,91,89.88,91.62,71.452909090000006,92.733272729999996]
[40,90.7,89.77,91.38,73.060909089999996,92.951999999999998,40,90.99,89.77,90.97,70.456363640000006,92.539818179999997,40,91.5,89.84,91.46,71.52218182,92.919636359999998]
[50,91.24,90.13,92.08,72.071818179999994,93.46,50,90.59,89.72,91.03,73.019090910000003,91.842363640000002,50,90.97,89.99,91.8,73.765454550000001,92.246545449999999]
[60,92.07,90.71,91.24,70.365090910000006,93.951454549999994,60,90.6,89.32,91.49,70.764181820000005,92.23981818,60,91.12,90.29,91.81,71.057272729999994,92.585818180000004]
[70,91.16,90.11,91.98,73.466363639999997,92.376363639999994,70,90.8,89.55,91.54,72.906363639999995,92.069454550000003,70,91.18,90.46,91.67,71.792545450000006,92.733454550000005]
[80,91.7,90.48,92.57,70.300909090000005,92.844909090000002,80,91.04,90.1,92.03,73.34,92.077272730000004,80,91.24,90.23,92.11,73.683999999999997,92.397272729999997]
[90,91.8,89.81,91.57,72.019818180000001,93.507818180000001,90,91.23,90.26,92.1,73.520181820000005,92.215454550000004,90,91.42,90.59,92.79,70.195818180000003,93.415818180000002]
[]
[]
[]
[]
[]
[]
[]
[]
[]
[]
[]
[]
[]
[]
[]
[]
[]
[]
[]
[]
[]
[]
[null,"1 PLI-2.5 Lt","1 PLI-Centerline","1 PLI-2.5 Rt","2 PLI-2.5 Lt","2 PLI-Centerline","2 PLI-2.5 Rt","3 PLI-2.5 Lt","3 PLI-Centerline","3 PLI-2.5 Rt"]
[{"$f":"A12","v":0},{"$f":"B12","v":76.23},75.27,74.849999999999994,{"$f":"H12","v":75.91},{"$f":"I12","v":75.930000000000007},76.08,{"$f":"N12","v":78.03},{"$f":"O12","v":76.83},75.73]
[null,{"$f":"NA()","v":{"$error":"#N/A"}},{"$f":"NA()","v":{"$error":"#N/A"}},{"$f":"NA()","v":{"$error":"#N/A"}},{"$f":"NA()","v":{"$error":"#N/A"}},{"$f":"NA()","v":{"$error":"#N/A"}},{"$f":"NA()","v":{"$error":"#N/A"}},{"$f":"NA()","v":{"$error":"#N/A"}},{"$f":"NA()","v":{"$error":"#N/A"}},{"$f":"NA()","v":{"$error":"#N/A"}}]
[{"$f":"A14","v":5},81.93,80.77,80.739999999999995,{"$f":"H14","v":82.91},82.28,82.11,{"$f":"N14","v":81.66},81.569999999999993,81.290000000000006]
[{"$f":"A15","v":10},85.89,83.54,84.26,{"$f":"H15","v":87.08},{"$f":"I15","v":85.61},{"$f":"J15","v":86.29},{"$f":"N15","v":86.73},{"$f":"O15","v":86.23},{"$f":"P15","v":86.68}]
[{"$f":"A16","v":15},87.84,86.36,87.41,88,87.17,88.4,88.92,88.12,88.71]
[{"$f":"A17","v":20},89.64,88.66,89.51,89.58,88.67,90.01,89.57,88.86,89.97]
[{"$f":"A18","v":30},91.08,88.89,90.3,90.68,89.83,91.4,91,89.88,91.62]
[{"$f":"A19","v":40},90.7,89.77,91.38,90.99,89.77,90.97,91.5,89.84,91.46]
[{"$f":"A20","v":50},91.24,90.13,92.08,90.59,89.72,91.03,90.97,89.99,91.8]
[{"$f":"A21","v":60},92.07,90.71,91.24,90.6,89.32,91.49,91.12,90.29,91.81]
[{"$f":"A22","v":70},91.16,90.11,91.98,90.8,89.55,91.54,91.18,90.46,91.67]
[{"$f":"A23","v":80},91.7,90.48,92.57,91.04,90.1,92.03,91.24,90.23,92.11]
[{"$f":"A24","v":90},91.8,89.81,91.57,91.23,90.26,92.1,91.42,90.59,92.79]

{"sheet":"150_AUG","index":10,"n_rows":59,"n_cols":18,"rows_kept":59,"cut":false,"hidden":false,"merged":[]}
[]
[]
[]
["Line speed","150 fpm",null,null,null,null,"Line speed","150 fpm",null,null,null,null,"Line speed","150 fpm"]
["Delta T","~ 25 F",null,null,null,null,"Delta T","~ 25 F",null,null,null,null,"Delta T","~ 25 F"]
["Line Tension","1 pli",null,null,null,null,"Line Tension","2 pli",null,null,null,null,"Line Tension","3 pli"]
["Air and roller tempertures determined from readings taken over a ~9 minute span",null,null,null,null,null,"Air and roller tempertures determined from readings taken over a ~9 minute span",null,null,null,null,null,"Air and roller tempertures determined from readings taken over a ~9 minute span"]
["Material tempertures determined from readings taken over a 2.5minute span",null,null,null,null,null,"Material tempertures determined from readings taken over a 2.5minute span",null,null,null,null,null,"Material tempertures determined from readings taken over a 2.5minute span"]
[]
["Material Temp",null,null,null,null,null,"Material Temp",null,null,null,null,null,"Material Temp"]
[null,"2.50\" Left","Centerline","2.50\" Right","Air Temp","Roller Temp",null,"2.50\" Left","Centerline","2.50\" Right","Air Temp","Roller Temp",null,"2.50\" Left","Centerline","2.50\" Right","Air Temp","Roller Temp"]
[0,76.64,76.900000000000006,76.650000000000006,73.175090909090912,92.130727272727484,0,75.91,76.34,76.290000000000006,71.993636363636369,92.619818181818204,0,76.459999999999994,77.23,76.790000000000006,73.118363636363782,92.804181818181746]
[2.5,78.5,78.2,77.05,70.674727272727239,92.523454545454427,2.5,78.59,78.819999999999993,78.94,73.605090909090748,92.40509090909093,2.5,79.069999999999993,78.59,77.75,72.417090909090874,92.409090909091034]
[5,79.77,80.180000000000007,80.180000000000007,70.54345454545458,93.256545454545417,5,81.19,80.63,79.680000000000007,70.853090909090852,92.867636363636493,5,81.23,79.59,78.489999999999995,69.685090909090889,92.406909090909124]
[10,84.94,84.84,85.06,72.411999999999992,92.428545454545329,10,84.91,84.15,84.96,70.853818181818269,92.891272727272806,10,84.83,83.08,83.96,71.953272727272719,92.527999999999963]
[15,86.83,85.83,87.2,69.910727272727215,92.964181818181743,15,87.27,86.39,87.66,73.059999999999974,92.413272727272798,15,86.74,85.55,87.36,73.800363636363656,93.136545454545413]
[20,88.33,87.65,89.25,72.370545454545464,92.266000000000105,20,88.45,87.65,88.44,72.533999999999935,92.649999999999793,20,88.63,87,87.63,70.2172727272728,93.608545454545478]
[30,89.85,89.29,90.81,72.370545454545464,92.266000000000105,30,89.86,88.63,90.38,70.09290909090916,93.025454545454437,30,89.85,88.28,89.83,71.318363636363571,93.091090909090923]
[40,90.77,90.21,91.8,71.020545454545427,93.469636363636326,40,90.4,89.61,91.19,70.460909090909098,92.165818181818295,40,90.67,89.35,91.26,73.169454545454485,93.091454545454553]
[50,91.91,90.67,92.81,72.132181818181905,93.765090909090901,50,90.8,89.98,91.65,71.726000000000042,92.540000000000163,50,91.19,89.72,91.68,71.776181818181868,93.388181818181863]
[60,91.54,90.39,91.57,70.994363636363587,93.215454545454691,60,90.76,90.04,91.96,73.302545454545424,92.223636363636317,60,91.28,89.46,91.4,69.715272727272676,93.654363636363612]
[70,91.23,90.79,92.48,73.82472727272733,93.146545454545432,70,91.36,90.02,92.53,71.617636363636322,92.469818181818212,70,90.69,89.76,91.39,72.377272727272654,93.290727272727253]
[80,92.49,91.14,92.61,71.131636363636332,93.965454545454492,80,91.42,90.19,92.21,71.987818181818227,92.633272727272839,80,91.36,90.19,92,73.574727272727216,93.45072727272732]
[90,91.74,90.31,91.67,70.217454545454501,93.427818181818168,90,91.16,90.3,92.35,73.5950909090908,92.272000000000261,90,91.7,90.02,91.97,69.789818181818262,93.770000000000152]
[]
[]
[]
[]
[]
[]
[]
[]
[]
[]
[]
[]
[]
[]
[]
[]
[]
[]
[]
[]
[]
[null,"1 PLI-2.5 Lt","1 PLI-Centerline","1 PLI-2.5 Rt","2 PLI-2.5 Lt","2 PLI-Centerline","2 PLI-2.5 Rt","3 PLI-2.5 Lt","3 PLI-Centerline","3 PLI-2.5 Rt"]
[0,{"$f":"B12","v":76.64},{"$f":"C12","v":76.900000000000006},76.650000000000006,{"$f":"H12","v":75.91},{"$f":"I12","v":76.34},{"$f":"J12","v":76.290000000000006},{"$f":"N12","v":76.459999999999994},{"$f":"O12","v":77.23},{"$f":"P12","v":76.790000000000006}]
[2.5,{"$f":"B13","v":78.5},78.2,77.05,{"$f":"H13","v":78.59},78.819999999999993,78.94,{"$f":"N13","v":79.069999999999993},78.59,77.75]
[5,{"$f":"B14","v":79.77},80.180000000000007,80.180000000000007,81.19,80.63,79.680000000000007,81.23,79.59,78.489999999999995]
[10,84.94,84.84,85.06,84.91,84.15,84.96,84.83,83.08,83.96]
[15,86.83,85.83,87.2,87.27,86.39,87.66,86.74,85.55,87.36]
[20,88.33,87.65,89.25,88.45,87.65,88.44,88.63,87,87.63]
[30,89.85,89.29,90.81,89.86,88.63,90.38,89.85,88.28,89.83]
[40,90.77,90.21,91.8,90.4,89.61,91.19,90.67,89.35,91.26]
[50,91.91,90.67,92.81,90.8,89.98,91.65,91.19,89.72,91.68]
[60,91.54,90.39,91.57,90.76,90.04,91.96,91.28,89.46,91.4]
[70,91.23,90.79,92.48,91.36,90.02,92.53,90.69,89.76,91.39]
[80,92.49,91.14,92.61,91.42,90.19,92.21,91.36,90.19,92]
[90,91.74,90.31,91.67,91.16,90.3,92.35,91.7,90.02,91.97]

{"sheet":"225_JULY","index":11,"n_rows":64,"n_cols":18,"rows_kept":64,"cut":false,"hidden":false,"merged":[]}
[]
[]
[]
["Line speed","225 fpm",null,null,null,null,"Line speed","225 fpm",null,null,null,null,"Line speed","225 fpm"]
["Delta T","~ 25 F",null,null,null,null,"Delta T","~ 25 F",null,null,null,null,"Delta T","~ 25 F"]
["Line Tension","1 pli",null,null,null,null,"Line Tension","2 pli",null,null,null,null,"Line Tension","3 pli"]
["Air and roller tempertures determined from readings taken over a ~9 minute span",null,null,null,null,null,"Air and roller tempertures determined from readings taken over a ~9 minute span",null,null,null,null,null,"Air and roller tempertures determined from readings taken over a ~9 minute span"]
["Material tempertures determined from readings taken over a 2.5minute span",null,null,null,null,null,"Material tempertures determined from readings taken over a 2.5minute span",null,null,null,null,null,"Material tempertures determined from readings taken over a 2.5minute span"]
[]
["Material Temp",null,null,null,null,null,"Material Temp",null,null,null,null,null,"Material Temp"]
[null,"2.50\" Left","Centerline","2.50\" Right","Air Temp","Roller Temp",null,"2.50\" Left","Centerline","2.50\" Right","Air Temp","Roller Temp",null,"2.50\" Left","Centerline","2.50\" Right","Air Temp","Roller Temp"]
[0,77.03,75.41,74.95,71.06745454545451,94.545818181818078,0,75.62,74.8,74.650000000000006,70.07472727272723,93.225090909091023,0,77.03,75.66,75.28,70.969454545454553,92.981454545454611]
[null,{"$f":"NA()","v":{"$error":"#N/A"}},{"$f":"NA()","v":{"$error":"#N/A"}},{"$f":"NA()","v":{"$error":"#N/A"}},{"$f":"NA()","v":{"$error":"#N/A"}},{"$f":"NA()","v":{"$error":"#N/A"}},null,{"$f":"NA()","v":{"$error":"#N/A"}},{"$f":"NA()","v":{"$error":"#N/A"}},{"$f":"NA()","v":{"$error":"#N/A"}},{"$f":"NA()","v":{"$error":"#N/A"}},{"$f":"NA()","v":{"$error":"#N/A"}},null,{"$f":"NA()","v":{"$error":"#N/A"}},{"$f":"NA()","v":{"$error":"#N/A"}},{"$f":"NA()","v":{"$error":"#N/A"}},{"$f":"NA()","v":{"$error":"#N/A"}},{"$f":"NA()","v":{"$error":"#N/A"}}]
[5,78.55,77.2,77.819999999999993,71.604909090909146,93.253636363636389,5,79.41,79.48,79.16,73.347090909090909,92.291272727272585,5,78.12,77.849999999999994,78.05,72.289636363636433,92.744909090909161]
[10,83.43,82.53,83.05,70.491272727272786,91.640909090909147,10,83.93,82.39,82.25,72.165090909090992,92.67072727272722,10,83.19,82.68,83.25,73.900727272727295,92.668727272727352]
[15,86.35,83.94,84.35,70.491272727272786,91.640909090909147,15,85.46,83.36,84.68,70.364181818181791,93.019636363636323,15,86.07,84.4,85.17,71.479272727272601,92.890909090909076]
[20,86.77,84.99,85.99,72.177636363636381,91.090181818181804,20,86.85,85.35,86.65,72.678545454545386,92.441272727272747,20,86.96,85.53,86.97,71.262727272727233,93.195636363636467]
[30,87.61,87.56,89.38,73.807090909091002,91.260181818181806,30,88.78,87.45,89.19,73.946363636363628,92.606545454545454,30,89.23,87.57,89.47,73.707090909090951,92.617272727272834]
[40,89.24,88.48,89.96,71.198000000000079,91.602727272727336,40,88.57,87.37,89.52,72.712545454545435,92.335454545454652,40,89.99,88.19,89.85,71.795636363636447,92.83618181818197]
[50,89.61,88.32,90.37,71.774909090909091,91.484727272727483,50,90.21,88.39,90.33,73.405636363636347,92.529818181818243,50,90.55,88.36,90.21,71.592727272727217,93.300545454545528]
[60,90.32,89.25,90.91,73.454909090909055,91.792181818181774,60,90.05,87.98,90.68,70.673636363636362,92.849090909090961,60,89.64,88.31,90.43,74.228000000000094,92.3958181818182]
[70,90.82,89.54,91.77,72.528000000000063,91.667272727272774,70,90.02,88.38,90.62,72.879454545454379,92.495454545454479,70,90,88.43,90.89,70.567818181818183,93.1994545454545]
[80,90.78,88.38,90.28,71.183818181818381,92.104545454545431,80,90.24,88.93,90.69,73.317454545454552,92.514545454545555,80,90.41,88.58,90.55,72.484727272727255,92.940909090909187]
[90,89.48,88.61,90.53,73.346727272727151,90.885818181818152,90,90.39,88.01,90.73,70.944909090909093,92.769818181818209,90,90.43,88.98,91.32,73.920909090909007,92.835999999999956]
[100,90.22,88.8,90.83,{"$f":"NA()","v":{"$error":"#N/A"}},{"$f":"NA()","v":{"$error":"#N/A"}}]
[110,89.92,87.7,89.7,{"$f":"NA()","v":{"$error":"#N/A"}},{"$f":"NA()","v":{"$error":"#N/A"}}]
[]
[]
[]
[]
[]
[]
[]
[]
[]
[]
[]
[]
[]
[]
[]
[]
[]
[]
[]
[]
[]
[]
[null,"1 PLI-2.5 Lt","1 PLI-Centerline","1 PLI-2.5 Rt","2 PLI-2.5 Lt","2 PLI-Centerline","2 PLI-2.5 Rt","3 PLI-2.5 Lt","3 PLI-Centerline","3 PLI-2.5 Rt"]
[{"$f":"A12","v":0},{"$f":"B12","v":77.03},75.41,74.95,{"$f":"H12","v":75.62},{"$f":"I12","v":74.8},74.650000000000006,{"$f":"N12","v":77.03},{"$f":"O12","v":75.66},75.28]
[null,{"$f":"B13","v":{"$error":"#N/A"}},{"$error":"#N/A"},{"$error":"#N/A"},{"$f":"H13","v":{"$error":"#N/A"}},{"$f":"I13","v":{"$error":"#N/A"}},{"$f":"J13","v":{"$error":"#N/A"}},{"$f":"N13","v":{"$error":"#N/A"}},{"$f":"O13","v":{"$error":"#N/A"}},{"$f":"P13","v":{"$error":"#N/A"}}]
[{"$f":"A14","v":5},78.55,77.2,77.819999999999993,79.41,79.48,79.16,78.12,77.849999999999994,78.05]
[{"$f":"A15","v":10},83.43,82.53,83.05,83.93,82.39,82.25,83.19,82.68,83.25]
[{"$f":"A16","v":15},86.35,83.94,84.35,85.46,83.36,84.68,86.07,84.4,85.17]
[{"$f":"A17","v":20},86.77,84.99,85.99,86.85,85.35,86.65,86.96,85.53,86.97]
[{"$f":"A18","v":30},87.61,87.56,89.38,88.78,87.45,89.19,89.23,87.57,89.47]
[{"$f":"A19","v":40},89.24,88.48,89.96,88.57,87.37,89.52,89.99,88.19,89.85]
[{"$f":"A20","v":50},89.61,88.32,90.37,90.21,88.39,90.33,90.55,88.36,90.21]
[{"$f":"A21","v":60},90.32,89.25,90.91,90.05,87.98,90.68,89.64,88.31,90.43]
[{"$f":"A22","v":70},90.82,89.54,91.77,90.02,88.38,90.62,90,88.43,90.89]
[{"$f":"A23","v":80},90.78,88.38,90.28,90.24,88.93,90.69,90.41,88.58,90.55]
[{"$f":"A24","v":90},89.48,88.61,90.53,90.39,88.01,90.73,90.43,88.98,91.32]
[{"$f":"A25","v":100},90.22,88.8,90.83]
[{"$f":"A26","v":110},89.92,87.7,89.7]

{"sheet":"225_AUG","index":12,"n_rows":64,"n_cols":18,"rows_kept":64,"cut":false,"hidden":false,"merged":[]}
[]
[]
[]
["Line speed","225 fpm",null,null,null,null,"Line speed","225 fpm",null,null,null,null,"Line speed","225 fpm"]
["Delta T","~ 25 F",null,null,null,null,"Delta T","~ 25 F",null,null,null,null,"Delta T","~ 25 F"]
["Line Tension","1 pli",null,null,null,null,"Line Tension","2 pli",null,null,null,null,"Line Tension","3 pli"]
["Air and roller tempertures determined from readings taken over a ~9 minute span",null,null,null,null,null,"Air and roller tempertures determined from readings taken over a ~9 minute span",null,null,null,null,null,"Air and roller tempertures determined from readings taken over a ~9 minute span"]
["Material tempertures determined from readings taken over a 2.5minute span",null,null,null,null,null,"Material tempertures determined from readings taken over a 2.5minute span",null,null,null,null,null,"Material tempertures determined from readings taken over a 2.5minute span"]
[]
["Material Temp",null,null,null,null,null,"Material Temp",null,null,null,null,null,"Material Temp"]
[null,"2.50\" Left","Centerline","2.50\" Right","Air Temp","Roller Temp",null,"2.50\" Left","Centerline","2.50\" Right","Air Temp","Roller Temp",null,"2.50\" Left","Centerline","2.50\" Right","Air Temp","Roller Temp"]
[0,76.06,76.14,76.510000000000005,73.699818181818159,92.374363636363668,0,76.03,75.87,75.44,71.168000000000049,92.794909090909144,0,75.44,75.91,76.02,71.545454545454547,93.310545454545434]
[2.5,76.11,75.73,76.209999999999994,72.760545454545365,91.976181818181843,2.5,77.78,76.84,77.06,72.465272727272705,92.72381818181826,2.5,77.88,77.349999999999994,77.95,73.804545454545419,92.644727272727394]
[5,78.900000000000006,78.680000000000007,78.14,73.886363636363782,92.392727272727214,5,79.400000000000006,79.239999999999995,79.25,74.132727272727166,93.020909090908958,5,80.08,78.84,78.41,72.343454545454435,92.729999999999961]
[10,80.88,79.84,80,70.570727272727254,92.667818181818291,10,82.22,80.84,80.88,70.939999999999941,93.343454545454506,10,82.25,80.86,80.959999999999994,71.208000000000141,93.4078181818182]
[15,82.08,81.16,82.82,71.888181818181749,92.541454545454599,15,82.32,81.87,83.03,70.486181818181834,93.56563636363623,15,83.94,82.6,83.72,73.402181818181802,92.775272727272707]
[20,83.65,83.05,84.44,73.627272727272697,91.99799999999999,20,84.74,83.65,85.04,72.888181818181806,92.709090909090889,20,86.31,84.62,85.23,73.226363636363715,93.040545454545452]
[30,86.74,85.25,86.59,71.662727272727324,92.312727272727287,30,87.78,86.34,87.32,72.898181818181868,92.798363636363746,30,88.73,86.07,87.48,70.386363636363498,93.85509090909099]
[40,87.17,86.16,88.45,71.828363636363775,93.510727272727351,40,88.35,86.34,87.92,69.866181818181843,92.704545454545524,40,88.99,87.38,89.36,72.836000000000055,92.913090909090897]
[50,88.65,87.43,89.83,73.820181818181837,93.02545454545448,50,89.05,87.43,89.35,72.091636363636326,92.979090909090885,50,89.81,88.28,90.07,73.875454545454502,92.830909090909103]
[60,88.77,87.27,89.68,73.094181818181809,92.232363636363516,60,89.66,88.26,90.08,73.717454545454586,92.944181818181804,60,90.19,87.95,90.19,70.641454545454579,93.537818181818238]
[70,89.44,88.13,90.1,72.938545454545448,92.676909090909035,70,89.47,87.96,90,70.21945454545444,93.084545454545434,70,90.05,88.22,90.51,73.52090909090893,92.792363636363504]
[80,89.84,87.84,90.47,70.046181818181878,93.441999999999965,80,90.14,88.02,89.97,72.293454545454551,93.000909090909133,80,90.39,88.55,90.62,72.87981818181818,92.698000000000036]
[90,89.39,88.08,89.88,72.548727272727291,92.710363636363624,90,90.05,88.91,90.43,73.677272727272666,92.959636363636349,90,90.95,88.28,91.15,71.377272727272782,93.622727272727289]
[100,89.92,88.78,90.55,73.911818181818148,92.770363636363541,100,90.36,88.83,90.81,71.329636363636283,93.293636363636381,100,90.19,88.44,90.62,73.700727272727335,92.702363636363643]
[110,90.32,88.7,90.37,69.972545454545298,93.542909090909106,110,89.59,88.2,89.98,70.78672727272729,92.726363636363686,110,90.52,88.75,90.57,73.023454545454527,92.726363636363445]
[120,89.92,88.56,90.02,71.889090909090783,92.966545454545525,120,90.03,88.89,90.59,73.285454545454485,92.856909090909085,120,90.14,88.5,90.73,70.767999999999958,93.210727272727311]
[]
[]
[]
[]
[]
[]
[]
[]
[]
[]
[]
[]
[]
[]
[]
[]
[]
[]
[]
[]
[null,"1 PLI-2.5 Lt","1 PLI-Centerline","1 PLI-2.5 Rt","2 PLI-2.5 Lt","2 PLI-Centerline","2 PLI-2.5 Rt","3 PLI-2.5 Lt","3 PLI-Centerline","3 PLI-2.5 Rt"]
[0,{"$f":"B12","v":76.06},{"$f":"C12","v":76.14},{"$f":"D12","v":76.510000000000005},{"$f":"H12","v":76.03},{"$f":"I12","v":75.87},{"$f":"J12","v":75.44},{"$f":"N12","v":75.44},{"$f":"O12","v":75.91},{"$f":"P12","v":76.02}]
[2.5,{"$f":"B13","v":76.11},75.73,76.209999999999994,{"$f":"H13","v":77.78},76.84,77.06,{"$f":"N13","v":77.88},77.349999999999994,77.95]
[5,{"$f":"B14","v":78.900000000000006},78.680000000000007,78.14,{"$f":"H14","v":79.400000000000006},79.239999999999995,79.25,{"$f":"N14","v":80.08},78.84,78.41]
[10,{"$f":"B15","v":80.88},79.84,80,{"$f":"H15","v":82.22},80.84,80.88,{"$f":"N15","v":82.25},80.86,80.959999999999994]
[15,{"$f":"B16","v":82.08},81.16,82.82,{"$f":"H16","v":82.32},81.87,83.03,{"$f":"N16","v":83.94},82.6,83.72]
[20,{"$f":"B17","v":83.65},83.05,84.44,{"$f":"H17","v":84.74},83.65,85.04,{"$f":"N17","v":86.31},84.62,85.23]
[30,{"$f":"B18","v":86.74},85.25,86.59,{"$f":"H18","v":87.78},86.34,87.32,{"$f":"N18","v":88.73},86.07,87.48]
[40,{"$f":"B19","v":87.17},86.16,88.45,{"$f":"H19","v":88.35},86.34,87.92,{"$f":"N19","v":88.99},87.38,89.36]
[50,{"$f":"B20","v":88.65},87.43,89.83,{"$f":"H20","v":89.05},87.43,89.35,{"$f":"N20","v":89.81},88.28,90.07]
[60,{"$f":"B21","v":88.77},87.27,89.68,{"$f":"H21","v":89.66},88.26,90.08,{"$f":"N21","v":90.19},87.95,90.19]
[70,{"$f":"B22","v":89.44},88.13,90.1,{"$f":"H22","v":89.47},87.96,90,{"$f":"N22","v":90.05},88.22,90.51]
[80,{"$f":"B23","v":89.84},87.84,90.47,{"$f":"H23","v":90.14},88.02,89.97,{"$f":"N23","v":90.39},88.55,90.62]
[90,{"$f":"B24","v":89.39},88.08,89.88,{"$f":"H24","v":90.05},88.91,90.43,{"$f":"N24","v":90.95},88.28,91.15]
[100,{"$f":"B25","v":89.92},88.78,90.55,{"$f":"H25","v":90.36},88.83,90.81,{"$f":"N25","v":90.19},88.44,90.62]
[110,{"$f":"B26","v":90.32},88.7,90.37,{"$f":"H26","v":89.59},88.2,89.98,{"$f":"N26","v":90.52},88.75,90.57]
[120,{"$f":"B27","v":89.92},88.56,90.02,{"$f":"H27","v":90.03},88.89,90.59,{"$f":"N27","v":90.14},88.5,90.73]